BEGIN:VCALENDAR
VERSION:2.0
PRODID:-//WMEB 91.9 FM - ECPv6.15.17.1//NONSGML v1.0//EN
CALSCALE:GREGORIAN
METHOD:PUBLISH
X-WR-CALNAME:WMEB 91.9 FM
X-ORIGINAL-URL:https://umaine.edu/wmeb
X-WR-CALDESC:Events for WMEB 91.9 FM
REFRESH-INTERVAL;VALUE=DURATION:PT1H
X-Robots-Tag:noindex
X-PUBLISHED-TTL:PT1H
BEGIN:VTIMEZONE
TZID:America/New_York
BEGIN:DAYLIGHT
TZOFFSETFROM:-0500
TZOFFSETTO:-0400
TZNAME:EDT
DTSTART:20250309T070000
END:DAYLIGHT
BEGIN:STANDARD
TZOFFSETFROM:-0400
TZOFFSETTO:-0500
TZNAME:EST
DTSTART:20251102T060000
END:STANDARD
BEGIN:DAYLIGHT
TZOFFSETFROM:-0500
TZOFFSETTO:-0400
TZNAME:EDT
DTSTART:20260308T070000
END:DAYLIGHT
BEGIN:STANDARD
TZOFFSETFROM:-0400
TZOFFSETTO:-0500
TZNAME:EST
DTSTART:20261101T060000
END:STANDARD
BEGIN:DAYLIGHT
TZOFFSETFROM:-0500
TZOFFSETTO:-0400
TZNAME:EDT
DTSTART:20270314T070000
END:DAYLIGHT
BEGIN:STANDARD
TZOFFSETFROM:-0400
TZOFFSETTO:-0500
TZNAME:EST
DTSTART:20271107T060000
END:STANDARD
END:VTIMEZONE
BEGIN:VEVENT
DTSTART;TZID=America/New_York:20260425T080000
DTEND;TZID=America/New_York:20260425T100000
DTSTAMP:20260421T152009
CREATED:20260322T011242Z
LAST-MODIFIED:20260406T223408Z
UID:10003755-1777104000-1777111200@umaine.edu
SUMMARY:The Beat Garden w/ Violet
DESCRIPTION:The Beat Garden Spinitron
URL:https://umaine.edu/wmeb/event/the-beat-garden-w-violet/2026-04-25/
CATEGORIES:DJ Schedule
END:VEVENT
BEGIN:VEVENT
DTSTART;TZID=America/New_York:20260502T080000
DTEND;TZID=America/New_York:20260502T100000
DTSTAMP:20260421T152009
CREATED:20260322T011242Z
LAST-MODIFIED:20260406T223408Z
UID:10003756-1777708800-1777716000@umaine.edu
SUMMARY:The Beat Garden w/ Violet
DESCRIPTION:The Beat Garden Spinitron
URL:https://umaine.edu/wmeb/event/the-beat-garden-w-violet/2026-05-02/
CATEGORIES:DJ Schedule
END:VEVENT
BEGIN:VEVENT
DTSTART;TZID=America/New_York:20260509T080000
DTEND;TZID=America/New_York:20260509T100000
DTSTAMP:20260421T152009
CREATED:20260322T011242Z
LAST-MODIFIED:20260406T223408Z
UID:10003757-1778313600-1778320800@umaine.edu
SUMMARY:The Beat Garden w/ Violet
DESCRIPTION:The Beat Garden Spinitron
URL:https://umaine.edu/wmeb/event/the-beat-garden-w-violet/2026-05-09/
CATEGORIES:DJ Schedule
END:VEVENT
END:VCALENDAR