BEGIN:VCALENDAR
VERSION:2.0
PRODID:-//WMEB 91.9 FM - ECPv6.15.17.1//NONSGML v1.0//EN
CALSCALE:GREGORIAN
METHOD:PUBLISH
X-WR-CALNAME:WMEB 91.9 FM
X-ORIGINAL-URL:https://umaine.edu/wmeb
X-WR-CALDESC:Events for WMEB 91.9 FM
REFRESH-INTERVAL;VALUE=DURATION:PT1H
X-Robots-Tag:noindex
X-PUBLISHED-TTL:PT1H
BEGIN:VTIMEZONE
TZID:America/New_York
BEGIN:DAYLIGHT
TZOFFSETFROM:-0500
TZOFFSETTO:-0400
TZNAME:EDT
DTSTART:20250309T070000
END:DAYLIGHT
BEGIN:STANDARD
TZOFFSETFROM:-0400
TZOFFSETTO:-0500
TZNAME:EST
DTSTART:20251102T060000
END:STANDARD
BEGIN:DAYLIGHT
TZOFFSETFROM:-0500
TZOFFSETTO:-0400
TZNAME:EDT
DTSTART:20260308T070000
END:DAYLIGHT
BEGIN:STANDARD
TZOFFSETFROM:-0400
TZOFFSETTO:-0500
TZNAME:EST
DTSTART:20261101T060000
END:STANDARD
BEGIN:DAYLIGHT
TZOFFSETFROM:-0500
TZOFFSETTO:-0400
TZNAME:EDT
DTSTART:20270314T070000
END:DAYLIGHT
BEGIN:STANDARD
TZOFFSETFROM:-0400
TZOFFSETTO:-0500
TZNAME:EST
DTSTART:20271107T060000
END:STANDARD
END:VTIMEZONE
BEGIN:VEVENT
DTSTART;TZID=America/New_York:20260424T130000
DTEND;TZID=America/New_York:20260424T140000
DTSTAMP:20260421T160335
CREATED:20260322T010037Z
LAST-MODIFIED:20260322T011607Z
UID:10003671-1777035600-1777039200@umaine.edu
SUMMARY:Slim Margins w/ Stetson Slim
DESCRIPTION:Are you looking for an exploration of the in-betweens\, the intersections and the fine lines in culture\, music and politics? Just looking for some interesting discourse to tune into over lunch? Tune in to Slim Margins on Fridays at 1PM on WMEB\, for the mixed-music and talk show that explores the boundaries between genres and boundaries between art and politics. Tune in on Fridays at 1PM\, only on WMEB 91.9FM\, Orono Maine! \nSlim Margins Spinitron
URL:https://umaine.edu/wmeb/event/slim-margins-w-stetson-slim/2026-04-24/
CATEGORIES:DJ Schedule
END:VEVENT
BEGIN:VEVENT
DTSTART;TZID=America/New_York:20260501T130000
DTEND;TZID=America/New_York:20260501T140000
DTSTAMP:20260421T160335
CREATED:20260322T010037Z
LAST-MODIFIED:20260322T011607Z
UID:10003672-1777640400-1777644000@umaine.edu
SUMMARY:Slim Margins w/ Stetson Slim
DESCRIPTION:Are you looking for an exploration of the in-betweens\, the intersections and the fine lines in culture\, music and politics? Just looking for some interesting discourse to tune into over lunch? Tune in to Slim Margins on Fridays at 1PM on WMEB\, for the mixed-music and talk show that explores the boundaries between genres and boundaries between art and politics. Tune in on Fridays at 1PM\, only on WMEB 91.9FM\, Orono Maine! \nSlim Margins Spinitron
URL:https://umaine.edu/wmeb/event/slim-margins-w-stetson-slim/2026-05-01/
CATEGORIES:DJ Schedule
END:VEVENT
BEGIN:VEVENT
DTSTART;TZID=America/New_York:20260508T130000
DTEND;TZID=America/New_York:20260508T140000
DTSTAMP:20260421T160335
CREATED:20260322T010037Z
LAST-MODIFIED:20260322T011607Z
UID:10003673-1778245200-1778248800@umaine.edu
SUMMARY:Slim Margins w/ Stetson Slim
DESCRIPTION:Are you looking for an exploration of the in-betweens\, the intersections and the fine lines in culture\, music and politics? Just looking for some interesting discourse to tune into over lunch? Tune in to Slim Margins on Fridays at 1PM on WMEB\, for the mixed-music and talk show that explores the boundaries between genres and boundaries between art and politics. Tune in on Fridays at 1PM\, only on WMEB 91.9FM\, Orono Maine! \nSlim Margins Spinitron
URL:https://umaine.edu/wmeb/event/slim-margins-w-stetson-slim/2026-05-08/
CATEGORIES:DJ Schedule
END:VEVENT
END:VCALENDAR