BEGIN:VCALENDAR
VERSION:2.0
PRODID:-//WMEB 91.9 FM - ECPv6.15.17.1//NONSGML v1.0//EN
CALSCALE:GREGORIAN
METHOD:PUBLISH
X-WR-CALNAME:WMEB 91.9 FM
X-ORIGINAL-URL:https://umaine.edu/wmeb
X-WR-CALDESC:Events for WMEB 91.9 FM
REFRESH-INTERVAL;VALUE=DURATION:PT1H
X-Robots-Tag:noindex
X-PUBLISHED-TTL:PT1H
BEGIN:VTIMEZONE
TZID:America/New_York
BEGIN:DAYLIGHT
TZOFFSETFROM:-0500
TZOFFSETTO:-0400
TZNAME:EDT
DTSTART:20250309T070000
END:DAYLIGHT
BEGIN:STANDARD
TZOFFSETFROM:-0400
TZOFFSETTO:-0500
TZNAME:EST
DTSTART:20251102T060000
END:STANDARD
BEGIN:DAYLIGHT
TZOFFSETFROM:-0500
TZOFFSETTO:-0400
TZNAME:EDT
DTSTART:20260308T070000
END:DAYLIGHT
BEGIN:STANDARD
TZOFFSETFROM:-0400
TZOFFSETTO:-0500
TZNAME:EST
DTSTART:20261101T060000
END:STANDARD
BEGIN:DAYLIGHT
TZOFFSETFROM:-0500
TZOFFSETTO:-0400
TZNAME:EDT
DTSTART:20270314T070000
END:DAYLIGHT
BEGIN:STANDARD
TZOFFSETFROM:-0400
TZOFFSETTO:-0500
TZNAME:EST
DTSTART:20271107T060000
END:STANDARD
END:VTIMEZONE
BEGIN:VEVENT
DTSTART;TZID=America/New_York:20260427T143000
DTEND;TZID=America/New_York:20260427T160000
DTSTAMP:20260421T151107
CREATED:20260320T214315Z
LAST-MODIFIED:20260322T011608Z
UID:10003110-1777300200-1777305600@umaine.edu
SUMMARY:On the Cusp w/ Ella & Andrea
DESCRIPTION:On the Cusp Spinitron
URL:https://umaine.edu/wmeb/event/on-the-cusp-w-ella-andrea/2026-04-27/
CATEGORIES:DJ Schedule
END:VEVENT
BEGIN:VEVENT
DTSTART;TZID=America/New_York:20260504T143000
DTEND;TZID=America/New_York:20260504T160000
DTSTAMP:20260421T151107
CREATED:20260320T214315Z
LAST-MODIFIED:20260322T011608Z
UID:10003111-1777905000-1777910400@umaine.edu
SUMMARY:On the Cusp w/ Ella & Andrea
DESCRIPTION:On the Cusp Spinitron
URL:https://umaine.edu/wmeb/event/on-the-cusp-w-ella-andrea/2026-05-04/
CATEGORIES:DJ Schedule
END:VEVENT
END:VCALENDAR