BEGIN:VCALENDAR
VERSION:2.0
PRODID:-//WMEB 91.9 FM - ECPv6.15.17.1//NONSGML v1.0//EN
CALSCALE:GREGORIAN
METHOD:PUBLISH
X-WR-CALNAME:WMEB 91.9 FM
X-ORIGINAL-URL:https://umaine.edu/wmeb
X-WR-CALDESC:Events for WMEB 91.9 FM
REFRESH-INTERVAL;VALUE=DURATION:PT1H
X-Robots-Tag:noindex
X-PUBLISHED-TTL:PT1H
BEGIN:VTIMEZONE
TZID:America/New_York
BEGIN:DAYLIGHT
TZOFFSETFROM:-0500
TZOFFSETTO:-0400
TZNAME:EDT
DTSTART:20250309T070000
END:DAYLIGHT
BEGIN:STANDARD
TZOFFSETFROM:-0400
TZOFFSETTO:-0500
TZNAME:EST
DTSTART:20251102T060000
END:STANDARD
BEGIN:DAYLIGHT
TZOFFSETFROM:-0500
TZOFFSETTO:-0400
TZNAME:EDT
DTSTART:20260308T070000
END:DAYLIGHT
BEGIN:STANDARD
TZOFFSETFROM:-0400
TZOFFSETTO:-0500
TZNAME:EST
DTSTART:20261101T060000
END:STANDARD
BEGIN:DAYLIGHT
TZOFFSETFROM:-0500
TZOFFSETTO:-0400
TZNAME:EDT
DTSTART:20270314T070000
END:DAYLIGHT
BEGIN:STANDARD
TZOFFSETFROM:-0400
TZOFFSETTO:-0500
TZNAME:EST
DTSTART:20271107T060000
END:STANDARD
END:VTIMEZONE
BEGIN:VEVENT
DTSTART;TZID=America/New_York:20260426T190000
DTEND;TZID=America/New_York:20260426T210000
DTSTAMP:20260421T151107
CREATED:20260320T204247Z
LAST-MODIFIED:20260320T204247Z
UID:10002802-1777230000-1777237200@umaine.edu
SUMMARY:Toe Tapping in the Tidepools w/ Leo
DESCRIPTION:In our efficiency-obsessed world\, it’s easy to feel overwhelmed\, out of sorts and uncentered. Join DJ Leo from 7 to 9 PM on Sundays and take some time to wind down\, reflect and enjoy some beautiful and mellow tunes. Take a dip in a whimsical ecosystem of psychedelic country\, dreamy rock\, lazy folk\, soupy jazz\, misty hip hop and everything in between on WMEB 91.9 FM. \nToe Tapping in the Tidepools Spinitron
URL:https://umaine.edu/wmeb/event/toe-tapping-in-the-tidepools-w-leo/2026-04-26/
END:VEVENT
BEGIN:VEVENT
DTSTART;TZID=America/New_York:20260503T190000
DTEND;TZID=America/New_York:20260503T210000
DTSTAMP:20260421T151107
CREATED:20260320T204247Z
LAST-MODIFIED:20260320T204247Z
UID:10002803-1777834800-1777842000@umaine.edu
SUMMARY:Toe Tapping in the Tidepools w/ Leo
DESCRIPTION:In our efficiency-obsessed world\, it’s easy to feel overwhelmed\, out of sorts and uncentered. Join DJ Leo from 7 to 9 PM on Sundays and take some time to wind down\, reflect and enjoy some beautiful and mellow tunes. Take a dip in a whimsical ecosystem of psychedelic country\, dreamy rock\, lazy folk\, soupy jazz\, misty hip hop and everything in between on WMEB 91.9 FM. \nToe Tapping in the Tidepools Spinitron
URL:https://umaine.edu/wmeb/event/toe-tapping-in-the-tidepools-w-leo/2026-05-03/
END:VEVENT
END:VCALENDAR