BEGIN:VCALENDAR
VERSION:2.0
PRODID:-//WMEB 91.9 FM - ECPv6.15.17.1//NONSGML v1.0//EN
CALSCALE:GREGORIAN
METHOD:PUBLISH
X-WR-CALNAME:WMEB 91.9 FM
X-ORIGINAL-URL:https://umaine.edu/wmeb
X-WR-CALDESC:Events for WMEB 91.9 FM
REFRESH-INTERVAL;VALUE=DURATION:PT1H
X-Robots-Tag:noindex
X-PUBLISHED-TTL:PT1H
BEGIN:VTIMEZONE
TZID:America/New_York
BEGIN:DAYLIGHT
TZOFFSETFROM:-0500
TZOFFSETTO:-0400
TZNAME:EDT
DTSTART:20250309T070000
END:DAYLIGHT
BEGIN:STANDARD
TZOFFSETFROM:-0400
TZOFFSETTO:-0500
TZNAME:EST
DTSTART:20251102T060000
END:STANDARD
BEGIN:DAYLIGHT
TZOFFSETFROM:-0500
TZOFFSETTO:-0400
TZNAME:EDT
DTSTART:20260308T070000
END:DAYLIGHT
BEGIN:STANDARD
TZOFFSETFROM:-0400
TZOFFSETTO:-0500
TZNAME:EST
DTSTART:20261101T060000
END:STANDARD
BEGIN:DAYLIGHT
TZOFFSETFROM:-0500
TZOFFSETTO:-0400
TZNAME:EDT
DTSTART:20270314T070000
END:DAYLIGHT
BEGIN:STANDARD
TZOFFSETFROM:-0400
TZOFFSETTO:-0500
TZNAME:EST
DTSTART:20271107T060000
END:STANDARD
END:VTIMEZONE
BEGIN:VEVENT
DTSTART;TZID=America/New_York:20260424T110000
DTEND;TZID=America/New_York:20260424T130000
DTSTAMP:20260421T170730
CREATED:20251129T210952Z
LAST-MODIFIED:20260322T005331Z
UID:10003664-1777028400-1777035600@umaine.edu
SUMMARY:Heart Beats w/ Gaby
DESCRIPTION:Are you analytical? Observant? Is music therapeutic for you? If you answered yes to any of these questions\, then Heart Beats is the show for you! Join Gabrielle in the discussion of psychological phenomena and listen to tracks that often convey feelings buried within ourselves. Follow your nerve ways! Listen to Heart Beats on WMEB 91.9 FM on Fridays from 11 AM to 1 PM. \nHeart Beats Spinitron
URL:https://umaine.edu/wmeb/event/heart-beats-w-gaby/2026-04-24/
CATEGORIES:DJ Schedule
END:VEVENT
BEGIN:VEVENT
DTSTART;TZID=America/New_York:20260501T110000
DTEND;TZID=America/New_York:20260501T130000
DTSTAMP:20260421T170730
CREATED:20251129T210952Z
LAST-MODIFIED:20260322T005331Z
UID:10003665-1777633200-1777640400@umaine.edu
SUMMARY:Heart Beats w/ Gaby
DESCRIPTION:Are you analytical? Observant? Is music therapeutic for you? If you answered yes to any of these questions\, then Heart Beats is the show for you! Join Gabrielle in the discussion of psychological phenomena and listen to tracks that often convey feelings buried within ourselves. Follow your nerve ways! Listen to Heart Beats on WMEB 91.9 FM on Fridays from 11 AM to 1 PM. \nHeart Beats Spinitron
URL:https://umaine.edu/wmeb/event/heart-beats-w-gaby/2026-05-01/
CATEGORIES:DJ Schedule
END:VEVENT
BEGIN:VEVENT
DTSTART;TZID=America/New_York:20260508T110000
DTEND;TZID=America/New_York:20260508T130000
DTSTAMP:20260421T170730
CREATED:20251129T210952Z
LAST-MODIFIED:20260322T005331Z
UID:10003666-1778238000-1778245200@umaine.edu
SUMMARY:Heart Beats w/ Gaby
DESCRIPTION:Are you analytical? Observant? Is music therapeutic for you? If you answered yes to any of these questions\, then Heart Beats is the show for you! Join Gabrielle in the discussion of psychological phenomena and listen to tracks that often convey feelings buried within ourselves. Follow your nerve ways! Listen to Heart Beats on WMEB 91.9 FM on Fridays from 11 AM to 1 PM. \nHeart Beats Spinitron
URL:https://umaine.edu/wmeb/event/heart-beats-w-gaby/2026-05-08/
CATEGORIES:DJ Schedule
END:VEVENT
END:VCALENDAR