BEGIN:VCALENDAR
VERSION:2.0
PRODID:-//WMEB 91.9 FM - ECPv6.15.17.1//NONSGML v1.0//EN
CALSCALE:GREGORIAN
METHOD:PUBLISH
X-WR-CALNAME:WMEB 91.9 FM
X-ORIGINAL-URL:https://umaine.edu/wmeb
X-WR-CALDESC:Events for WMEB 91.9 FM
REFRESH-INTERVAL;VALUE=DURATION:PT1H
X-Robots-Tag:noindex
X-PUBLISHED-TTL:PT1H
BEGIN:VTIMEZONE
TZID:America/New_York
BEGIN:DAYLIGHT
TZOFFSETFROM:-0500
TZOFFSETTO:-0400
TZNAME:EDT
DTSTART:20250309T070000
END:DAYLIGHT
BEGIN:STANDARD
TZOFFSETFROM:-0400
TZOFFSETTO:-0500
TZNAME:EST
DTSTART:20251102T060000
END:STANDARD
BEGIN:DAYLIGHT
TZOFFSETFROM:-0500
TZOFFSETTO:-0400
TZNAME:EDT
DTSTART:20260308T070000
END:DAYLIGHT
BEGIN:STANDARD
TZOFFSETFROM:-0400
TZOFFSETTO:-0500
TZNAME:EST
DTSTART:20261101T060000
END:STANDARD
BEGIN:DAYLIGHT
TZOFFSETFROM:-0500
TZOFFSETTO:-0400
TZNAME:EDT
DTSTART:20270314T070000
END:DAYLIGHT
BEGIN:STANDARD
TZOFFSETFROM:-0400
TZOFFSETTO:-0500
TZNAME:EST
DTSTART:20271107T060000
END:STANDARD
END:VTIMEZONE
BEGIN:VEVENT
DTSTART;TZID=America/New_York:20260422T110000
DTEND;TZID=America/New_York:20260422T113000
DTSTAMP:20260421T151107
CREATED:20260320T223609Z
LAST-MODIFIED:20260322T011608Z
UID:10003262-1776855600-1776857400@umaine.edu
SUMMARY:Fermentation Friday w/ Jessy & Ellie
DESCRIPTION:What is your favorite fermented food? Ellie says sourdough\, Jessy says cheese. Want to learn more? Join Ellie Markovitch and Jessy Brainerd Wednesdays 11 to 11:30 AM on WMEB 91.9 FM to explore the world of fermentation.  Conversations will revolve around the local community\, opportunities for skill sharing\, and the use of local food and food rescue. \nFermentation Friday Spinitron
URL:https://umaine.edu/wmeb/event/fermentation-friday-w-jessy-ellie-2-3/2026-04-22/
CATEGORIES:DJ Schedule
END:VEVENT
BEGIN:VEVENT
DTSTART;TZID=America/New_York:20260429T110000
DTEND;TZID=America/New_York:20260429T113000
DTSTAMP:20260421T151107
CREATED:20260320T223609Z
LAST-MODIFIED:20260322T011608Z
UID:10003263-1777460400-1777462200@umaine.edu
SUMMARY:Fermentation Friday w/ Jessy & Ellie
DESCRIPTION:What is your favorite fermented food? Ellie says sourdough\, Jessy says cheese. Want to learn more? Join Ellie Markovitch and Jessy Brainerd Wednesdays 11 to 11:30 AM on WMEB 91.9 FM to explore the world of fermentation.  Conversations will revolve around the local community\, opportunities for skill sharing\, and the use of local food and food rescue. \nFermentation Friday Spinitron
URL:https://umaine.edu/wmeb/event/fermentation-friday-w-jessy-ellie-2-3/2026-04-29/
CATEGORIES:DJ Schedule
END:VEVENT
BEGIN:VEVENT
DTSTART;TZID=America/New_York:20260506T110000
DTEND;TZID=America/New_York:20260506T113000
DTSTAMP:20260421T151107
CREATED:20260320T223609Z
LAST-MODIFIED:20260322T011608Z
UID:10003264-1778065200-1778067000@umaine.edu
SUMMARY:Fermentation Friday w/ Jessy & Ellie
DESCRIPTION:What is your favorite fermented food? Ellie says sourdough\, Jessy says cheese. Want to learn more? Join Ellie Markovitch and Jessy Brainerd Wednesdays 11 to 11:30 AM on WMEB 91.9 FM to explore the world of fermentation.  Conversations will revolve around the local community\, opportunities for skill sharing\, and the use of local food and food rescue. \nFermentation Friday Spinitron
URL:https://umaine.edu/wmeb/event/fermentation-friday-w-jessy-ellie-2-3/2026-05-06/
CATEGORIES:DJ Schedule
END:VEVENT
END:VCALENDAR