BEGIN:VCALENDAR
VERSION:2.0
PRODID:-//WMEB 91.9 FM - ECPv6.15.17.1//NONSGML v1.0//EN
CALSCALE:GREGORIAN
METHOD:PUBLISH
X-WR-CALNAME:WMEB 91.9 FM
X-ORIGINAL-URL:https://umaine.edu/wmeb
X-WR-CALDESC:Events for WMEB 91.9 FM
REFRESH-INTERVAL;VALUE=DURATION:PT1H
X-Robots-Tag:noindex
X-PUBLISHED-TTL:PT1H
BEGIN:VTIMEZONE
TZID:America/New_York
BEGIN:DAYLIGHT
TZOFFSETFROM:-0500
TZOFFSETTO:-0400
TZNAME:EDT
DTSTART:20250309T070000
END:DAYLIGHT
BEGIN:STANDARD
TZOFFSETFROM:-0400
TZOFFSETTO:-0500
TZNAME:EST
DTSTART:20251102T060000
END:STANDARD
BEGIN:DAYLIGHT
TZOFFSETFROM:-0500
TZOFFSETTO:-0400
TZNAME:EDT
DTSTART:20260308T070000
END:DAYLIGHT
BEGIN:STANDARD
TZOFFSETFROM:-0400
TZOFFSETTO:-0500
TZNAME:EST
DTSTART:20261101T060000
END:STANDARD
BEGIN:DAYLIGHT
TZOFFSETFROM:-0500
TZOFFSETTO:-0400
TZNAME:EDT
DTSTART:20270314T070000
END:DAYLIGHT
BEGIN:STANDARD
TZOFFSETFROM:-0400
TZOFFSETTO:-0500
TZNAME:EST
DTSTART:20271107T060000
END:STANDARD
END:VTIMEZONE
BEGIN:VEVENT
DTSTART;TZID=America/New_York:20260423T210000
DTEND;TZID=America/New_York:20260423T220000
DTSTAMP:20260421T161252
CREATED:20251129T205758Z
LAST-MODIFIED:20260321T200403Z
UID:10003594-1776978000-1776981600@umaine.edu
SUMMARY:B-Sides w/ Aiden
DESCRIPTION:Stimulate your ears and mind by tuning in to “B-sides”\, hosted by Aiden. Hand-picking the best Hip-Hop sounds inspired by funk\, soul and jazz every week. You’re bound to find new and old favorites\, only on WMEB 91.9 FM\, Thursday’s 9 to 10 PM. \nB-Sides Spinitron
URL:https://umaine.edu/wmeb/event/b-sides-w-aiden/2026-04-23/
CATEGORIES:DJ Schedule
END:VEVENT
BEGIN:VEVENT
DTSTART;TZID=America/New_York:20260430T210000
DTEND;TZID=America/New_York:20260430T220000
DTSTAMP:20260421T161252
CREATED:20251129T205758Z
LAST-MODIFIED:20260321T200403Z
UID:10003595-1777582800-1777586400@umaine.edu
SUMMARY:B-Sides w/ Aiden
DESCRIPTION:Stimulate your ears and mind by tuning in to “B-sides”\, hosted by Aiden. Hand-picking the best Hip-Hop sounds inspired by funk\, soul and jazz every week. You’re bound to find new and old favorites\, only on WMEB 91.9 FM\, Thursday’s 9 to 10 PM. \nB-Sides Spinitron
URL:https://umaine.edu/wmeb/event/b-sides-w-aiden/2026-04-30/
CATEGORIES:DJ Schedule
END:VEVENT
BEGIN:VEVENT
DTSTART;TZID=America/New_York:20260507T210000
DTEND;TZID=America/New_York:20260507T220000
DTSTAMP:20260421T161252
CREATED:20251129T205758Z
LAST-MODIFIED:20260321T200403Z
UID:10003596-1778187600-1778191200@umaine.edu
SUMMARY:B-Sides w/ Aiden
DESCRIPTION:Stimulate your ears and mind by tuning in to “B-sides”\, hosted by Aiden. Hand-picking the best Hip-Hop sounds inspired by funk\, soul and jazz every week. You’re bound to find new and old favorites\, only on WMEB 91.9 FM\, Thursday’s 9 to 10 PM. \nB-Sides Spinitron
URL:https://umaine.edu/wmeb/event/b-sides-w-aiden/2026-05-07/
CATEGORIES:DJ Schedule
END:VEVENT
END:VCALENDAR