BEGIN:VCALENDAR
VERSION:2.0
PRODID:-//WMEB 91.9 FM - ECPv6.15.17.1//NONSGML v1.0//EN
CALSCALE:GREGORIAN
METHOD:PUBLISH
X-WR-CALNAME:WMEB 91.9 FM
X-ORIGINAL-URL:https://umaine.edu/wmeb
X-WR-CALDESC:Events for WMEB 91.9 FM
REFRESH-INTERVAL;VALUE=DURATION:PT1H
X-Robots-Tag:noindex
X-PUBLISHED-TTL:PT1H
BEGIN:VTIMEZONE
TZID:America/New_York
BEGIN:DAYLIGHT
TZOFFSETFROM:-0500
TZOFFSETTO:-0400
TZNAME:EDT
DTSTART:20250309T070000
END:DAYLIGHT
BEGIN:STANDARD
TZOFFSETFROM:-0400
TZOFFSETTO:-0500
TZNAME:EST
DTSTART:20251102T060000
END:STANDARD
BEGIN:DAYLIGHT
TZOFFSETFROM:-0500
TZOFFSETTO:-0400
TZNAME:EDT
DTSTART:20260308T070000
END:DAYLIGHT
BEGIN:STANDARD
TZOFFSETFROM:-0400
TZOFFSETTO:-0500
TZNAME:EST
DTSTART:20261101T060000
END:STANDARD
BEGIN:DAYLIGHT
TZOFFSETFROM:-0500
TZOFFSETTO:-0400
TZNAME:EDT
DTSTART:20270314T070000
END:DAYLIGHT
BEGIN:STANDARD
TZOFFSETFROM:-0400
TZOFFSETTO:-0500
TZNAME:EST
DTSTART:20271107T060000
END:STANDARD
END:VTIMEZONE
BEGIN:VEVENT
DTSTART;TZID=America/New_York:20260422T200000
DTEND;TZID=America/New_York:20260422T220000
DTSTAMP:20260421T130236
CREATED:20251128T223242Z
LAST-MODIFIED:20260321T192859Z
UID:10003382-1776888000-1776895200@umaine.edu
SUMMARY:Look Out Below w/ Aaron
DESCRIPTION:Get ready for a sonic leap on “Look Out Below!” with Aaron. Tune in Wednesdays from 8 to 10 PM on WMEB 91.9 FM. Aaron curates an eclectic mix of bands and genres that will leave you craving more! Cheesy disco to hairy metal; 808s to didgeridoos; Wednesdays 8 to 10 PM. \nLook Out Below Spinitron
URL:https://umaine.edu/wmeb/event/look-out-below-w-aaron/2026-04-22/
CATEGORIES:DJ Schedule
END:VEVENT
BEGIN:VEVENT
DTSTART;TZID=America/New_York:20260429T200000
DTEND;TZID=America/New_York:20260429T220000
DTSTAMP:20260421T130236
CREATED:20251128T223242Z
LAST-MODIFIED:20260321T192859Z
UID:10003383-1777492800-1777500000@umaine.edu
SUMMARY:Look Out Below w/ Aaron
DESCRIPTION:Get ready for a sonic leap on “Look Out Below!” with Aaron. Tune in Wednesdays from 8 to 10 PM on WMEB 91.9 FM. Aaron curates an eclectic mix of bands and genres that will leave you craving more! Cheesy disco to hairy metal; 808s to didgeridoos; Wednesdays 8 to 10 PM. \nLook Out Below Spinitron
URL:https://umaine.edu/wmeb/event/look-out-below-w-aaron/2026-04-29/
CATEGORIES:DJ Schedule
END:VEVENT
BEGIN:VEVENT
DTSTART;TZID=America/New_York:20260506T200000
DTEND;TZID=America/New_York:20260506T220000
DTSTAMP:20260421T130236
CREATED:20251128T223242Z
LAST-MODIFIED:20260321T192859Z
UID:10003384-1778097600-1778104800@umaine.edu
SUMMARY:Look Out Below w/ Aaron
DESCRIPTION:Get ready for a sonic leap on “Look Out Below!” with Aaron. Tune in Wednesdays from 8 to 10 PM on WMEB 91.9 FM. Aaron curates an eclectic mix of bands and genres that will leave you craving more! Cheesy disco to hairy metal; 808s to didgeridoos; Wednesdays 8 to 10 PM. \nLook Out Below Spinitron
URL:https://umaine.edu/wmeb/event/look-out-below-w-aaron/2026-05-06/
CATEGORIES:DJ Schedule
END:VEVENT
END:VCALENDAR