BEGIN:VCALENDAR
VERSION:2.0
PRODID:-//WMEB 91.9 FM - ECPv6.15.17.1//NONSGML v1.0//EN
CALSCALE:GREGORIAN
METHOD:PUBLISH
X-WR-CALNAME:WMEB 91.9 FM
X-ORIGINAL-URL:https://umaine.edu/wmeb
X-WR-CALDESC:Events for WMEB 91.9 FM
REFRESH-INTERVAL;VALUE=DURATION:PT1H
X-Robots-Tag:noindex
X-PUBLISHED-TTL:PT1H
BEGIN:VTIMEZONE
TZID:America/New_York
BEGIN:DAYLIGHT
TZOFFSETFROM:-0500
TZOFFSETTO:-0400
TZNAME:EDT
DTSTART:20250309T070000
END:DAYLIGHT
BEGIN:STANDARD
TZOFFSETFROM:-0400
TZOFFSETTO:-0500
TZNAME:EST
DTSTART:20251102T060000
END:STANDARD
BEGIN:DAYLIGHT
TZOFFSETFROM:-0500
TZOFFSETTO:-0400
TZNAME:EDT
DTSTART:20260308T070000
END:DAYLIGHT
BEGIN:STANDARD
TZOFFSETFROM:-0400
TZOFFSETTO:-0500
TZNAME:EST
DTSTART:20261101T060000
END:STANDARD
BEGIN:DAYLIGHT
TZOFFSETFROM:-0500
TZOFFSETTO:-0400
TZNAME:EDT
DTSTART:20270314T070000
END:DAYLIGHT
BEGIN:STANDARD
TZOFFSETFROM:-0400
TZOFFSETTO:-0500
TZNAME:EST
DTSTART:20271107T060000
END:STANDARD
END:VTIMEZONE
BEGIN:VEVENT
DTSTART;TZID=America/New_York:20260422T180000
DTEND;TZID=America/New_York:20260422T190000
DTSTAMP:20260421T165818
CREATED:20251128T223048Z
LAST-MODIFIED:20260321T192011Z
UID:10003342-1776880800-1776884400@umaine.edu
SUMMARY:Downeast Cadence w/ Liz
DESCRIPTION:By a Mainer\, for everyone. Downeast Cadence explores the plethora of music Maine-based artists have to offer. From folk-rock to modern R&B\, to even a little electro-funky-soul\, there’s a little something for everyone in the Pine Tree State! Sprinkling in a bit about Maine’s history\, culture\, and overall musical energy from time to time\, hopefully\, you’ll also learn a thing or two about our University’s home state. From 6 to 7 PM on Wednesdays\, tune into Downeast Cadence with Liz only on WMEB 91.9 FM\, Orono\, Maine. \nDowneast Cadence Spinitron
URL:https://umaine.edu/wmeb/event/downeast-cadence-w-liz/2026-04-22/
CATEGORIES:DJ Schedule
END:VEVENT
BEGIN:VEVENT
DTSTART;TZID=America/New_York:20260429T180000
DTEND;TZID=America/New_York:20260429T190000
DTSTAMP:20260421T165818
CREATED:20251128T223048Z
LAST-MODIFIED:20260321T192011Z
UID:10003343-1777485600-1777489200@umaine.edu
SUMMARY:Downeast Cadence w/ Liz
DESCRIPTION:By a Mainer\, for everyone. Downeast Cadence explores the plethora of music Maine-based artists have to offer. From folk-rock to modern R&B\, to even a little electro-funky-soul\, there’s a little something for everyone in the Pine Tree State! Sprinkling in a bit about Maine’s history\, culture\, and overall musical energy from time to time\, hopefully\, you’ll also learn a thing or two about our University’s home state. From 6 to 7 PM on Wednesdays\, tune into Downeast Cadence with Liz only on WMEB 91.9 FM\, Orono\, Maine. \nDowneast Cadence Spinitron
URL:https://umaine.edu/wmeb/event/downeast-cadence-w-liz/2026-04-29/
CATEGORIES:DJ Schedule
END:VEVENT
BEGIN:VEVENT
DTSTART;TZID=America/New_York:20260506T180000
DTEND;TZID=America/New_York:20260506T190000
DTSTAMP:20260421T165818
CREATED:20251128T223048Z
LAST-MODIFIED:20260321T192011Z
UID:10003344-1778090400-1778094000@umaine.edu
SUMMARY:Downeast Cadence w/ Liz
DESCRIPTION:By a Mainer\, for everyone. Downeast Cadence explores the plethora of music Maine-based artists have to offer. From folk-rock to modern R&B\, to even a little electro-funky-soul\, there’s a little something for everyone in the Pine Tree State! Sprinkling in a bit about Maine’s history\, culture\, and overall musical energy from time to time\, hopefully\, you’ll also learn a thing or two about our University’s home state. From 6 to 7 PM on Wednesdays\, tune into Downeast Cadence with Liz only on WMEB 91.9 FM\, Orono\, Maine. \nDowneast Cadence Spinitron
URL:https://umaine.edu/wmeb/event/downeast-cadence-w-liz/2026-05-06/
CATEGORIES:DJ Schedule
END:VEVENT
END:VCALENDAR