BEGIN:VCALENDAR
VERSION:2.0
PRODID:-//WMEB 91.9 FM - ECPv6.15.17.1//NONSGML v1.0//EN
CALSCALE:GREGORIAN
METHOD:PUBLISH
X-WR-CALNAME:WMEB 91.9 FM
X-ORIGINAL-URL:https://umaine.edu/wmeb
X-WR-CALDESC:Events for WMEB 91.9 FM
REFRESH-INTERVAL;VALUE=DURATION:PT1H
X-Robots-Tag:noindex
X-PUBLISHED-TTL:PT1H
BEGIN:VTIMEZONE
TZID:America/New_York
BEGIN:DAYLIGHT
TZOFFSETFROM:-0500
TZOFFSETTO:-0400
TZNAME:EDT
DTSTART:20250309T070000
END:DAYLIGHT
BEGIN:STANDARD
TZOFFSETFROM:-0400
TZOFFSETTO:-0500
TZNAME:EST
DTSTART:20251102T060000
END:STANDARD
BEGIN:DAYLIGHT
TZOFFSETFROM:-0500
TZOFFSETTO:-0400
TZNAME:EDT
DTSTART:20260308T070000
END:DAYLIGHT
BEGIN:STANDARD
TZOFFSETFROM:-0400
TZOFFSETTO:-0500
TZNAME:EST
DTSTART:20261101T060000
END:STANDARD
BEGIN:DAYLIGHT
TZOFFSETFROM:-0500
TZOFFSETTO:-0400
TZNAME:EDT
DTSTART:20270314T070000
END:DAYLIGHT
BEGIN:STANDARD
TZOFFSETFROM:-0400
TZOFFSETTO:-0500
TZNAME:EST
DTSTART:20271107T060000
END:STANDARD
END:VTIMEZONE
BEGIN:VEVENT
DTSTART;TZID=America/New_York:20260422T120000
DTEND;TZID=America/New_York:20260422T130000
DTSTAMP:20260421T150957
CREATED:20251128T222602Z
LAST-MODIFIED:20260320T223857Z
UID:10003282-1776859200-1776862800@umaine.edu
SUMMARY:Golden Age w/ Ryan
DESCRIPTION:Golden Age Spinitron
URL:https://umaine.edu/wmeb/event/golden-age-w-ryan/2026-04-22/
CATEGORIES:DJ Schedule
END:VEVENT
BEGIN:VEVENT
DTSTART;TZID=America/New_York:20260429T120000
DTEND;TZID=America/New_York:20260429T130000
DTSTAMP:20260421T150957
CREATED:20251128T222602Z
LAST-MODIFIED:20260320T223857Z
UID:10003283-1777464000-1777467600@umaine.edu
SUMMARY:Golden Age w/ Ryan
DESCRIPTION:Golden Age Spinitron
URL:https://umaine.edu/wmeb/event/golden-age-w-ryan/2026-04-29/
CATEGORIES:DJ Schedule
END:VEVENT
BEGIN:VEVENT
DTSTART;TZID=America/New_York:20260506T120000
DTEND;TZID=America/New_York:20260506T130000
DTSTAMP:20260421T150957
CREATED:20251128T222602Z
LAST-MODIFIED:20260320T223857Z
UID:10003284-1778068800-1778072400@umaine.edu
SUMMARY:Golden Age w/ Ryan
DESCRIPTION:Golden Age Spinitron
URL:https://umaine.edu/wmeb/event/golden-age-w-ryan/2026-05-06/
CATEGORIES:DJ Schedule
END:VEVENT
END:VCALENDAR