BEGIN:VCALENDAR
VERSION:2.0
PRODID:-//WMEB 91.9 FM - ECPv6.15.17.1//NONSGML v1.0//EN
CALSCALE:GREGORIAN
METHOD:PUBLISH
X-WR-CALNAME:WMEB 91.9 FM
X-ORIGINAL-URL:https://umaine.edu/wmeb
X-WR-CALDESC:Events for WMEB 91.9 FM
REFRESH-INTERVAL;VALUE=DURATION:PT1H
X-Robots-Tag:noindex
X-PUBLISHED-TTL:PT1H
BEGIN:VTIMEZONE
TZID:America/New_York
BEGIN:DAYLIGHT
TZOFFSETFROM:-0500
TZOFFSETTO:-0400
TZNAME:EDT
DTSTART:20250309T070000
END:DAYLIGHT
BEGIN:STANDARD
TZOFFSETFROM:-0400
TZOFFSETTO:-0500
TZNAME:EST
DTSTART:20251102T060000
END:STANDARD
BEGIN:DAYLIGHT
TZOFFSETFROM:-0500
TZOFFSETTO:-0400
TZNAME:EDT
DTSTART:20260308T070000
END:DAYLIGHT
BEGIN:STANDARD
TZOFFSETFROM:-0400
TZOFFSETTO:-0500
TZNAME:EST
DTSTART:20261101T060000
END:STANDARD
BEGIN:DAYLIGHT
TZOFFSETFROM:-0500
TZOFFSETTO:-0400
TZNAME:EDT
DTSTART:20270314T070000
END:DAYLIGHT
BEGIN:STANDARD
TZOFFSETFROM:-0400
TZOFFSETTO:-0500
TZNAME:EST
DTSTART:20271107T060000
END:STANDARD
END:VTIMEZONE
BEGIN:VEVENT
DTSTART;TZID=America/New_York:20260421T150000
DTEND;TZID=America/New_York:20260421T160000
DTSTAMP:20260421T131211
CREATED:20260320T220417Z
LAST-MODIFIED:20260322T011608Z
UID:10003141-1776783600-1776787200@umaine.edu
SUMMARY:The Glow w/ Ava
DESCRIPTION:Tune in on Tuesday afternoons at 3 PM to feel the energy of The Glow – Where music is felt\, not just heard. Enjoy an hour of jazz house\, R&B/Soul\, and my favorite new artists. Only on WMEB\, 91.9 FM \nThe Glow Spinitron
URL:https://umaine.edu/wmeb/event/the-glow-w-ava-2/2026-04-21/
CATEGORIES:DJ Schedule
END:VEVENT
BEGIN:VEVENT
DTSTART;TZID=America/New_York:20260428T150000
DTEND;TZID=America/New_York:20260428T160000
DTSTAMP:20260421T131211
CREATED:20260320T220417Z
LAST-MODIFIED:20260322T011608Z
UID:10003142-1777388400-1777392000@umaine.edu
SUMMARY:The Glow w/ Ava
DESCRIPTION:Tune in on Tuesday afternoons at 3 PM to feel the energy of The Glow – Where music is felt\, not just heard. Enjoy an hour of jazz house\, R&B/Soul\, and my favorite new artists. Only on WMEB\, 91.9 FM \nThe Glow Spinitron
URL:https://umaine.edu/wmeb/event/the-glow-w-ava-2/2026-04-28/
CATEGORIES:DJ Schedule
END:VEVENT
BEGIN:VEVENT
DTSTART;TZID=America/New_York:20260505T150000
DTEND;TZID=America/New_York:20260505T160000
DTSTAMP:20260421T131211
CREATED:20260320T220417Z
LAST-MODIFIED:20260322T011608Z
UID:10003143-1777993200-1777996800@umaine.edu
SUMMARY:The Glow w/ Ava
DESCRIPTION:Tune in on Tuesday afternoons at 3 PM to feel the energy of The Glow – Where music is felt\, not just heard. Enjoy an hour of jazz house\, R&B/Soul\, and my favorite new artists. Only on WMEB\, 91.9 FM \nThe Glow Spinitron
URL:https://umaine.edu/wmeb/event/the-glow-w-ava-2/2026-05-05/
CATEGORIES:DJ Schedule
END:VEVENT
END:VCALENDAR