BEGIN:VCALENDAR
VERSION:2.0
PRODID:-//WMEB 91.9 FM - ECPv6.15.17.1//NONSGML v1.0//EN
CALSCALE:GREGORIAN
METHOD:PUBLISH
X-WR-CALNAME:WMEB 91.9 FM
X-ORIGINAL-URL:https://umaine.edu/wmeb
X-WR-CALDESC:Events for WMEB 91.9 FM
REFRESH-INTERVAL;VALUE=DURATION:PT1H
X-Robots-Tag:noindex
X-PUBLISHED-TTL:PT1H
BEGIN:VTIMEZONE
TZID:America/New_York
BEGIN:DAYLIGHT
TZOFFSETFROM:-0500
TZOFFSETTO:-0400
TZNAME:EDT
DTSTART:20250309T070000
END:DAYLIGHT
BEGIN:STANDARD
TZOFFSETFROM:-0400
TZOFFSETTO:-0500
TZNAME:EST
DTSTART:20251102T060000
END:STANDARD
BEGIN:DAYLIGHT
TZOFFSETFROM:-0500
TZOFFSETTO:-0400
TZNAME:EDT
DTSTART:20260308T070000
END:DAYLIGHT
BEGIN:STANDARD
TZOFFSETFROM:-0400
TZOFFSETTO:-0500
TZNAME:EST
DTSTART:20261101T060000
END:STANDARD
BEGIN:DAYLIGHT
TZOFFSETFROM:-0500
TZOFFSETTO:-0400
TZNAME:EDT
DTSTART:20270314T070000
END:DAYLIGHT
BEGIN:STANDARD
TZOFFSETFROM:-0400
TZOFFSETTO:-0500
TZNAME:EST
DTSTART:20271107T060000
END:STANDARD
END:VTIMEZONE
BEGIN:VEVENT
DTSTART;TZID=America/New_York:20260420T180000
DTEND;TZID=America/New_York:20260420T200000
DTSTAMP:20260420T213326
CREATED:20251120T150252Z
LAST-MODIFIED:20260320T214735Z
UID:10003129-1776708000-1776715200@umaine.edu
SUMMARY:The DEEP Dive w/ Dylan
DESCRIPTION:Rugby player turned DJ? Come try to score some new music with Dylan on “The DEEP Dive.” Each week is a dive into a new genre or theme\, ranging from Hard House to Aussie indie and anything else your mind can imagine. Go test your taste every Monday from 6 to 8 PM on WMEB 91.9 FM. \nThe DEEP Dive Spinitron
URL:https://umaine.edu/wmeb/event/the-deep-dive-w-dylan/2026-04-20/
CATEGORIES:DJ Schedule
END:VEVENT
BEGIN:VEVENT
DTSTART;TZID=America/New_York:20260420T160000
DTEND;TZID=America/New_York:20260420T180000
DTSTAMP:20260420T213326
CREATED:20251120T014257Z
LAST-MODIFIED:20260320T214633Z
UID:10000746-1776700800-1776708000@umaine.edu
SUMMARY:The Phase w/ Joe
DESCRIPTION:It’s not just a phase\, Mom! It’s The Phase! With Joe! Serving up stylings of midwest emo\, emo revival\, and some occasional punk or emo-adjacent rock. Airs Mondays 4 to 6 PM on WMEB 91.9 FM. \nThe Phase w/ Joe
URL:https://umaine.edu/wmeb/event/the-phase-w-joe/2026-04-20/
CATEGORIES:DJ Schedule
END:VEVENT
BEGIN:VEVENT
DTSTART;TZID=America/New_York:20260420T160000
DTEND;TZID=America/New_York:20260420T170000
DTSTAMP:20260420T213326
CREATED:20260321T194651Z
LAST-MODIFIED:20260322T011608Z
UID:10003547-1776700800-1776704400@umaine.edu
SUMMARY:Yesterdays and Nowadays w/ Mazy
DESCRIPTION:Do you like rock music in all its forms from alternative\, indie and grunge to classic\, garage rock and even some light metal? If you’re into all that…or even if you’re not\, you should tune in to WMEB 91.9 FM from 4 to 5 PM on Thursday and listen to yesterdays and nowadays with Mazy!  \nYesterdays and Nowadays Spinitron
URL:https://umaine.edu/wmeb/event/yesterdays-and-nowadays-w-mazy-2/2026-04-20/
CATEGORIES:DJ Schedule
END:VEVENT
BEGIN:VEVENT
DTSTART;TZID=America/New_York:20260420T143000
DTEND;TZID=America/New_York:20260420T160000
DTSTAMP:20260420T213326
CREATED:20260320T214315Z
LAST-MODIFIED:20260322T011608Z
UID:10003109-1776695400-1776700800@umaine.edu
SUMMARY:On the Cusp w/ Ella & Andrea
DESCRIPTION:On the Cusp Spinitron
URL:https://umaine.edu/wmeb/event/on-the-cusp-w-ella-andrea/2026-04-20/
CATEGORIES:DJ Schedule
END:VEVENT
BEGIN:VEVENT
DTSTART;TZID=America/New_York:20260420T130000
DTEND;TZID=America/New_York:20260420T143000
DTSTAMP:20260420T213326
CREATED:20260320T213513Z
LAST-MODIFIED:20260322T011608Z
UID:10003102-1776690000-1776695400@umaine.edu
SUMMARY:The Art of the Sample w/ Merrick Anton
DESCRIPTION:Sampling is an art-form all on its own. From digging through crates of old records\, to chopping up the tracks and making a brand new beat. If you want to hear the origins of some of your favorite hip-hop songs\, as well as discover new music for your own sampling needs\, tune in to “The Art of the Sample\,” hosted by Merrick Anton\, Mondays from 1 to 2:30 PM\, where he does the crate digging for you\, on WMEB 91.9 FM! \nArt of the Sample Spinitron
URL:https://umaine.edu/wmeb/event/the-art-of-the-sample-w-merrick-anton/2026-04-20/
CATEGORIES:DJ Schedule
END:VEVENT
BEGIN:VEVENT
DTSTART;TZID=America/New_York:20260420T120000
DTEND;TZID=America/New_York:20260420T130000
DTSTAMP:20260420T213326
CREATED:20260320T212850Z
LAST-MODIFIED:20260322T011608Z
UID:10003089-1776686400-1776690000@umaine.edu
SUMMARY:The Accent Mark w/ Jon
DESCRIPTION:The show that knows no borders. DJ Jon Guzman invites you to be a passenger on a flight experience where the intersectionality of global perspective(s) is shared through heritage\, culture\, identity\, and tradition. Tune in every Monday from 12 to 1 PM on WMEB 91.9 FM to the show that has it all: news\, music\, and talk jam-packed into an hour from the end of the AM to the start of the PM. The Accent Mark is the perfect transition from the morning into that high noon. \nThe Accent Mark Spinitron
URL:https://umaine.edu/wmeb/event/the-accent-mark-w-jon-2/2026-04-20/
CATEGORIES:DJ Schedule
END:VEVENT
BEGIN:VEVENT
DTSTART;TZID=America/New_York:20260420T110000
DTEND;TZID=America/New_York:20260420T120000
DTSTAMP:20260420T213326
CREATED:20260320T212551Z
LAST-MODIFIED:20260320T212717Z
UID:10003082-1776682800-1776686400@umaine.edu
SUMMARY:Fast Pistols & Flash Fiction w/ Zeke
DESCRIPTION:Saddle up and settle in for Fast Pistols and Flash Fiction. Your only early afternoon source of tales and tunes from the west\, read to you by Zeke the Baxter County Bard. Here on WMEB 91.9 FM\, Mondays 11 AM to 12. \nFast Pistols & Flash Fiction Spinitron
URL:https://umaine.edu/wmeb/event/fast-pistols-flash-fiction-w-zeke-2/2026-04-20/
CATEGORIES:DJ Schedule
END:VEVENT
BEGIN:VEVENT
DTSTART;TZID=America/New_York:20260420T090000
DTEND;TZID=America/New_York:20260420T110000
DTSTAMP:20260420T213326
CREATED:20260320T215415Z
LAST-MODIFIED:20260320T215451Z
UID:10003135-1776675600-1776682800@umaine.edu
SUMMARY:Double Double Franimal Style w/ Fran
DESCRIPTION:Are you looking for some fresh music to go with your Thursday Morning routine? Whether you are cooking breakfast\, doing last night’s homework\, or making your bed\, franimal’s tracks will set you up for a fun\, productive morning. It’s loud music for quiet people\, tune in to WMEB 91.9FM Mondays from 9-11PM. \nDouble Double Franimal Style Spinitron
URL:https://umaine.edu/wmeb/event/double-double-franimal-style-w-fran-2/2026-04-20/
CATEGORIES:DJ Schedule
END:VEVENT
BEGIN:VEVENT
DTSTART;TZID=America/New_York:20260420T080000
DTEND;TZID=America/New_York:20260420T090000
DTSTAMP:20260420T213326
CREATED:20260304T174441Z
LAST-MODIFIED:20260320T212152Z
UID:10002808-1776672000-1776675600@umaine.edu
SUMMARY:Getting Started w/ Orion
DESCRIPTION:Getting Started Spinitron
URL:https://umaine.edu/wmeb/event/__trashed/2026-04-20/
CATEGORIES:DJ Schedule
END:VEVENT
BEGIN:VEVENT
DTSTART;TZID=America/New_York:20260419T210000
DTEND;TZID=America/New_York:20260419T230000
DTSTAMP:20260420T213326
CREATED:20251118T231647Z
LAST-MODIFIED:20260320T211903Z
UID:10000148-1776632400-1776639600@umaine.edu
SUMMARY:Into the Void w/ Adam
DESCRIPTION:Delve ‘Into The Void’ with Adam and explore the dark and mysterious world of black metal\, death metal\, and other types of extreme music. Sunday nights from 9 to 11\, only on WMEB 91.9 FM  \nInto the Void Spinitron
URL:https://umaine.edu/wmeb/event/into-the-void-w-adam/2026-04-19/
CATEGORIES:DJ Schedule
END:VEVENT
BEGIN:VEVENT
DTSTART;TZID=America/New_York:20260419T190000
DTEND;TZID=America/New_York:20260419T210000
DTSTAMP:20260420T213326
CREATED:20260320T204247Z
LAST-MODIFIED:20260320T204247Z
UID:10002801-1776625200-1776632400@umaine.edu
SUMMARY:Toe Tapping in the Tidepools w/ Leo
DESCRIPTION:In our efficiency-obsessed world\, it’s easy to feel overwhelmed\, out of sorts and uncentered. Join DJ Leo from 7 to 9 PM on Sundays and take some time to wind down\, reflect and enjoy some beautiful and mellow tunes. Take a dip in a whimsical ecosystem of psychedelic country\, dreamy rock\, lazy folk\, soupy jazz\, misty hip hop and everything in between on WMEB 91.9 FM. \nToe Tapping in the Tidepools Spinitron
URL:https://umaine.edu/wmeb/event/toe-tapping-in-the-tidepools-w-leo/2026-04-19/
END:VEVENT
BEGIN:VEVENT
DTSTART;TZID=America/New_York:20260419T160000
DTEND;TZID=America/New_York:20260419T170000
DTSTAMP:20260420T213326
CREATED:20260320T203841Z
LAST-MODIFIED:20260320T203841Z
UID:10002794-1776614400-1776618000@umaine.edu
SUMMARY:Joys and Jubilations w/ Julian
DESCRIPTION:Feeling down? Tune into “Joys and Jubilations With Julien” to get a quick recap of the week\, followed by a chat between your host with the most and a guest that is sure to put a pep in your step! Tune in Sunday’s from 4-5! \nJoys and Jubilations Spinitron
URL:https://umaine.edu/wmeb/event/joys-and-jubilations-w-julian/2026-04-19/
END:VEVENT
BEGIN:VEVENT
DTSTART;TZID=America/New_York:20260419T140000
DTEND;TZID=America/New_York:20260419T150000
DTSTAMP:20260420T213326
CREATED:20251118T230343Z
LAST-MODIFIED:20260320T203530Z
UID:10000089-1776607200-1776610800@umaine.edu
SUMMARY:Screenshot w/ Brenna
DESCRIPTION:Buckling under the pressure to take show recommendations from your parents? Join Brenna to chat about movies\, shows\, streaming services\, and the never-ending scroll on ScreenShot Sundays at 2 to 3 PM. Only on WMEB 91.9 FM.  \nScreenshot Spinitron
URL:https://umaine.edu/wmeb/event/screenshot-w-brenna/2026-04-19/
CATEGORIES:DJ Schedule
END:VEVENT
BEGIN:VEVENT
DTSTART;TZID=America/New_York:20260419T120000
DTEND;TZID=America/New_York:20260419T140000
DTSTAMP:20260420T213326
CREATED:20260320T203331Z
LAST-MODIFIED:20260320T213015Z
UID:10003095-1776600000-1776607200@umaine.edu
SUMMARY:Southern Hospitality w/ Ryan
DESCRIPTION:This is Southern Hospitality on WMEB 91.9 FM\, every Sunday from 12 to 2 PM\, hosted by Ryan Kennedy. Bringing you country and making it queer as folk! \nSouthern Hospitality Spinitron
URL:https://umaine.edu/wmeb/event/southern-hospitality-w-ryan-2/2026-04-19/
CATEGORIES:DJ Schedule
END:VEVENT
BEGIN:VEVENT
DTSTART;TZID=America/New_York:20260419T100000
DTEND;TZID=America/New_York:20260419T110000
DTSTAMP:20260420T213326
CREATED:20260320T203019Z
LAST-MODIFIED:20260320T203155Z
UID:10002787-1776592800-1776596400@umaine.edu
SUMMARY:Women's Work w/ Maeve
DESCRIPTION:Female artists across decades\, countries\, and genres\, from riot grrl to Americana to Country. Discover music by women from a new corner of the music world every Sunday at 10-11 am with Women’s Work on WMEB 91.9 FM. \nWomen’s Work Spinitron
URL:https://umaine.edu/wmeb/event/womens-work-w-maeve-2/2026-04-19/
CATEGORIES:DJ Schedule
END:VEVENT
BEGIN:VEVENT
DTSTART;TZID=America/New_York:20260418T160000
DTEND;TZID=America/New_York:20260418T170000
DTSTAMP:20260420T213326
CREATED:20251129T212453Z
LAST-MODIFIED:20260322T011435Z
UID:10003796-1776528000-1776531600@umaine.edu
SUMMARY:The Indie Inlet w/ Ben
DESCRIPTION:Join Ben every Saturday from 4 to 5 PM to hear new indie rock and pop on the Indie Inlet. Whether you’re into smooth\, synth-driven tunes or upbeat rock songs with a little more kick\, The Indie Inlet has something for you. The water’s fine\, so jump on into the Indie Inlet with Ben and discover new indie music on Saturdays from 4 to 5 PM. \nThe Indie Inlet Spinitron
URL:https://umaine.edu/wmeb/event/the-indie-inlet-w-ben/2026-04-18/
CATEGORIES:DJ Schedule
END:VEVENT
BEGIN:VEVENT
DTSTART;TZID=America/New_York:20260418T120000
DTEND;TZID=America/New_York:20260418T130000
DTSTAMP:20260420T213326
CREATED:20251129T211953Z
LAST-MODIFIED:20260322T011348Z
UID:10003775-1776513600-1776517200@umaine.edu
SUMMARY:My Bloody Galentine w/ Em
DESCRIPTION:Ever wanted to see the beauty behind the blood\, but you’re a bit too queasy for horror? Tune in to My Bloody Galentine with Em for a howling good talk show about the women and art that have shaped horror. Airing Saturdays from 12 to 1 PM on WMEB 91.9 FM. \nMy Bloody Galentine Spinitron
URL:https://umaine.edu/wmeb/event/my-bloody-galentine-w-em/2026-04-18/
CATEGORIES:DJ Schedule
END:VEVENT
BEGIN:VEVENT
DTSTART;TZID=America/New_York:20260418T080000
DTEND;TZID=America/New_York:20260418T100000
DTSTAMP:20260420T213326
CREATED:20260322T011242Z
LAST-MODIFIED:20260406T223408Z
UID:10003754-1776499200-1776506400@umaine.edu
SUMMARY:The Beat Garden w/ Violet
DESCRIPTION:The Beat Garden Spinitron
URL:https://umaine.edu/wmeb/event/the-beat-garden-w-violet/2026-04-18/
CATEGORIES:DJ Schedule
END:VEVENT
BEGIN:VEVENT
DTSTART;TZID=America/New_York:20260417T200000
DTEND;TZID=America/New_York:20260417T220000
DTSTAMP:20260420T213326
CREATED:20260322T011108Z
LAST-MODIFIED:20260406T223408Z
UID:10003747-1776456000-1776463200@umaine.edu
SUMMARY:Hadigari w/ Eric and Cem
DESCRIPTION:Hadigari! Join us every Friday from 8 PM to 9 PM for a journey through vintage global groove music where we’ll discover rare funk\, spiritual jazz\, and psychedelic folk recordings that inspire today’s underground music scenes around the world. Each episode will explore local cultures\, traditional instruments\, and regional sounds from Khartoum to Kuala Lumpur and everywhere in between. Hadigari: Let’s go! \nHadigari Spinitron
URL:https://umaine.edu/wmeb/event/hadigari-w-eric-and-cem/2026-04-17/
CATEGORIES:DJ Schedule
END:VEVENT
BEGIN:VEVENT
DTSTART;TZID=America/New_York:20260417T190000
DTEND;TZID=America/New_York:20260417T200000
DTSTAMP:20260420T213326
CREATED:20260322T010725Z
LAST-MODIFIED:20260322T011607Z
UID:10003740-1776452400-1776456000@umaine.edu
SUMMARY:Friday Night Plights w/ Cooper
DESCRIPTION:Do you like sports? Do you like the radio? There is one man at WMEB 91.9 FM who loves both of those things\, and his name is Cooper. Every Friday from 7 to 8 PM\, join in to Friday Night Plights and listen to Cooper and his co-host of the week talk about sports around UMaine and around the world. \nFriday Night Plights Spinitron
URL:https://umaine.edu/wmeb/event/friday-night-plights-w-cooper-2/2026-04-17/
CATEGORIES:DJ Schedule
END:VEVENT
BEGIN:VEVENT
DTSTART;TZID=America/New_York:20260417T170000
DTEND;TZID=America/New_York:20260417T190000
DTSTAMP:20260420T213326
CREATED:20251129T211627Z
LAST-MODIFIED:20260322T010533Z
UID:10003733-1776445200-1776452400@umaine.edu
SUMMARY:Rhythm & Roots w/ Obie
DESCRIPTION:Rhythm & Roots Spinitron
URL:https://umaine.edu/wmeb/event/rhythm-roots-w-obie/2026-04-17/
CATEGORIES:DJ Schedule
END:VEVENT
BEGIN:VEVENT
DTSTART;TZID=America/New_York:20260417T160000
DTEND;TZID=America/New_York:20260417T170000
DTSTAMP:20260420T213326
CREATED:20251129T211441Z
LAST-MODIFIED:20260322T010337Z
UID:10003713-1776441600-1776445200@umaine.edu
SUMMARY:Black Bear B-Sides w/ Zack
DESCRIPTION:Want to wind down and relax after a long week? Listen in to Zack’s Black Bear B-Sides every Friday at 4pm to hear some of the most comforting dream-pop adjacent music there is only on WMEB. \nBlack Bear B-Sides Spinitron
URL:https://umaine.edu/wmeb/event/black-bear-b-sides-w-zack/2026-04-17/
CATEGORIES:DJ Schedule
END:VEVENT
BEGIN:VEVENT
DTSTART;TZID=America/New_York:20260417T140000
DTEND;TZID=America/New_York:20260417T160000
DTSTAMP:20260420T213326
CREATED:20251129T211304Z
LAST-MODIFIED:20260322T010127Z
UID:10003690-1776434400-1776441600@umaine.edu
SUMMARY:Kilmore Trout Radio Hour w/ Alison
DESCRIPTION:Fridays 2 to 4 pm tuna into the Kilmore Trout Radio Hour on WMEB 91.9 FM Orono\, ME. Alison will be playing old-school country and indie twang. Listen in if you want.  \nKilmore Trout Radio Hour Spinitron
URL:https://umaine.edu/wmeb/event/kilmore-trout-radio-hour-w-alison/2026-04-17/
CATEGORIES:DJ Schedule
END:VEVENT
BEGIN:VEVENT
DTSTART;TZID=America/New_York:20260417T130000
DTEND;TZID=America/New_York:20260417T140000
DTSTAMP:20260420T213326
CREATED:20260322T010037Z
LAST-MODIFIED:20260322T011607Z
UID:10003670-1776430800-1776434400@umaine.edu
SUMMARY:Slim Margins w/ Stetson Slim
DESCRIPTION:Are you looking for an exploration of the in-betweens\, the intersections and the fine lines in culture\, music and politics? Just looking for some interesting discourse to tune into over lunch? Tune in to Slim Margins on Fridays at 1PM on WMEB\, for the mixed-music and talk show that explores the boundaries between genres and boundaries between art and politics. Tune in on Fridays at 1PM\, only on WMEB 91.9FM\, Orono Maine! \nSlim Margins Spinitron
URL:https://umaine.edu/wmeb/event/slim-margins-w-stetson-slim/2026-04-17/
CATEGORIES:DJ Schedule
END:VEVENT
BEGIN:VEVENT
DTSTART;TZID=America/New_York:20260417T110000
DTEND;TZID=America/New_York:20260417T130000
DTSTAMP:20260420T213326
CREATED:20251129T210952Z
LAST-MODIFIED:20260322T005331Z
UID:10003663-1776423600-1776430800@umaine.edu
SUMMARY:Heart Beats w/ Gaby
DESCRIPTION:Are you analytical? Observant? Is music therapeutic for you? If you answered yes to any of these questions\, then Heart Beats is the show for you! Join Gabrielle in the discussion of psychological phenomena and listen to tracks that often convey feelings buried within ourselves. Follow your nerve ways! Listen to Heart Beats on WMEB 91.9 FM on Fridays from 11 AM to 1 PM. \nHeart Beats Spinitron
URL:https://umaine.edu/wmeb/event/heart-beats-w-gaby/2026-04-17/
CATEGORIES:DJ Schedule
END:VEVENT
BEGIN:VEVENT
DTSTART;TZID=America/New_York:20260417T100000
DTEND;TZID=America/New_York:20260417T110000
DTSTAMP:20260420T213326
CREATED:20251129T211126Z
LAST-MODIFIED:20260322T005225Z
UID:10003643-1776420000-1776423600@umaine.edu
SUMMARY:Gentle Currents w/ Nico
DESCRIPTION:Take a trip down the river of relaxation\, where the gentle currents invite you to unwind and take a journey like no other. Dive in for a calming blend of indie rock and electronic tunes\, every note inviting you to drift alongside the fishes. Immerse yourself into this brand new world\, waiting for you on Fridays from 10 to 11 AM\, only on WMEB 91.9 FM. \nGentle Currents Spinitron
URL:https://umaine.edu/wmeb/event/gentle-currents-w-nico/2026-04-17/
CATEGORIES:DJ Schedule
END:VEVENT
BEGIN:VEVENT
DTSTART;TZID=America/New_York:20260416T220000
DTEND;TZID=America/New_York:20260416T235900
DTSTAMP:20260420T213326
CREATED:20260321T200613Z
LAST-MODIFIED:20260322T011607Z
UID:10003600-1776376800-1776383940@umaine.edu
SUMMARY:The Rabbit's Foot w/ Liv & Jenna
DESCRIPTION:Knock on wood. Wish on a shooting star. Cross your fingers. Toss a coin in a fountain. Or just tune in. The Rabbit’s Foot\, your shortcut to good luck. Every Thursday night from 10 to midnight on WMEB 91.9 FM Orono\, Maine. \nThe Rabbit’s Foot Spinitron
URL:https://umaine.edu/wmeb/event/the-rabbits-foot-w-liv-jenna/2026-04-16/
CATEGORIES:DJ Schedule
END:VEVENT
BEGIN:VEVENT
DTSTART;TZID=America/New_York:20260416T210000
DTEND;TZID=America/New_York:20260416T220000
DTSTAMP:20260420T213326
CREATED:20251129T205758Z
LAST-MODIFIED:20260321T200403Z
UID:10003593-1776373200-1776376800@umaine.edu
SUMMARY:B-Sides w/ Aiden
DESCRIPTION:Stimulate your ears and mind by tuning in to “B-sides”\, hosted by Aiden. Hand-picking the best Hip-Hop sounds inspired by funk\, soul and jazz every week. You’re bound to find new and old favorites\, only on WMEB 91.9 FM\, Thursday’s 9 to 10 PM. \nB-Sides Spinitron
URL:https://umaine.edu/wmeb/event/b-sides-w-aiden/2026-04-16/
CATEGORIES:DJ Schedule
END:VEVENT
BEGIN:VEVENT
DTSTART;TZID=America/New_York:20260416T180000
DTEND;TZID=America/New_York:20260416T210000
DTSTAMP:20260420T213326
CREATED:20251129T205455Z
LAST-MODIFIED:20260321T195006Z
UID:10003573-1776362400-1776373200@umaine.edu
SUMMARY:The Blues Bus w/ Murph
DESCRIPTION:The Blues Bus has aired on WMEB since 1991. The focus of the Blues Bus is on what is happening in the world of Blues today. Recent releases are featured while the musical scope is inclusive\, featuring all manner of performers and styles with a relationship to the blues. Catch a ride with Murph on the Blues Bus every Thursday from 6 to 9 PM on WMEB 91.9 \nThe Blues Bus Spinitron
URL:https://umaine.edu/wmeb/event/the-blues-bus-w-murph/2026-04-16/
CATEGORIES:DJ Schedule
END:VEVENT
BEGIN:VEVENT
DTSTART;TZID=America/New_York:20260416T170000
DTEND;TZID=America/New_York:20260416T180000
DTSTAMP:20260420T213326
CREATED:20260321T194917Z
LAST-MODIFIED:20260322T011607Z
UID:10003553-1776358800-1776362400@umaine.edu
SUMMARY:Hard Candy w/ Mikala
DESCRIPTION:Hard Candy Spinitron
URL:https://umaine.edu/wmeb/event/hard-candy-w-mikala/2026-04-16/
CATEGORIES:DJ Schedule
END:VEVENT
END:VCALENDAR