BEGIN:VCALENDAR
VERSION:2.0
PRODID:-//WMEB 91.9 FM - ECPv6.15.17.1//NONSGML v1.0//EN
CALSCALE:GREGORIAN
METHOD:PUBLISH
X-WR-CALNAME:WMEB 91.9 FM
X-ORIGINAL-URL:https://umaine.edu/wmeb
X-WR-CALDESC:Events for WMEB 91.9 FM
REFRESH-INTERVAL;VALUE=DURATION:PT1H
X-Robots-Tag:noindex
X-PUBLISHED-TTL:PT1H
BEGIN:VTIMEZONE
TZID:America/New_York
BEGIN:DAYLIGHT
TZOFFSETFROM:-0500
TZOFFSETTO:-0400
TZNAME:EDT
DTSTART:20250309T070000
END:DAYLIGHT
BEGIN:STANDARD
TZOFFSETFROM:-0400
TZOFFSETTO:-0500
TZNAME:EST
DTSTART:20251102T060000
END:STANDARD
BEGIN:DAYLIGHT
TZOFFSETFROM:-0500
TZOFFSETTO:-0400
TZNAME:EDT
DTSTART:20260308T070000
END:DAYLIGHT
BEGIN:STANDARD
TZOFFSETFROM:-0400
TZOFFSETTO:-0500
TZNAME:EST
DTSTART:20261101T060000
END:STANDARD
BEGIN:DAYLIGHT
TZOFFSETFROM:-0500
TZOFFSETTO:-0400
TZNAME:EDT
DTSTART:20270314T070000
END:DAYLIGHT
BEGIN:STANDARD
TZOFFSETFROM:-0400
TZOFFSETTO:-0500
TZNAME:EST
DTSTART:20271107T060000
END:STANDARD
END:VTIMEZONE
BEGIN:VEVENT
DTSTART;TZID=America/New_York:20260508T110000
DTEND;TZID=America/New_York:20260508T130000
DTSTAMP:20260421T160332
CREATED:20251129T210952Z
LAST-MODIFIED:20260322T005331Z
UID:10003666-1778238000-1778245200@umaine.edu
SUMMARY:Heart Beats w/ Gaby
DESCRIPTION:Are you analytical? Observant? Is music therapeutic for you? If you answered yes to any of these questions\, then Heart Beats is the show for you! Join Gabrielle in the discussion of psychological phenomena and listen to tracks that often convey feelings buried within ourselves. Follow your nerve ways! Listen to Heart Beats on WMEB 91.9 FM on Fridays from 11 AM to 1 PM. \nHeart Beats Spinitron
URL:https://umaine.edu/wmeb/event/heart-beats-w-gaby/2026-05-08/
CATEGORIES:DJ Schedule
END:VEVENT
BEGIN:VEVENT
DTSTART;TZID=America/New_York:20260508T130000
DTEND;TZID=America/New_York:20260508T140000
DTSTAMP:20260421T160332
CREATED:20260322T010037Z
LAST-MODIFIED:20260322T011607Z
UID:10003673-1778245200-1778248800@umaine.edu
SUMMARY:Slim Margins w/ Stetson Slim
DESCRIPTION:Are you looking for an exploration of the in-betweens\, the intersections and the fine lines in culture\, music and politics? Just looking for some interesting discourse to tune into over lunch? Tune in to Slim Margins on Fridays at 1PM on WMEB\, for the mixed-music and talk show that explores the boundaries between genres and boundaries between art and politics. Tune in on Fridays at 1PM\, only on WMEB 91.9FM\, Orono Maine! \nSlim Margins Spinitron
URL:https://umaine.edu/wmeb/event/slim-margins-w-stetson-slim/2026-05-08/
CATEGORIES:DJ Schedule
END:VEVENT
BEGIN:VEVENT
DTSTART;TZID=America/New_York:20260508T140000
DTEND;TZID=America/New_York:20260508T160000
DTSTAMP:20260421T160332
CREATED:20251129T211304Z
LAST-MODIFIED:20260322T010127Z
UID:10003693-1778248800-1778256000@umaine.edu
SUMMARY:Kilmore Trout Radio Hour w/ Alison
DESCRIPTION:Fridays 2 to 4 pm tuna into the Kilmore Trout Radio Hour on WMEB 91.9 FM Orono\, ME. Alison will be playing old-school country and indie twang. Listen in if you want.  \nKilmore Trout Radio Hour Spinitron
URL:https://umaine.edu/wmeb/event/kilmore-trout-radio-hour-w-alison/2026-05-08/
CATEGORIES:DJ Schedule
END:VEVENT
BEGIN:VEVENT
DTSTART;TZID=America/New_York:20260508T160000
DTEND;TZID=America/New_York:20260508T170000
DTSTAMP:20260421T160332
CREATED:20251129T211441Z
LAST-MODIFIED:20260322T010337Z
UID:10003716-1778256000-1778259600@umaine.edu
SUMMARY:Black Bear B-Sides w/ Zack
DESCRIPTION:Want to wind down and relax after a long week? Listen in to Zack’s Black Bear B-Sides every Friday at 4pm to hear some of the most comforting dream-pop adjacent music there is only on WMEB. \nBlack Bear B-Sides Spinitron
URL:https://umaine.edu/wmeb/event/black-bear-b-sides-w-zack/2026-05-08/
CATEGORIES:DJ Schedule
END:VEVENT
BEGIN:VEVENT
DTSTART;TZID=America/New_York:20260508T170000
DTEND;TZID=America/New_York:20260508T190000
DTSTAMP:20260421T160332
CREATED:20251129T211627Z
LAST-MODIFIED:20260322T010533Z
UID:10003736-1778259600-1778266800@umaine.edu
SUMMARY:Rhythm & Roots w/ Obie
DESCRIPTION:Rhythm & Roots Spinitron
URL:https://umaine.edu/wmeb/event/rhythm-roots-w-obie/2026-05-08/
CATEGORIES:DJ Schedule
END:VEVENT
BEGIN:VEVENT
DTSTART;TZID=America/New_York:20260508T190000
DTEND;TZID=America/New_York:20260508T200000
DTSTAMP:20260421T160332
CREATED:20260322T010725Z
LAST-MODIFIED:20260322T011607Z
UID:10003743-1778266800-1778270400@umaine.edu
SUMMARY:Friday Night Plights w/ Cooper
DESCRIPTION:Do you like sports? Do you like the radio? There is one man at WMEB 91.9 FM who loves both of those things\, and his name is Cooper. Every Friday from 7 to 8 PM\, join in to Friday Night Plights and listen to Cooper and his co-host of the week talk about sports around UMaine and around the world. \nFriday Night Plights Spinitron
URL:https://umaine.edu/wmeb/event/friday-night-plights-w-cooper-2/2026-05-08/
CATEGORIES:DJ Schedule
END:VEVENT
BEGIN:VEVENT
DTSTART;TZID=America/New_York:20260508T200000
DTEND;TZID=America/New_York:20260508T220000
DTSTAMP:20260421T160332
CREATED:20260322T011108Z
LAST-MODIFIED:20260406T223408Z
UID:10003750-1778270400-1778277600@umaine.edu
SUMMARY:Hadigari w/ Eric and Cem
DESCRIPTION:Hadigari! Join us every Friday from 8 PM to 9 PM for a journey through vintage global groove music where we’ll discover rare funk\, spiritual jazz\, and psychedelic folk recordings that inspire today’s underground music scenes around the world. Each episode will explore local cultures\, traditional instruments\, and regional sounds from Khartoum to Kuala Lumpur and everywhere in between. Hadigari: Let’s go! \nHadigari Spinitron
URL:https://umaine.edu/wmeb/event/hadigari-w-eric-and-cem/2026-05-08/
CATEGORIES:DJ Schedule
END:VEVENT
BEGIN:VEVENT
DTSTART;TZID=America/New_York:20260509T080000
DTEND;TZID=America/New_York:20260509T100000
DTSTAMP:20260421T160332
CREATED:20260322T011242Z
LAST-MODIFIED:20260406T223408Z
UID:10003757-1778313600-1778320800@umaine.edu
SUMMARY:The Beat Garden w/ Violet
DESCRIPTION:The Beat Garden Spinitron
URL:https://umaine.edu/wmeb/event/the-beat-garden-w-violet/2026-05-09/
CATEGORIES:DJ Schedule
END:VEVENT
BEGIN:VEVENT
DTSTART;TZID=America/New_York:20260509T120000
DTEND;TZID=America/New_York:20260509T130000
DTSTAMP:20260421T160332
CREATED:20251129T211953Z
LAST-MODIFIED:20260322T011348Z
UID:10003778-1778328000-1778331600@umaine.edu
SUMMARY:My Bloody Galentine w/ Em
DESCRIPTION:Ever wanted to see the beauty behind the blood\, but you’re a bit too queasy for horror? Tune in to My Bloody Galentine with Em for a howling good talk show about the women and art that have shaped horror. Airing Saturdays from 12 to 1 PM on WMEB 91.9 FM. \nMy Bloody Galentine Spinitron
URL:https://umaine.edu/wmeb/event/my-bloody-galentine-w-em/2026-05-09/
CATEGORIES:DJ Schedule
END:VEVENT
BEGIN:VEVENT
DTSTART;TZID=America/New_York:20260509T160000
DTEND;TZID=America/New_York:20260509T170000
DTSTAMP:20260421T160332
CREATED:20251129T212453Z
LAST-MODIFIED:20260322T011435Z
UID:10003799-1778342400-1778346000@umaine.edu
SUMMARY:The Indie Inlet w/ Ben
DESCRIPTION:Join Ben every Saturday from 4 to 5 PM to hear new indie rock and pop on the Indie Inlet. Whether you’re into smooth\, synth-driven tunes or upbeat rock songs with a little more kick\, The Indie Inlet has something for you. The water’s fine\, so jump on into the Indie Inlet with Ben and discover new indie music on Saturdays from 4 to 5 PM. \nThe Indie Inlet Spinitron
URL:https://umaine.edu/wmeb/event/the-indie-inlet-w-ben/2026-05-09/
CATEGORIES:DJ Schedule
END:VEVENT
END:VCALENDAR