BEGIN:VCALENDAR
VERSION:2.0
PRODID:-//Department of Wildlife, Fisheries, and Conservation Biology - ECPv6.15.17.1//NONSGML v1.0//EN
CALSCALE:GREGORIAN
METHOD:PUBLISH
X-WR-CALNAME:Department of Wildlife, Fisheries, and Conservation Biology
X-ORIGINAL-URL:https://umaine.edu/wle
X-WR-CALDESC:Events for Department of Wildlife, Fisheries, and Conservation Biology
REFRESH-INTERVAL;VALUE=DURATION:PT1H
X-Robots-Tag:noindex
X-PUBLISHED-TTL:PT1H
BEGIN:VTIMEZONE
TZID:America/New_York
BEGIN:DAYLIGHT
TZOFFSETFROM:-0500
TZOFFSETTO:-0400
TZNAME:EDT
DTSTART:20210314T070000
END:DAYLIGHT
BEGIN:STANDARD
TZOFFSETFROM:-0400
TZOFFSETTO:-0500
TZNAME:EST
DTSTART:20211107T060000
END:STANDARD
BEGIN:DAYLIGHT
TZOFFSETFROM:-0500
TZOFFSETTO:-0400
TZNAME:EDT
DTSTART:20220313T070000
END:DAYLIGHT
BEGIN:STANDARD
TZOFFSETFROM:-0400
TZOFFSETTO:-0500
TZNAME:EST
DTSTART:20221106T060000
END:STANDARD
BEGIN:DAYLIGHT
TZOFFSETFROM:-0500
TZOFFSETTO:-0400
TZNAME:EDT
DTSTART:20230312T070000
END:DAYLIGHT
BEGIN:STANDARD
TZOFFSETFROM:-0400
TZOFFSETTO:-0500
TZNAME:EST
DTSTART:20231105T060000
END:STANDARD
END:VTIMEZONE
BEGIN:VEVENT
DTSTART;TZID=America/New_York:20220131T120000
DTEND;TZID=America/New_York:20220131T130000
DTSTAMP:20260422T195510
CREATED:20220118T160630Z
LAST-MODIFIED:20220119T201625Z
UID:9331-1643630400-1643634000@umaine.edu
SUMMARY:Seminar Series - Dr. David Patrick
DESCRIPTION:Dr. David Patrick – The Nature Conservancy \nZoom – https://maine.zoom.us/j/88086097482?pwd=Wko1VTlqMGQwa2RkSWxzMDZiczY5QT09 \nPasscode:  492057 \nTitle:  The road to 2030: How conservation needs to change this decade
URL:https://umaine.edu/wle/event/seminar-series-dr-david-patrick/
LOCATION:ME\, United States
ORGANIZER;CN="Ivy Yen":MAILTO:ivy.yen@maine.edu
END:VEVENT
END:VCALENDAR