BEGIN:VCALENDAR
VERSION:2.0
PRODID:-//The Wilson Center - ECPv6.15.17.1//NONSGML v1.0//EN
CALSCALE:GREGORIAN
METHOD:PUBLISH
X-ORIGINAL-URL:https://umaine.edu/wilsoncenter
X-WR-CALDESC:Events for The Wilson Center
REFRESH-INTERVAL;VALUE=DURATION:PT1H
X-Robots-Tag:noindex
X-PUBLISHED-TTL:PT1H
BEGIN:VTIMEZONE
TZID:America/New_York
BEGIN:DAYLIGHT
TZOFFSETFROM:-0500
TZOFFSETTO:-0400
TZNAME:EDT
DTSTART:20250309T070000
END:DAYLIGHT
BEGIN:STANDARD
TZOFFSETFROM:-0400
TZOFFSETTO:-0500
TZNAME:EST
DTSTART:20251102T060000
END:STANDARD
BEGIN:DAYLIGHT
TZOFFSETFROM:-0500
TZOFFSETTO:-0400
TZNAME:EDT
DTSTART:20260308T070000
END:DAYLIGHT
BEGIN:STANDARD
TZOFFSETFROM:-0400
TZOFFSETTO:-0500
TZNAME:EST
DTSTART:20261101T060000
END:STANDARD
BEGIN:DAYLIGHT
TZOFFSETFROM:-0500
TZOFFSETTO:-0400
TZNAME:EDT
DTSTART:20270314T070000
END:DAYLIGHT
BEGIN:STANDARD
TZOFFSETFROM:-0400
TZOFFSETTO:-0500
TZNAME:EST
DTSTART:20271107T060000
END:STANDARD
BEGIN:DAYLIGHT
TZOFFSETFROM:-0500
TZOFFSETTO:-0400
TZNAME:EDT
DTSTART:20280312T070000
END:DAYLIGHT
BEGIN:STANDARD
TZOFFSETFROM:-0400
TZOFFSETTO:-0500
TZNAME:EST
DTSTART:20281105T060000
END:STANDARD
END:VTIMEZONE
BEGIN:VEVENT
DTSTART;TZID=America/New_York:20261213T100000
DTEND;TZID=America/New_York:20261213T130000
DTSTAMP:20260421T135248
CREATED:20250526T151350Z
LAST-MODIFIED:20250526T151350Z
UID:4542-1797156000-1797166800@umaine.edu
SUMMARY:Orono Friends Meeting
DESCRIPTION:Friends believe that there is that of God in everyone and that any person can tap into that Spirit and minister to others. At 10 AM Sundays come join us in mostly silent meditation as we each seek spiritual truths to share.
URL:https://umaine.edu/wilsoncenter/event/orono-friends-meeting/2026-12-13/
LOCATION:The Wilson Center\, 67 College Ave\, Orono\, 04473
GEO:44.8909436;-68.6715764
X-APPLE-STRUCTURED-LOCATION;VALUE=URI;X-ADDRESS=The Wilson Center 67 College Ave Orono 04473;X-APPLE-RADIUS=500;X-TITLE=67 College Ave:geo:-68.6715764,44.8909436
END:VEVENT
BEGIN:VEVENT
DTSTART;TZID=America/New_York:20261216T200000
DTEND;TZID=America/New_York:20261216T210000
DTSTAMP:20260421T135248
CREATED:20250505T150105Z
LAST-MODIFIED:20250505T150105Z
UID:5689-1797451200-1797454800@umaine.edu
SUMMARY:Ballroom Dancing with Robert Causey
DESCRIPTION:Join Wilson Center Friend Robert Causey for a free Ballroom Dance class and practice in the Wilson Center main space. Come learn various styles of Ballroom Dance. No experience or partner required!
URL:https://umaine.edu/wilsoncenter/event/ballroom-dancing-with-robert-causey-2025-11-26/2026-12-16/
LOCATION:The Wilson Center\, 67 College Ave\, Orono\, 04473
ATTACH;FMTTYPE=image/jpeg:https://umaine.edu/wilsoncenter/wp-content/uploads/sites/360/2025/05/Ballroom-Fall-2024.jpg
GEO:44.8909436;-68.6715764
X-APPLE-STRUCTURED-LOCATION;VALUE=URI;X-ADDRESS=The Wilson Center 67 College Ave Orono 04473;X-APPLE-RADIUS=500;X-TITLE=67 College Ave:geo:-68.6715764,44.8909436
END:VEVENT
BEGIN:VEVENT
DTSTART;TZID=America/New_York:20261220T100000
DTEND;TZID=America/New_York:20261220T130000
DTSTAMP:20260421T135248
CREATED:20250526T151350Z
LAST-MODIFIED:20250526T151350Z
UID:4543-1797760800-1797771600@umaine.edu
SUMMARY:Orono Friends Meeting
DESCRIPTION:Friends believe that there is that of God in everyone and that any person can tap into that Spirit and minister to others. At 10 AM Sundays come join us in mostly silent meditation as we each seek spiritual truths to share.
URL:https://umaine.edu/wilsoncenter/event/orono-friends-meeting/2026-12-20/
LOCATION:The Wilson Center\, 67 College Ave\, Orono\, 04473
GEO:44.8909436;-68.6715764
X-APPLE-STRUCTURED-LOCATION;VALUE=URI;X-ADDRESS=The Wilson Center 67 College Ave Orono 04473;X-APPLE-RADIUS=500;X-TITLE=67 College Ave:geo:-68.6715764,44.8909436
END:VEVENT
BEGIN:VEVENT
DTSTART;TZID=America/New_York:20261223T200000
DTEND;TZID=America/New_York:20261223T210000
DTSTAMP:20260421T135248
CREATED:20250505T150105Z
LAST-MODIFIED:20250505T150105Z
UID:5690-1798056000-1798059600@umaine.edu
SUMMARY:Ballroom Dancing with Robert Causey
DESCRIPTION:Join Wilson Center Friend Robert Causey for a free Ballroom Dance class and practice in the Wilson Center main space. Come learn various styles of Ballroom Dance. No experience or partner required!
URL:https://umaine.edu/wilsoncenter/event/ballroom-dancing-with-robert-causey-2025-11-26/2026-12-23/
LOCATION:The Wilson Center\, 67 College Ave\, Orono\, 04473
ATTACH;FMTTYPE=image/jpeg:https://umaine.edu/wilsoncenter/wp-content/uploads/sites/360/2025/05/Ballroom-Fall-2024.jpg
GEO:44.8909436;-68.6715764
X-APPLE-STRUCTURED-LOCATION;VALUE=URI;X-ADDRESS=The Wilson Center 67 College Ave Orono 04473;X-APPLE-RADIUS=500;X-TITLE=67 College Ave:geo:-68.6715764,44.8909436
END:VEVENT
BEGIN:VEVENT
DTSTART;TZID=America/New_York:20261227T100000
DTEND;TZID=America/New_York:20261227T130000
DTSTAMP:20260421T135248
CREATED:20250526T151350Z
LAST-MODIFIED:20250526T151350Z
UID:4544-1798365600-1798376400@umaine.edu
SUMMARY:Orono Friends Meeting
DESCRIPTION:Friends believe that there is that of God in everyone and that any person can tap into that Spirit and minister to others. At 10 AM Sundays come join us in mostly silent meditation as we each seek spiritual truths to share.
URL:https://umaine.edu/wilsoncenter/event/orono-friends-meeting/2026-12-27/
LOCATION:The Wilson Center\, 67 College Ave\, Orono\, 04473
GEO:44.8909436;-68.6715764
X-APPLE-STRUCTURED-LOCATION;VALUE=URI;X-ADDRESS=The Wilson Center 67 College Ave Orono 04473;X-APPLE-RADIUS=500;X-TITLE=67 College Ave:geo:-68.6715764,44.8909436
END:VEVENT
BEGIN:VEVENT
DTSTART;TZID=America/New_York:20261230T200000
DTEND;TZID=America/New_York:20261230T210000
DTSTAMP:20260421T135248
CREATED:20250505T150105Z
LAST-MODIFIED:20250505T150105Z
UID:5691-1798660800-1798664400@umaine.edu
SUMMARY:Ballroom Dancing with Robert Causey
DESCRIPTION:Join Wilson Center Friend Robert Causey for a free Ballroom Dance class and practice in the Wilson Center main space. Come learn various styles of Ballroom Dance. No experience or partner required!
URL:https://umaine.edu/wilsoncenter/event/ballroom-dancing-with-robert-causey-2025-11-26/2026-12-30/
LOCATION:The Wilson Center\, 67 College Ave\, Orono\, 04473
ATTACH;FMTTYPE=image/jpeg:https://umaine.edu/wilsoncenter/wp-content/uploads/sites/360/2025/05/Ballroom-Fall-2024.jpg
GEO:44.8909436;-68.6715764
X-APPLE-STRUCTURED-LOCATION;VALUE=URI;X-ADDRESS=The Wilson Center 67 College Ave Orono 04473;X-APPLE-RADIUS=500;X-TITLE=67 College Ave:geo:-68.6715764,44.8909436
END:VEVENT
BEGIN:VEVENT
DTSTART;TZID=America/New_York:20270103T100000
DTEND;TZID=America/New_York:20270103T130000
DTSTAMP:20260421T135248
CREATED:20250526T151350Z
LAST-MODIFIED:20250526T151350Z
UID:4545-1798970400-1798981200@umaine.edu
SUMMARY:Orono Friends Meeting
DESCRIPTION:Friends believe that there is that of God in everyone and that any person can tap into that Spirit and minister to others. At 10 AM Sundays come join us in mostly silent meditation as we each seek spiritual truths to share.
URL:https://umaine.edu/wilsoncenter/event/orono-friends-meeting/2027-01-03/
LOCATION:The Wilson Center\, 67 College Ave\, Orono\, 04473
GEO:44.8909436;-68.6715764
X-APPLE-STRUCTURED-LOCATION;VALUE=URI;X-ADDRESS=The Wilson Center 67 College Ave Orono 04473;X-APPLE-RADIUS=500;X-TITLE=67 College Ave:geo:-68.6715764,44.8909436
END:VEVENT
BEGIN:VEVENT
DTSTART;TZID=America/New_York:20270106T200000
DTEND;TZID=America/New_York:20270106T210000
DTSTAMP:20260421T135248
CREATED:20250505T150105Z
LAST-MODIFIED:20250505T150105Z
UID:5692-1799265600-1799269200@umaine.edu
SUMMARY:Ballroom Dancing with Robert Causey
DESCRIPTION:Join Wilson Center Friend Robert Causey for a free Ballroom Dance class and practice in the Wilson Center main space. Come learn various styles of Ballroom Dance. No experience or partner required!
URL:https://umaine.edu/wilsoncenter/event/ballroom-dancing-with-robert-causey-2025-11-26/2027-01-06/
LOCATION:The Wilson Center\, 67 College Ave\, Orono\, 04473
ATTACH;FMTTYPE=image/jpeg:https://umaine.edu/wilsoncenter/wp-content/uploads/sites/360/2025/05/Ballroom-Fall-2024.jpg
GEO:44.8909436;-68.6715764
X-APPLE-STRUCTURED-LOCATION;VALUE=URI;X-ADDRESS=The Wilson Center 67 College Ave Orono 04473;X-APPLE-RADIUS=500;X-TITLE=67 College Ave:geo:-68.6715764,44.8909436
END:VEVENT
BEGIN:VEVENT
DTSTART;TZID=America/New_York:20270109T180000
DTEND;TZID=America/New_York:20270109T200000
DTSTAMP:20260421T135248
CREATED:20250613T142006Z
LAST-MODIFIED:20250613T142006Z
UID:4639-1799517600-1799524800@umaine.edu
SUMMARY:Queer Hangout with Bangor Pride
DESCRIPTION:Queer Hangout with Bangor Pride every second Saturday from 6-8 PM
URL:https://umaine.edu/wilsoncenter/event/queer-hangout-with-bangor-pride/2027-01-09/
LOCATION:The Wilson Center\, 67 College Ave\, Orono\, 04473
ATTACH;FMTTYPE=image/jpeg:https://umaine.edu/wilsoncenter/wp-content/uploads/sites/360/2025/06/Queer-Hangout.jpg
GEO:44.8909436;-68.6715764
X-APPLE-STRUCTURED-LOCATION;VALUE=URI;X-ADDRESS=The Wilson Center 67 College Ave Orono 04473;X-APPLE-RADIUS=500;X-TITLE=67 College Ave:geo:-68.6715764,44.8909436
END:VEVENT
BEGIN:VEVENT
DTSTART;TZID=America/New_York:20270110T100000
DTEND;TZID=America/New_York:20270110T130000
DTSTAMP:20260421T135248
CREATED:20250526T151350Z
LAST-MODIFIED:20250526T151350Z
UID:4546-1799575200-1799586000@umaine.edu
SUMMARY:Orono Friends Meeting
DESCRIPTION:Friends believe that there is that of God in everyone and that any person can tap into that Spirit and minister to others. At 10 AM Sundays come join us in mostly silent meditation as we each seek spiritual truths to share.
URL:https://umaine.edu/wilsoncenter/event/orono-friends-meeting/2027-01-10/
LOCATION:The Wilson Center\, 67 College Ave\, Orono\, 04473
GEO:44.8909436;-68.6715764
X-APPLE-STRUCTURED-LOCATION;VALUE=URI;X-ADDRESS=The Wilson Center 67 College Ave Orono 04473;X-APPLE-RADIUS=500;X-TITLE=67 College Ave:geo:-68.6715764,44.8909436
END:VEVENT
BEGIN:VEVENT
DTSTART;TZID=America/New_York:20270113T200000
DTEND;TZID=America/New_York:20270113T210000
DTSTAMP:20260421T135248
CREATED:20250505T150105Z
LAST-MODIFIED:20250505T150105Z
UID:5693-1799870400-1799874000@umaine.edu
SUMMARY:Ballroom Dancing with Robert Causey
DESCRIPTION:Join Wilson Center Friend Robert Causey for a free Ballroom Dance class and practice in the Wilson Center main space. Come learn various styles of Ballroom Dance. No experience or partner required!
URL:https://umaine.edu/wilsoncenter/event/ballroom-dancing-with-robert-causey-2025-11-26/2027-01-13/
LOCATION:The Wilson Center\, 67 College Ave\, Orono\, 04473
ATTACH;FMTTYPE=image/jpeg:https://umaine.edu/wilsoncenter/wp-content/uploads/sites/360/2025/05/Ballroom-Fall-2024.jpg
GEO:44.8909436;-68.6715764
X-APPLE-STRUCTURED-LOCATION;VALUE=URI;X-ADDRESS=The Wilson Center 67 College Ave Orono 04473;X-APPLE-RADIUS=500;X-TITLE=67 College Ave:geo:-68.6715764,44.8909436
END:VEVENT
BEGIN:VEVENT
DTSTART;TZID=America/New_York:20270117T100000
DTEND;TZID=America/New_York:20270117T130000
DTSTAMP:20260421T135248
CREATED:20250526T151350Z
LAST-MODIFIED:20250526T151350Z
UID:4547-1800180000-1800190800@umaine.edu
SUMMARY:Orono Friends Meeting
DESCRIPTION:Friends believe that there is that of God in everyone and that any person can tap into that Spirit and minister to others. At 10 AM Sundays come join us in mostly silent meditation as we each seek spiritual truths to share.
URL:https://umaine.edu/wilsoncenter/event/orono-friends-meeting/2027-01-17/
LOCATION:The Wilson Center\, 67 College Ave\, Orono\, 04473
GEO:44.8909436;-68.6715764
X-APPLE-STRUCTURED-LOCATION;VALUE=URI;X-ADDRESS=The Wilson Center 67 College Ave Orono 04473;X-APPLE-RADIUS=500;X-TITLE=67 College Ave:geo:-68.6715764,44.8909436
END:VEVENT
BEGIN:VEVENT
DTSTART;TZID=America/New_York:20270120T200000
DTEND;TZID=America/New_York:20270120T210000
DTSTAMP:20260421T135248
CREATED:20250505T150105Z
LAST-MODIFIED:20250505T150105Z
UID:5694-1800475200-1800478800@umaine.edu
SUMMARY:Ballroom Dancing with Robert Causey
DESCRIPTION:Join Wilson Center Friend Robert Causey for a free Ballroom Dance class and practice in the Wilson Center main space. Come learn various styles of Ballroom Dance. No experience or partner required!
URL:https://umaine.edu/wilsoncenter/event/ballroom-dancing-with-robert-causey-2025-11-26/2027-01-20/
LOCATION:The Wilson Center\, 67 College Ave\, Orono\, 04473
ATTACH;FMTTYPE=image/jpeg:https://umaine.edu/wilsoncenter/wp-content/uploads/sites/360/2025/05/Ballroom-Fall-2024.jpg
GEO:44.8909436;-68.6715764
X-APPLE-STRUCTURED-LOCATION;VALUE=URI;X-ADDRESS=The Wilson Center 67 College Ave Orono 04473;X-APPLE-RADIUS=500;X-TITLE=67 College Ave:geo:-68.6715764,44.8909436
END:VEVENT
BEGIN:VEVENT
DTSTART;TZID=America/New_York:20270124T100000
DTEND;TZID=America/New_York:20270124T130000
DTSTAMP:20260421T135248
CREATED:20250526T151350Z
LAST-MODIFIED:20250526T151350Z
UID:4548-1800784800-1800795600@umaine.edu
SUMMARY:Orono Friends Meeting
DESCRIPTION:Friends believe that there is that of God in everyone and that any person can tap into that Spirit and minister to others. At 10 AM Sundays come join us in mostly silent meditation as we each seek spiritual truths to share.
URL:https://umaine.edu/wilsoncenter/event/orono-friends-meeting/2027-01-24/
LOCATION:The Wilson Center\, 67 College Ave\, Orono\, 04473
GEO:44.8909436;-68.6715764
X-APPLE-STRUCTURED-LOCATION;VALUE=URI;X-ADDRESS=The Wilson Center 67 College Ave Orono 04473;X-APPLE-RADIUS=500;X-TITLE=67 College Ave:geo:-68.6715764,44.8909436
END:VEVENT
BEGIN:VEVENT
DTSTART;TZID=America/New_York:20270127T200000
DTEND;TZID=America/New_York:20270127T210000
DTSTAMP:20260421T135248
CREATED:20250505T150105Z
LAST-MODIFIED:20250505T150105Z
UID:5695-1801080000-1801083600@umaine.edu
SUMMARY:Ballroom Dancing with Robert Causey
DESCRIPTION:Join Wilson Center Friend Robert Causey for a free Ballroom Dance class and practice in the Wilson Center main space. Come learn various styles of Ballroom Dance. No experience or partner required!
URL:https://umaine.edu/wilsoncenter/event/ballroom-dancing-with-robert-causey-2025-11-26/2027-01-27/
LOCATION:The Wilson Center\, 67 College Ave\, Orono\, 04473
ATTACH;FMTTYPE=image/jpeg:https://umaine.edu/wilsoncenter/wp-content/uploads/sites/360/2025/05/Ballroom-Fall-2024.jpg
GEO:44.8909436;-68.6715764
X-APPLE-STRUCTURED-LOCATION;VALUE=URI;X-ADDRESS=The Wilson Center 67 College Ave Orono 04473;X-APPLE-RADIUS=500;X-TITLE=67 College Ave:geo:-68.6715764,44.8909436
END:VEVENT
BEGIN:VEVENT
DTSTART;TZID=America/New_York:20270131T100000
DTEND;TZID=America/New_York:20270131T130000
DTSTAMP:20260421T135248
CREATED:20250526T151350Z
LAST-MODIFIED:20250526T151350Z
UID:4549-1801389600-1801400400@umaine.edu
SUMMARY:Orono Friends Meeting
DESCRIPTION:Friends believe that there is that of God in everyone and that any person can tap into that Spirit and minister to others. At 10 AM Sundays come join us in mostly silent meditation as we each seek spiritual truths to share.
URL:https://umaine.edu/wilsoncenter/event/orono-friends-meeting/2027-01-31/
LOCATION:The Wilson Center\, 67 College Ave\, Orono\, 04473
GEO:44.8909436;-68.6715764
X-APPLE-STRUCTURED-LOCATION;VALUE=URI;X-ADDRESS=The Wilson Center 67 College Ave Orono 04473;X-APPLE-RADIUS=500;X-TITLE=67 College Ave:geo:-68.6715764,44.8909436
END:VEVENT
BEGIN:VEVENT
DTSTART;TZID=America/New_York:20270203T200000
DTEND;TZID=America/New_York:20270203T210000
DTSTAMP:20260421T135248
CREATED:20250505T150105Z
LAST-MODIFIED:20250505T150105Z
UID:5696-1801684800-1801688400@umaine.edu
SUMMARY:Ballroom Dancing with Robert Causey
DESCRIPTION:Join Wilson Center Friend Robert Causey for a free Ballroom Dance class and practice in the Wilson Center main space. Come learn various styles of Ballroom Dance. No experience or partner required!
URL:https://umaine.edu/wilsoncenter/event/ballroom-dancing-with-robert-causey-2025-11-26/2027-02-03/
LOCATION:The Wilson Center\, 67 College Ave\, Orono\, 04473
ATTACH;FMTTYPE=image/jpeg:https://umaine.edu/wilsoncenter/wp-content/uploads/sites/360/2025/05/Ballroom-Fall-2024.jpg
GEO:44.8909436;-68.6715764
X-APPLE-STRUCTURED-LOCATION;VALUE=URI;X-ADDRESS=The Wilson Center 67 College Ave Orono 04473;X-APPLE-RADIUS=500;X-TITLE=67 College Ave:geo:-68.6715764,44.8909436
END:VEVENT
BEGIN:VEVENT
DTSTART;TZID=America/New_York:20270207T100000
DTEND;TZID=America/New_York:20270207T130000
DTSTAMP:20260421T135248
CREATED:20250526T151350Z
LAST-MODIFIED:20250526T151350Z
UID:4550-1801994400-1802005200@umaine.edu
SUMMARY:Orono Friends Meeting
DESCRIPTION:Friends believe that there is that of God in everyone and that any person can tap into that Spirit and minister to others. At 10 AM Sundays come join us in mostly silent meditation as we each seek spiritual truths to share.
URL:https://umaine.edu/wilsoncenter/event/orono-friends-meeting/2027-02-07/
LOCATION:The Wilson Center\, 67 College Ave\, Orono\, 04473
GEO:44.8909436;-68.6715764
X-APPLE-STRUCTURED-LOCATION;VALUE=URI;X-ADDRESS=The Wilson Center 67 College Ave Orono 04473;X-APPLE-RADIUS=500;X-TITLE=67 College Ave:geo:-68.6715764,44.8909436
END:VEVENT
BEGIN:VEVENT
DTSTART;TZID=America/New_York:20270210T200000
DTEND;TZID=America/New_York:20270210T210000
DTSTAMP:20260421T135248
CREATED:20250505T150105Z
LAST-MODIFIED:20250505T150105Z
UID:5697-1802289600-1802293200@umaine.edu
SUMMARY:Ballroom Dancing with Robert Causey
DESCRIPTION:Join Wilson Center Friend Robert Causey for a free Ballroom Dance class and practice in the Wilson Center main space. Come learn various styles of Ballroom Dance. No experience or partner required!
URL:https://umaine.edu/wilsoncenter/event/ballroom-dancing-with-robert-causey-2025-11-26/2027-02-10/
LOCATION:The Wilson Center\, 67 College Ave\, Orono\, 04473
ATTACH;FMTTYPE=image/jpeg:https://umaine.edu/wilsoncenter/wp-content/uploads/sites/360/2025/05/Ballroom-Fall-2024.jpg
GEO:44.8909436;-68.6715764
X-APPLE-STRUCTURED-LOCATION;VALUE=URI;X-ADDRESS=The Wilson Center 67 College Ave Orono 04473;X-APPLE-RADIUS=500;X-TITLE=67 College Ave:geo:-68.6715764,44.8909436
END:VEVENT
BEGIN:VEVENT
DTSTART;TZID=America/New_York:20270213T180000
DTEND;TZID=America/New_York:20270213T200000
DTSTAMP:20260421T135248
CREATED:20250613T142006Z
LAST-MODIFIED:20250613T142006Z
UID:4640-1802541600-1802548800@umaine.edu
SUMMARY:Queer Hangout with Bangor Pride
DESCRIPTION:Queer Hangout with Bangor Pride every second Saturday from 6-8 PM
URL:https://umaine.edu/wilsoncenter/event/queer-hangout-with-bangor-pride/2027-02-13/
LOCATION:The Wilson Center\, 67 College Ave\, Orono\, 04473
ATTACH;FMTTYPE=image/jpeg:https://umaine.edu/wilsoncenter/wp-content/uploads/sites/360/2025/06/Queer-Hangout.jpg
GEO:44.8909436;-68.6715764
X-APPLE-STRUCTURED-LOCATION;VALUE=URI;X-ADDRESS=The Wilson Center 67 College Ave Orono 04473;X-APPLE-RADIUS=500;X-TITLE=67 College Ave:geo:-68.6715764,44.8909436
END:VEVENT
BEGIN:VEVENT
DTSTART;TZID=America/New_York:20270214T100000
DTEND;TZID=America/New_York:20270214T130000
DTSTAMP:20260421T135248
CREATED:20250526T151350Z
LAST-MODIFIED:20250526T151350Z
UID:4551-1802599200-1802610000@umaine.edu
SUMMARY:Orono Friends Meeting
DESCRIPTION:Friends believe that there is that of God in everyone and that any person can tap into that Spirit and minister to others. At 10 AM Sundays come join us in mostly silent meditation as we each seek spiritual truths to share.
URL:https://umaine.edu/wilsoncenter/event/orono-friends-meeting/2027-02-14/
LOCATION:The Wilson Center\, 67 College Ave\, Orono\, 04473
GEO:44.8909436;-68.6715764
X-APPLE-STRUCTURED-LOCATION;VALUE=URI;X-ADDRESS=The Wilson Center 67 College Ave Orono 04473;X-APPLE-RADIUS=500;X-TITLE=67 College Ave:geo:-68.6715764,44.8909436
END:VEVENT
BEGIN:VEVENT
DTSTART;TZID=America/New_York:20270217T200000
DTEND;TZID=America/New_York:20270217T210000
DTSTAMP:20260421T135248
CREATED:20250505T150105Z
LAST-MODIFIED:20250505T150105Z
UID:5698-1802894400-1802898000@umaine.edu
SUMMARY:Ballroom Dancing with Robert Causey
DESCRIPTION:Join Wilson Center Friend Robert Causey for a free Ballroom Dance class and practice in the Wilson Center main space. Come learn various styles of Ballroom Dance. No experience or partner required!
URL:https://umaine.edu/wilsoncenter/event/ballroom-dancing-with-robert-causey-2025-11-26/2027-02-17/
LOCATION:The Wilson Center\, 67 College Ave\, Orono\, 04473
ATTACH;FMTTYPE=image/jpeg:https://umaine.edu/wilsoncenter/wp-content/uploads/sites/360/2025/05/Ballroom-Fall-2024.jpg
GEO:44.8909436;-68.6715764
X-APPLE-STRUCTURED-LOCATION;VALUE=URI;X-ADDRESS=The Wilson Center 67 College Ave Orono 04473;X-APPLE-RADIUS=500;X-TITLE=67 College Ave:geo:-68.6715764,44.8909436
END:VEVENT
BEGIN:VEVENT
DTSTART;TZID=America/New_York:20270221T100000
DTEND;TZID=America/New_York:20270221T130000
DTSTAMP:20260421T135248
CREATED:20250526T151350Z
LAST-MODIFIED:20250526T151350Z
UID:4552-1803204000-1803214800@umaine.edu
SUMMARY:Orono Friends Meeting
DESCRIPTION:Friends believe that there is that of God in everyone and that any person can tap into that Spirit and minister to others. At 10 AM Sundays come join us in mostly silent meditation as we each seek spiritual truths to share.
URL:https://umaine.edu/wilsoncenter/event/orono-friends-meeting/2027-02-21/
LOCATION:The Wilson Center\, 67 College Ave\, Orono\, 04473
GEO:44.8909436;-68.6715764
X-APPLE-STRUCTURED-LOCATION;VALUE=URI;X-ADDRESS=The Wilson Center 67 College Ave Orono 04473;X-APPLE-RADIUS=500;X-TITLE=67 College Ave:geo:-68.6715764,44.8909436
END:VEVENT
BEGIN:VEVENT
DTSTART;TZID=America/New_York:20270224T200000
DTEND;TZID=America/New_York:20270224T210000
DTSTAMP:20260421T135248
CREATED:20250505T150105Z
LAST-MODIFIED:20250505T150105Z
UID:5699-1803499200-1803502800@umaine.edu
SUMMARY:Ballroom Dancing with Robert Causey
DESCRIPTION:Join Wilson Center Friend Robert Causey for a free Ballroom Dance class and practice in the Wilson Center main space. Come learn various styles of Ballroom Dance. No experience or partner required!
URL:https://umaine.edu/wilsoncenter/event/ballroom-dancing-with-robert-causey-2025-11-26/2027-02-24/
LOCATION:The Wilson Center\, 67 College Ave\, Orono\, 04473
ATTACH;FMTTYPE=image/jpeg:https://umaine.edu/wilsoncenter/wp-content/uploads/sites/360/2025/05/Ballroom-Fall-2024.jpg
GEO:44.8909436;-68.6715764
X-APPLE-STRUCTURED-LOCATION;VALUE=URI;X-ADDRESS=The Wilson Center 67 College Ave Orono 04473;X-APPLE-RADIUS=500;X-TITLE=67 College Ave:geo:-68.6715764,44.8909436
END:VEVENT
BEGIN:VEVENT
DTSTART;TZID=America/New_York:20270228T100000
DTEND;TZID=America/New_York:20270228T130000
DTSTAMP:20260421T135248
CREATED:20250526T151350Z
LAST-MODIFIED:20250526T151350Z
UID:4553-1803808800-1803819600@umaine.edu
SUMMARY:Orono Friends Meeting
DESCRIPTION:Friends believe that there is that of God in everyone and that any person can tap into that Spirit and minister to others. At 10 AM Sundays come join us in mostly silent meditation as we each seek spiritual truths to share.
URL:https://umaine.edu/wilsoncenter/event/orono-friends-meeting/2027-02-28/
LOCATION:The Wilson Center\, 67 College Ave\, Orono\, 04473
GEO:44.8909436;-68.6715764
X-APPLE-STRUCTURED-LOCATION;VALUE=URI;X-ADDRESS=The Wilson Center 67 College Ave Orono 04473;X-APPLE-RADIUS=500;X-TITLE=67 College Ave:geo:-68.6715764,44.8909436
END:VEVENT
BEGIN:VEVENT
DTSTART;TZID=America/New_York:20270303T200000
DTEND;TZID=America/New_York:20270303T210000
DTSTAMP:20260421T135248
CREATED:20250505T150105Z
LAST-MODIFIED:20250505T150105Z
UID:5700-1804104000-1804107600@umaine.edu
SUMMARY:Ballroom Dancing with Robert Causey
DESCRIPTION:Join Wilson Center Friend Robert Causey for a free Ballroom Dance class and practice in the Wilson Center main space. Come learn various styles of Ballroom Dance. No experience or partner required!
URL:https://umaine.edu/wilsoncenter/event/ballroom-dancing-with-robert-causey-2025-11-26/2027-03-03/
LOCATION:The Wilson Center\, 67 College Ave\, Orono\, 04473
ATTACH;FMTTYPE=image/jpeg:https://umaine.edu/wilsoncenter/wp-content/uploads/sites/360/2025/05/Ballroom-Fall-2024.jpg
GEO:44.8909436;-68.6715764
X-APPLE-STRUCTURED-LOCATION;VALUE=URI;X-ADDRESS=The Wilson Center 67 College Ave Orono 04473;X-APPLE-RADIUS=500;X-TITLE=67 College Ave:geo:-68.6715764,44.8909436
END:VEVENT
BEGIN:VEVENT
DTSTART;TZID=America/New_York:20270307T100000
DTEND;TZID=America/New_York:20270307T130000
DTSTAMP:20260421T135248
CREATED:20250526T151350Z
LAST-MODIFIED:20250526T151350Z
UID:4554-1804413600-1804424400@umaine.edu
SUMMARY:Orono Friends Meeting
DESCRIPTION:Friends believe that there is that of God in everyone and that any person can tap into that Spirit and minister to others. At 10 AM Sundays come join us in mostly silent meditation as we each seek spiritual truths to share.
URL:https://umaine.edu/wilsoncenter/event/orono-friends-meeting/2027-03-07/
LOCATION:The Wilson Center\, 67 College Ave\, Orono\, 04473
GEO:44.8909436;-68.6715764
X-APPLE-STRUCTURED-LOCATION;VALUE=URI;X-ADDRESS=The Wilson Center 67 College Ave Orono 04473;X-APPLE-RADIUS=500;X-TITLE=67 College Ave:geo:-68.6715764,44.8909436
END:VEVENT
BEGIN:VEVENT
DTSTART;TZID=America/New_York:20270310T200000
DTEND;TZID=America/New_York:20270310T210000
DTSTAMP:20260421T135248
CREATED:20250505T150105Z
LAST-MODIFIED:20250505T150105Z
UID:5701-1804708800-1804712400@umaine.edu
SUMMARY:Ballroom Dancing with Robert Causey
DESCRIPTION:Join Wilson Center Friend Robert Causey for a free Ballroom Dance class and practice in the Wilson Center main space. Come learn various styles of Ballroom Dance. No experience or partner required!
URL:https://umaine.edu/wilsoncenter/event/ballroom-dancing-with-robert-causey-2025-11-26/2027-03-10/
LOCATION:The Wilson Center\, 67 College Ave\, Orono\, 04473
ATTACH;FMTTYPE=image/jpeg:https://umaine.edu/wilsoncenter/wp-content/uploads/sites/360/2025/05/Ballroom-Fall-2024.jpg
GEO:44.8909436;-68.6715764
X-APPLE-STRUCTURED-LOCATION;VALUE=URI;X-ADDRESS=The Wilson Center 67 College Ave Orono 04473;X-APPLE-RADIUS=500;X-TITLE=67 College Ave:geo:-68.6715764,44.8909436
END:VEVENT
BEGIN:VEVENT
DTSTART;TZID=America/New_York:20270313T180000
DTEND;TZID=America/New_York:20270313T200000
DTSTAMP:20260421T135248
CREATED:20250613T142006Z
LAST-MODIFIED:20250613T142006Z
UID:4641-1804960800-1804968000@umaine.edu
SUMMARY:Queer Hangout with Bangor Pride
DESCRIPTION:Queer Hangout with Bangor Pride every second Saturday from 6-8 PM
URL:https://umaine.edu/wilsoncenter/event/queer-hangout-with-bangor-pride/2027-03-13/
LOCATION:The Wilson Center\, 67 College Ave\, Orono\, 04473
ATTACH;FMTTYPE=image/jpeg:https://umaine.edu/wilsoncenter/wp-content/uploads/sites/360/2025/06/Queer-Hangout.jpg
GEO:44.8909436;-68.6715764
X-APPLE-STRUCTURED-LOCATION;VALUE=URI;X-ADDRESS=The Wilson Center 67 College Ave Orono 04473;X-APPLE-RADIUS=500;X-TITLE=67 College Ave:geo:-68.6715764,44.8909436
END:VEVENT
BEGIN:VEVENT
DTSTART;TZID=America/New_York:20270314T100000
DTEND;TZID=America/New_York:20270314T130000
DTSTAMP:20260421T135248
CREATED:20250526T151350Z
LAST-MODIFIED:20250526T151350Z
UID:4555-1805018400-1805029200@umaine.edu
SUMMARY:Orono Friends Meeting
DESCRIPTION:Friends believe that there is that of God in everyone and that any person can tap into that Spirit and minister to others. At 10 AM Sundays come join us in mostly silent meditation as we each seek spiritual truths to share.
URL:https://umaine.edu/wilsoncenter/event/orono-friends-meeting/2027-03-14/
LOCATION:The Wilson Center\, 67 College Ave\, Orono\, 04473
GEO:44.8909436;-68.6715764
X-APPLE-STRUCTURED-LOCATION;VALUE=URI;X-ADDRESS=The Wilson Center 67 College Ave Orono 04473;X-APPLE-RADIUS=500;X-TITLE=67 College Ave:geo:-68.6715764,44.8909436
END:VEVENT
END:VCALENDAR