BEGIN:VCALENDAR
VERSION:2.0
PRODID:-//Education Abroad - ECPv6.15.17.1//NONSGML v1.0//EN
CALSCALE:GREGORIAN
METHOD:PUBLISH
X-ORIGINAL-URL:https://umaine.edu/studyabroad
X-WR-CALDESC:Events for Education Abroad
REFRESH-INTERVAL;VALUE=DURATION:PT1H
X-Robots-Tag:noindex
X-PUBLISHED-TTL:PT1H
BEGIN:VTIMEZONE
TZID:America/New_York
BEGIN:DAYLIGHT
TZOFFSETFROM:-0500
TZOFFSETTO:-0400
TZNAME:EDT
DTSTART:20220313T070000
END:DAYLIGHT
BEGIN:STANDARD
TZOFFSETFROM:-0400
TZOFFSETTO:-0500
TZNAME:EST
DTSTART:20221106T060000
END:STANDARD
BEGIN:DAYLIGHT
TZOFFSETFROM:-0500
TZOFFSETTO:-0400
TZNAME:EDT
DTSTART:20230312T070000
END:DAYLIGHT
BEGIN:STANDARD
TZOFFSETFROM:-0400
TZOFFSETTO:-0500
TZNAME:EST
DTSTART:20231105T060000
END:STANDARD
BEGIN:DAYLIGHT
TZOFFSETFROM:-0500
TZOFFSETTO:-0400
TZNAME:EDT
DTSTART:20240310T070000
END:DAYLIGHT
BEGIN:STANDARD
TZOFFSETFROM:-0400
TZOFFSETTO:-0500
TZNAME:EST
DTSTART:20241103T060000
END:STANDARD
BEGIN:DAYLIGHT
TZOFFSETFROM:-0500
TZOFFSETTO:-0400
TZNAME:EDT
DTSTART:20250309T070000
END:DAYLIGHT
BEGIN:STANDARD
TZOFFSETFROM:-0400
TZOFFSETTO:-0500
TZNAME:EST
DTSTART:20251102T060000
END:STANDARD
END:VTIMEZONE
BEGIN:VEVENT
DTSTART;VALUE=DATE:20240430
DTEND;VALUE=DATE:20240501
DTSTAMP:20260421T135859
CREATED:20220511T124645Z
LAST-MODIFIED:20230526T195155Z
UID:10000052-1714435200-1714521599@umaine.edu
SUMMARY:ALL Enrollment Forms Due for Fall\, Academic Year\, and Summer 2024 Programs
DESCRIPTION:All students approved for study abroad programs in Fall\, Academic Year\, and Summer 2024 must complete their “enrollment forms” by this date. These are located under their application in AbroadOffice. Issues with billing and financial aid disbursement may arise if these forms are submitted late.
URL:https://umaine.edu/studyabroad/event/all-enrollment-forms-due-for-sp-2023/
CATEGORIES:Forms,Study Abroad
END:VEVENT
BEGIN:VEVENT
DTSTART;VALUE=DATE:20231130
DTEND;VALUE=DATE:20231201
DTSTAMP:20260421T135859
CREATED:20220511T125843Z
LAST-MODIFIED:20230526T195219Z
UID:10000094-1701302400-1701388799@umaine.edu
SUMMARY:ALL Enrollment Forms Due for January and Spring 2024 Programs
DESCRIPTION:All students approved for study abroad programs in Spring and January 2024 must complete their “enrollment forms” by this date. These are located under their application in AbroadOffice. Issues with billing and financial aid disbursement may arise if these forms are submitted late.
URL:https://umaine.edu/studyabroad/event/all-enrollment-forms-due/
CATEGORIES:Forms,Study Abroad
END:VEVENT
BEGIN:VEVENT
DTSTART;VALUE=DATE:20231022
DTEND;VALUE=DATE:20231023
DTSTAMP:20260421T135859
CREATED:20230526T192455Z
LAST-MODIFIED:20230526T192455Z
UID:10000076-1697932800-1698019199@umaine.edu
SUMMARY:Deadline for Study Abroad Applications - January and Spring 2024 programs
DESCRIPTION:UMaine applications to study abroad must be completed in AbroadOffice by this date. Applications will not be approved if you have not had an appointment with a study abroad advisor.
URL:https://umaine.edu/studyabroad/event/deadline-for-study-abroad-applications-january-and-spring-2024-programs/
CATEGORIES:Forms,Study Abroad
END:VEVENT
BEGIN:VEVENT
DTSTART;VALUE=DATE:20230310
DTEND;VALUE=DATE:20230311
DTSTAMP:20260421T135859
CREATED:20220511T125625Z
LAST-MODIFIED:20230221T162454Z
UID:10000090-1678406400-1678492799@umaine.edu
SUMMARY:ALL Fall\, Academic Year\, and Summer Applications Due
DESCRIPTION:This includes both Direct Exchange and Recommended Provider programs.
URL:https://umaine.edu/studyabroad/event/recommended-program-fall-ay-applications-due/
CATEGORIES:Forms,Study Abroad
END:VEVENT
END:VCALENDAR