BEGIN:VCALENDAR
VERSION:2.0
PRODID:-//Religious Studies - ECPv6.15.17.1//NONSGML v1.0//EN
CALSCALE:GREGORIAN
METHOD:PUBLISH
X-ORIGINAL-URL:https://umaine.edu/religious-studies
X-WR-CALDESC:Events for Religious Studies
REFRESH-INTERVAL;VALUE=DURATION:PT1H
X-Robots-Tag:noindex
X-PUBLISHED-TTL:PT1H
BEGIN:VTIMEZONE
TZID:UTC
BEGIN:STANDARD
TZOFFSETFROM:+0000
TZOFFSETTO:+0000
TZNAME:UTC
DTSTART:20260101T000000
END:STANDARD
END:VTIMEZONE
BEGIN:VTIMEZONE
TZID:America/New_York
BEGIN:DAYLIGHT
TZOFFSETFROM:-0500
TZOFFSETTO:-0400
TZNAME:EDT
DTSTART:20260308T070000
END:DAYLIGHT
BEGIN:STANDARD
TZOFFSETFROM:-0400
TZOFFSETTO:-0500
TZNAME:EST
DTSTART:20261101T060000
END:STANDARD
BEGIN:DAYLIGHT
TZOFFSETFROM:-0500
TZOFFSETTO:-0400
TZNAME:EDT
DTSTART:20270314T070000
END:DAYLIGHT
BEGIN:STANDARD
TZOFFSETFROM:-0400
TZOFFSETTO:-0500
TZNAME:EST
DTSTART:20271107T060000
END:STANDARD
BEGIN:DAYLIGHT
TZOFFSETFROM:-0500
TZOFFSETTO:-0400
TZNAME:EDT
DTSTART:20280312T070000
END:DAYLIGHT
BEGIN:STANDARD
TZOFFSETFROM:-0400
TZOFFSETTO:-0500
TZNAME:EST
DTSTART:20281105T060000
END:STANDARD
END:VTIMEZONE
BEGIN:VEVENT
DTSTART;VALUE=DATE:20270423
DTEND;VALUE=DATE:20270424
DTSTAMP:20260421T143518
CREATED:20250701T205238Z
LAST-MODIFIED:20250701T205238Z
UID:2206-1808438400-1808524799@umaine.edu
SUMMARY:🫓 Pesach II
DESCRIPTION:Passover\, the Feast of Unleavened Bread. Also called Chag HaMatzot (the Festival of Matzah)\, it commemorates the Exodus and freedom of the Israelites from ancient Egypt\nTorah: Leviticus 22:26-23:44; Numbers 28:16-25\nHaftarah: II Kings 23:1-9\, 23:21-25\nhttps://hebcal.com/h/pesach-2027?uc=ical-diaspora-2027
URL:https://umaine.edu/religious-studies/event/%f0%9f%ab%93-pesach-ii-2/
CATEGORIES:Holiday,Holidays
END:VEVENT
BEGIN:VEVENT
DTSTART;VALUE=DATE:20270424
DTEND;VALUE=DATE:20270425
DTSTAMP:20260421T143518
CREATED:20250701T205238Z
LAST-MODIFIED:20250701T205238Z
UID:2207-1808524800-1808611199@umaine.edu
SUMMARY:🫓 Pesach III (CH’’M)
DESCRIPTION:Passover\, the Feast of Unleavened Bread. Also called Chag HaMatzot (the Festival of Matzah)\, it commemorates the Exodus and freedom of the Israelites from ancient Egypt\nTorah: Exodus 33:12-34:26; Numbers 28:19-25; Song of Songs 1:1-8:14\nHaftarah: Ezekiel 37:1-14\nhttps://hebcal.com/h/pesach-2027?uc=ical-diaspora-2027
URL:https://umaine.edu/religious-studies/event/%f0%9f%ab%93-pesach-iii-chm-2/
CATEGORIES:Holiday,Holidays
END:VEVENT
BEGIN:VEVENT
DTSTART;VALUE=DATE:20270425
DTEND;VALUE=DATE:20270426
DTSTAMP:20260421T143518
CREATED:20250604T223939Z
LAST-MODIFIED:20250702T153649Z
UID:1542-1808611200-1808697599@umaine.edu
SUMMARY:Palm Sunday (OC)
DESCRIPTION:Feast commemorates Jesus’ triumphal entry into Jerusalem (Orthodox date)
URL:https://umaine.edu/religious-studies/event/palm-sunday-oc-2/
CATEGORIES:Holiday,Holidays
END:VEVENT
BEGIN:VEVENT
DTSTART;VALUE=DATE:20270425
DTEND;VALUE=DATE:20270426
DTSTAMP:20260421T143518
CREATED:20250701T205238Z
LAST-MODIFIED:20250701T205238Z
UID:2208-1808611200-1808697599@umaine.edu
SUMMARY:🫓 Pesach IV (CH’’M)
DESCRIPTION:Passover\, the Feast of Unleavened Bread. Also called Chag HaMatzot (the Festival of Matzah)\, it commemorates the Exodus and freedom of the Israelites from ancient Egypt\nTorah: Exodus 13:1-16; Numbers 28:19-25\nhttps://hebcal.com/h/pesach-2027?uc=ical-diaspora-2027
URL:https://umaine.edu/religious-studies/event/%f0%9f%ab%93-pesach-iv-chm-2/
CATEGORIES:Holiday,Holidays
END:VEVENT
BEGIN:VEVENT
DTSTART;VALUE=DATE:20270426
DTEND;VALUE=DATE:20270427
DTSTAMP:20260421T143518
CREATED:20250701T205238Z
LAST-MODIFIED:20250701T205238Z
UID:2209-1808697600-1808783999@umaine.edu
SUMMARY:🫓 Pesach V (CH’’M)
DESCRIPTION:Passover\, the Feast of Unleavened Bread. Also called Chag HaMatzot (the Festival of Matzah)\, it commemorates the Exodus and freedom of the Israelites from ancient Egypt\nTorah: Exodus 22:24-23:19; Numbers 28:19-25\nhttps://hebcal.com/h/pesach-2027?uc=ical-diaspora-2027
URL:https://umaine.edu/religious-studies/event/%f0%9f%ab%93-pesach-v-chm-2/
CATEGORIES:Holiday,Holidays
END:VEVENT
BEGIN:VEVENT
DTSTART;VALUE=DATE:20270427
DTEND;VALUE=DATE:20270428
DTSTAMP:20260421T143518
CREATED:20250701T205238Z
LAST-MODIFIED:20250701T205238Z
UID:2210-1808784000-1808870399@umaine.edu
SUMMARY:🫓 Pesach VI (CH’’M)
DESCRIPTION:Passover\, the Feast of Unleavened Bread. Also called Chag HaMatzot (the Festival of Matzah)\, it commemorates the Exodus and freedom of the Israelites from ancient Egypt\nTorah: Numbers 9:1-14\, 28:19-25\nhttps://hebcal.com/h/pesach-2027?uc=ical-diaspora-2027
URL:https://umaine.edu/religious-studies/event/%f0%9f%ab%93-pesach-vi-chm-2/
CATEGORIES:Holiday,Holidays
END:VEVENT
BEGIN:VEVENT
DTSTART;VALUE=DATE:20270428
DTEND;VALUE=DATE:20270429
DTSTAMP:20260421T143518
CREATED:20250701T205239Z
LAST-MODIFIED:20250701T205239Z
UID:2211-1808870400-1808956799@umaine.edu
SUMMARY:🫓 Pesach VII
DESCRIPTION:Passover\, the Feast of Unleavened Bread. Also called Chag HaMatzot (the Festival of Matzah)\, it commemorates the Exodus and freedom of the Israelites from ancient Egypt\nTorah: Exodus 13:17-15:26; Numbers 28:19-25\nHaftarah: II Samuel 22:1-51\nhttps://hebcal.com/h/pesach-2027?uc=ical-diaspora-2027
URL:https://umaine.edu/religious-studies/event/%f0%9f%ab%93-pesach-vii-2/
CATEGORIES:Holiday,Holidays
END:VEVENT
BEGIN:VEVENT
DTSTART;VALUE=DATE:20270429
DTEND;VALUE=DATE:20270430
DTSTAMP:20260421T143518
CREATED:20250701T205239Z
LAST-MODIFIED:20250701T205239Z
UID:2212-1808956800-1809043199@umaine.edu
SUMMARY:🫓 Pesach VIII
DESCRIPTION:Passover\, the Feast of Unleavened Bread. Also called Chag HaMatzot (the Festival of Matzah)\, it commemorates the Exodus and freedom of the Israelites from ancient Egypt\nTorah: Deuteronomy 15:19-16:17; Numbers 28:19-25\nHaftarah: Isaiah 10:32-12:6\nhttps://hebcal.com/h/pesach-2027?uc=ical-diaspora-2027
URL:https://umaine.edu/religious-studies/event/%f0%9f%ab%93-pesach-viii-2/
CATEGORIES:Holiday,Holidays
END:VEVENT
BEGIN:VEVENT
DTSTART;VALUE=DATE:20270430
DTEND;VALUE=DATE:20270501
DTSTAMP:20260421T143518
CREATED:20250604T223939Z
LAST-MODIFIED:20250702T153649Z
UID:1545-1809043200-1809129599@umaine.edu
SUMMARY:Great Friday (OC)
DESCRIPTION:Commemorating the crucifixion of Jesus Christ on the cross (Orthodox date)
URL:https://umaine.edu/religious-studies/event/great-friday-oc-2/
CATEGORIES:Holiday,Holidays
END:VEVENT
BEGIN:VEVENT
DTSTART;VALUE=DATE:20270501
DTEND;VALUE=DATE:20270502
DTSTAMP:20260421T143518
CREATED:20250604T223939Z
LAST-MODIFIED:20250702T153649Z
UID:1543-1809129600-1809215999@umaine.edu
SUMMARY:Beltane (Pagan\, Wiccan)
DESCRIPTION:Honors life and fertility
URL:https://umaine.edu/religious-studies/event/beltane-pagan-wiccan-4/
CATEGORIES:Holiday,Holidays
END:VEVENT
BEGIN:VEVENT
DTSTART;TZID=America/New_York:20270501T000000
DTEND;TZID=America/New_York:20270501T235959
DTSTAMP:20260421T143518
CREATED:20220817T192535Z
LAST-MODIFIED:20220817T192535Z
UID:1393-1809129600-1809215999@umaine.edu
SUMMARY:Beltane (Pagan\, Wiccan)
DESCRIPTION:
URL:https://umaine.edu/religious-studies/event/beltane-pagan-wiccan/2027-05-01/
CATEGORIES:Holidays
END:VEVENT
BEGIN:VEVENT
DTSTART;VALUE=DATE:20270502
DTEND;VALUE=DATE:20270503
DTSTAMP:20260421T143518
CREATED:20250604T223939Z
LAST-MODIFIED:20250702T153649Z
UID:1547-1809216000-1809302399@umaine.edu
SUMMARY:Pascha (OC)
DESCRIPTION:Celebration of the Resurrection of Jesus Christ from the dead
URL:https://umaine.edu/religious-studies/event/pascha-oc-2/
CATEGORIES:Holiday,Holidays
END:VEVENT
BEGIN:VEVENT
DTSTART;VALUE=DATE:20270504
DTEND;VALUE=DATE:20270505
DTSTAMP:20260421T143518
CREATED:20250604T223939Z
LAST-MODIFIED:20250702T153650Z
UID:1548-1809388800-1809475199@umaine.edu
SUMMARY:Yom Ha'Shoah (Ju)
DESCRIPTION:Holocaust Memorial Day
URL:https://umaine.edu/religious-studies/event/yom-hashoah-ju-2/
CATEGORIES:Holiday,Holidays
END:VEVENT
BEGIN:VEVENT
DTSTART;VALUE=DATE:20270504
DTEND;VALUE=DATE:20270505
DTSTAMP:20260421T143518
CREATED:20250701T205239Z
LAST-MODIFIED:20250701T205239Z
UID:2213-1809388800-1809475199@umaine.edu
SUMMARY:✡️ Yom HaShoah
DESCRIPTION:Holocaust Memorial Day\nhttps://hebcal.com/h/yom-hashoah-2027?uc=ical-diaspora-2027
URL:https://umaine.edu/religious-studies/event/%e2%9c%a1%ef%b8%8f-yom-hashoah-2/
CATEGORIES:Holiday,Holidays
END:VEVENT
BEGIN:VEVENT
DTSTART;VALUE=DATE:20270506
DTEND;VALUE=DATE:20270507
DTSTAMP:20260421T143518
CREATED:20250604T223939Z
LAST-MODIFIED:20250702T153650Z
UID:1549-1809561600-1809647999@umaine.edu
SUMMARY:Ascension Day (C)
DESCRIPTION:Celebrates the departure of Christ from Earth into the presence of God.
URL:https://umaine.edu/religious-studies/event/ascension-day-c-2/
CATEGORIES:Holiday,Holidays
END:VEVENT
BEGIN:VEVENT
DTSTART;VALUE=DATE:20270507
DTEND;VALUE=DATE:20270508
DTSTAMP:20260421T143518
CREATED:20250701T205239Z
LAST-MODIFIED:20250701T205239Z
UID:2215-1809648000-1809734399@umaine.edu
SUMMARY:🌒 Rosh Chodesh Iyyar
DESCRIPTION:Start of month of Iyyar on the Hebrew calendar. אִיָיר (transliterated Iyyar or Iyar) is the 8th month of the civil Hebrew year (9th on leap years) and the 2nd month of the biblical Hebrew year. It has 29 days and corresponds to April or May on the Gregorian calendar. רֹאשׁ חוֹדֶשׁ\, transliterated Rosh Chodesh or Rosh Hodesh\, is a minor holiday that occurs at the beginning of every month in the Hebrew calendar. It is marked by the birth of a new moon\nTorah: Numbers 28:1-15\nhttps://hebcal.com/h/rosh-chodesh-iyyar-2027?uc=ical-diaspora-2027
URL:https://umaine.edu/religious-studies/event/%f0%9f%8c%92-rosh-chodesh-iyyar-2/
CATEGORIES:Holiday,Holidays
END:VEVENT
BEGIN:VEVENT
DTSTART;VALUE=DATE:20270508
DTEND;VALUE=DATE:20270509
DTSTAMP:20260421T143518
CREATED:20250701T205239Z
LAST-MODIFIED:20250701T205239Z
UID:2214-1809734400-1809820799@umaine.edu
SUMMARY:🌒 Rosh Chodesh Iyyar
DESCRIPTION:Start of month of Iyyar on the Hebrew calendar. אִיָיר (transliterated Iyyar or Iyar) is the 8th month of the civil Hebrew year (9th on leap years) and the 2nd month of the biblical Hebrew year. It has 29 days and corresponds to April or May on the Gregorian calendar. רֹאשׁ חוֹדֶשׁ\, transliterated Rosh Chodesh or Rosh Hodesh\, is a minor holiday that occurs at the beginning of every month in the Hebrew calendar. It is marked by the birth of a new moon\nHaftarah: Isaiah 66:1-24\nhttps://hebcal.com/h/rosh-chodesh-iyyar-2027?uc=ical-diaspora-2027
URL:https://umaine.edu/religious-studies/event/%f0%9f%8c%92-rosh-chodesh-iyyar/
CATEGORIES:Holiday,Holidays
END:VEVENT
BEGIN:VEVENT
DTSTART;VALUE=DATE:20270511
DTEND;VALUE=DATE:20270512
DTSTAMP:20260421T143518
CREATED:20250701T205239Z
LAST-MODIFIED:20250701T205239Z
UID:2216-1809993600-1810079999@umaine.edu
SUMMARY:🇮🇱 Yom HaZikaron
DESCRIPTION:Israeli Memorial Day. Remembers those who died in the War of Independence and other wars in Israel. The full name of the holiday is Yom HaZikaron LeHalalei Ma’arakhot Yisrael ul’Nifge’ei Pe’ulot HaEivah (Hebrew: יוֹם הזִּכָּרוֹן לְחַלְלֵי מַעֲרָכוֹת יִשְׂרָאֵל וּלְנִפְגְעֵי פְּעֻלּוֹת הָאֵיבָה)\, Memorial Day for the Fallen Soldiers of the Wars of Israel and Victims of Actions of Terrorism. Although Yom Hazikaron is normally observed on the 4th of Iyyar\, it may be moved earlier or postponed if observance of the holiday (or Yom HaAtzma’ut\, which always follows it) would conflict with Shabbat\nhttps://hebcal.com/h/yom-hazikaron-2027?uc=ical-diaspora-2027
URL:https://umaine.edu/religious-studies/event/%f0%9f%87%ae%f0%9f%87%b1-yom-hazikaron-2/
CATEGORIES:Holiday,Holidays
END:VEVENT
BEGIN:VEVENT
DTSTART;VALUE=DATE:20270512
DTEND;VALUE=DATE:20270513
DTSTAMP:20260421T143518
CREATED:20250701T205239Z
LAST-MODIFIED:20250701T205239Z
UID:2217-1810080000-1810166399@umaine.edu
SUMMARY:🇮🇱 Yom HaAtzma’ut
DESCRIPTION:Israeli Independence Day. Commemorates the declaration of independence of Israel in 1948. Although Yom HaAtzma’ut is normally observed on the 5th of Iyyar\, it may be moved earlier or postponed if observance of the holiday (or Yom HaZikaron\, which always precedes it) would conflict with Shabbat\nhttps://hebcal.com/h/yom-haatzmaut-2027?uc=ical-diaspora-2027
URL:https://umaine.edu/religious-studies/event/%f0%9f%87%ae%f0%9f%87%b1-yom-haatzmaut-2/
CATEGORIES:Holiday,Holidays
END:VEVENT
BEGIN:VEVENT
DTSTART;VALUE=DATE:20270516
DTEND;VALUE=DATE:20270517
DTSTAMP:20260421T143518
CREATED:20250604T223939Z
LAST-MODIFIED:20250702T153650Z
UID:1550-1810425600-1810511999@umaine.edu
SUMMARY:Pentecost (C)
DESCRIPTION:Celebrates the descent of the Holy Spirit on the disciples of Jesus after his Ascension
URL:https://umaine.edu/religious-studies/event/pentecost-c-2/
CATEGORIES:Holiday,Holidays
END:VEVENT
BEGIN:VEVENT
DTSTART;VALUE=DATE:20270520
DTEND;VALUE=DATE:20270521
DTSTAMP:20260421T143518
CREATED:20250604T223939Z
LAST-MODIFIED:20250702T153707Z
UID:1551-1810771200-1810857599@umaine.edu
SUMMARY:Vesak (Bu)
DESCRIPTION:The festival commemorates the birth\, enlightenment\, and death of Gautama Buddha in Theravada\, Tibetan Buddhism and Navayana.
URL:https://umaine.edu/religious-studies/event/vesak-bu-2/
CATEGORIES:Holiday,Holidays
END:VEVENT
BEGIN:VEVENT
DTSTART;VALUE=DATE:20270521
DTEND;VALUE=DATE:20270522
DTSTAMP:20260421T143518
CREATED:20250701T205239Z
LAST-MODIFIED:20250701T205239Z
UID:2218-1810857600-1810943999@umaine.edu
SUMMARY:✡️ Pesach Sheni
DESCRIPTION:Second Passover\, one month after Passover\nhttps://hebcal.com/h/pesach-sheni-2027?uc=ical-diaspora-2027
URL:https://umaine.edu/religious-studies/event/%e2%9c%a1%ef%b8%8f-pesach-sheni-2/
CATEGORIES:Holiday,Holidays
END:VEVENT
BEGIN:VEVENT
DTSTART;VALUE=DATE:20270524
DTEND;VALUE=DATE:20270525
DTSTAMP:20260421T143518
CREATED:20250604T223939Z
LAST-MODIFIED:20250702T153707Z
UID:1552-1811116800-1811203199@umaine.edu
SUMMARY:Declaration of the Báb* (Ba)
DESCRIPTION:Commemorates declaration of the Báb\, the forerunner of Bahá’u’lláh the founder of the Bahá’í Faith
URL:https://umaine.edu/religious-studies/event/declaration-of-the-bab-ba-2/
CATEGORIES:Holiday,Holidays
END:VEVENT
BEGIN:VEVENT
DTSTART;VALUE=DATE:20270525
DTEND;VALUE=DATE:20270526
DTSTAMP:20260421T143518
CREATED:20250701T205239Z
LAST-MODIFIED:20250701T205239Z
UID:2219-1811203200-1811289599@umaine.edu
SUMMARY:🔥 Lag BaOmer
DESCRIPTION:33rd day of counting the Omer. The holiday is a temporary break from the semi-mourning period the counting of the Omer. Practices include lighting bonfires\, getting haircuts\, and Jewish weddings\nhttps://hebcal.com/h/lag-baomer-2027?uc=ical-diaspora-2027
URL:https://umaine.edu/religious-studies/event/%f0%9f%94%a5-lag-baomer-2/
CATEGORIES:Holiday,Holidays
END:VEVENT
BEGIN:VEVENT
DTSTART;VALUE=DATE:20270529
DTEND;VALUE=DATE:20270530
DTSTAMP:20260421T143518
CREATED:20250604T223939Z
LAST-MODIFIED:20250702T153708Z
UID:1553-1811548800-1811635199@umaine.edu
SUMMARY:Ascension of Bahá'u'lláh* (Ba)
DESCRIPTION:This Bahá’í holiday commemorates the anniversary of the death of the founder of the Bahá’í faith\, Bahá’u’lláh\, and his teachings.
URL:https://umaine.edu/religious-studies/event/ascension-of-bahaullah-ba-2/
CATEGORIES:Holiday,Holidays
END:VEVENT
BEGIN:VEVENT
DTSTART;VALUE=DATE:20270604
DTEND;VALUE=DATE:20270605
DTSTAMP:20260421T143518
CREATED:20250701T205240Z
LAST-MODIFIED:20250701T205240Z
UID:2220-1812067200-1812153599@umaine.edu
SUMMARY:🇮🇱 Yom Yerushalayim
DESCRIPTION:Jerusalem Day. Commemorates the re-unification of Jerusalem in 1967\nhttps://hebcal.com/h/yom-yerushalayim-2027?uc=ical-diaspora-2027
URL:https://umaine.edu/religious-studies/event/%f0%9f%87%ae%f0%9f%87%b1-yom-yerushalayim-2/
CATEGORIES:Holiday,Holidays
END:VEVENT
BEGIN:VEVENT
DTSTART;VALUE=DATE:20270606
DTEND;VALUE=DATE:20270607
DTSTAMP:20260421T143518
CREATED:20250701T205240Z
LAST-MODIFIED:20250701T205240Z
UID:2221-1812240000-1812326399@umaine.edu
SUMMARY:🌒 Rosh Chodesh Sivan
DESCRIPTION:Start of month of Sivan on the Hebrew calendar. Sivan (סִיוָן) is the 9th month of the civil Hebrew year (10th on leap years) and the 3rd month of the biblical Hebrew year. It has 30 days and corresponds to May or June on the Gregorian calendar. רֹאשׁ חוֹדֶשׁ\, transliterated Rosh Chodesh or Rosh Hodesh\, is a minor holiday that occurs at the beginning of every month in the Hebrew calendar. It is marked by the birth of a new moon\nTorah: Numbers 28:1-15\nhttps://hebcal.com/h/rosh-chodesh-sivan-2027?uc=ical-diaspora-2027
URL:https://umaine.edu/religious-studies/event/%f0%9f%8c%92-rosh-chodesh-sivan/
CATEGORIES:Holiday,Holidays
END:VEVENT
BEGIN:VEVENT
DTSTART;VALUE=DATE:20270610
DTEND;VALUE=DATE:20270611
DTSTAMP:20260421T143518
CREATED:20250701T205240Z
LAST-MODIFIED:20250701T205240Z
UID:2222-1812585600-1812671999@umaine.edu
SUMMARY:⛰️🌸 Erev Shavuot
DESCRIPTION:Festival of Weeks. Commemorates the giving of the Torah at Mount Sinai\nhttps://hebcal.com/h/shavuot-2027?uc=ical-diaspora-2027
URL:https://umaine.edu/religious-studies/event/%e2%9b%b0%ef%b8%8f%f0%9f%8c%b8-erev-shavuot-2/
CATEGORIES:Holiday,Holidays
END:VEVENT
BEGIN:VEVENT
DTSTART;VALUE=DATE:20270611
DTEND;VALUE=DATE:20270612
DTSTAMP:20260421T143518
CREATED:20250701T205240Z
LAST-MODIFIED:20250701T205240Z
UID:2223-1812672000-1812758399@umaine.edu
SUMMARY:⛰️🌸 Shavuot I
DESCRIPTION:Festival of Weeks. Commemorates the giving of the Torah at Mount Sinai\nTorah: Exodus 19:1-20:23; Numbers 28:26-31\nHaftarah: Ezekiel 1:1-28\, 3:12\nhttps://hebcal.com/h/shavuot-2027?uc=ical-diaspora-2027
URL:https://umaine.edu/religious-studies/event/%e2%9b%b0%ef%b8%8f%f0%9f%8c%b8-shavuot-i-2/
CATEGORIES:Holiday,Holidays
END:VEVENT
BEGIN:VEVENT
DTSTART;VALUE=DATE:20270612
DTEND;VALUE=DATE:20270613
DTSTAMP:20260421T143518
CREATED:20250701T205241Z
LAST-MODIFIED:20250701T205241Z
UID:2224-1812758400-1812844799@umaine.edu
SUMMARY:⛰️🌸 Shavuot II
DESCRIPTION:Festival of Weeks. Commemorates the giving of the Torah at Mount Sinai\nTorah: Deuteronomy 14:22-16:17; Numbers 28:26-31; Ruth 1:1-4:22\nHaftarah: Habakkuk 3:1-19\nHaftarah for Sephardim: Habakkuk 2:20-3:19\nhttps://hebcal.com/h/shavuot-2027?uc=ical-diaspora-2027
URL:https://umaine.edu/religious-studies/event/%e2%9b%b0%ef%b8%8f%f0%9f%8c%b8-shavuot-ii-2/
CATEGORIES:Holiday,Holidays
END:VEVENT
END:VCALENDAR