BEGIN:VCALENDAR
VERSION:2.0
PRODID:-//Native American Programs - ECPv6.15.17.1//NONSGML v1.0//EN
CALSCALE:GREGORIAN
METHOD:PUBLISH
X-WR-CALNAME:Native American Programs
X-ORIGINAL-URL:https://umaine.edu/nativeamericanprograms
X-WR-CALDESC:Events for Native American Programs
REFRESH-INTERVAL;VALUE=DURATION:PT1H
X-Robots-Tag:noindex
X-PUBLISHED-TTL:PT1H
BEGIN:VTIMEZONE
TZID:America/New_York
BEGIN:DAYLIGHT
TZOFFSETFROM:-0500
TZOFFSETTO:-0400
TZNAME:EDT
DTSTART:20180311T070000
END:DAYLIGHT
BEGIN:STANDARD
TZOFFSETFROM:-0400
TZOFFSETTO:-0500
TZNAME:EST
DTSTART:20181104T060000
END:STANDARD
BEGIN:DAYLIGHT
TZOFFSETFROM:-0500
TZOFFSETTO:-0400
TZNAME:EDT
DTSTART:20190310T070000
END:DAYLIGHT
BEGIN:STANDARD
TZOFFSETFROM:-0400
TZOFFSETTO:-0500
TZNAME:EST
DTSTART:20191103T060000
END:STANDARD
BEGIN:DAYLIGHT
TZOFFSETFROM:-0500
TZOFFSETTO:-0400
TZNAME:EDT
DTSTART:20200308T070000
END:DAYLIGHT
BEGIN:STANDARD
TZOFFSETFROM:-0400
TZOFFSETTO:-0500
TZNAME:EST
DTSTART:20201101T060000
END:STANDARD
END:VTIMEZONE
BEGIN:VEVENT
DTSTART;TZID=America/New_York:20190330T093000
DTEND;TZID=America/New_York:20190330T160000
DTSTAMP:20260421T143647
CREATED:20190307T190822Z
LAST-MODIFIED:20190307T190822Z
UID:1360-1553938200-1553961600@umaine.edu
SUMMARY:Maine-Wabanaki REACH
DESCRIPTION:Registration is required \nRegistration is required at http://www.mainewabanakireach.org/events.\nFor questions contact\, Barbara@mainewabanakireach.org\, or john.maddaus@maine.edu.
URL:https://umaine.edu/nativeamericanprograms/event/maine-wabanaki-reach/
END:VEVENT
BEGIN:VEVENT
DTSTART;TZID=America/New_York:20190227T150000
DTEND;TZID=America/New_York:20190227T170000
DTSTAMP:20260421T143647
CREATED:20190215T132639Z
LAST-MODIFIED:20190215T132639Z
UID:1327-1551279600-1551286800@umaine.edu
SUMMARY:Truth\, Healing and Change in Dawnland
DESCRIPTION:
URL:https://umaine.edu/nativeamericanprograms/event/truth-healing-and-change-in-dawnland/
LOCATION:UMaine-Barrows Hall\, room 165-Arthur St. John Hill Auditorium
END:VEVENT
END:VCALENDAR