BEGIN:VCALENDAR
VERSION:2.0
PRODID:-//Senator George J. Mitchell Center for Sustainability Solutions - ECPv6.15.17.1//NONSGML v1.0//EN
CALSCALE:GREGORIAN
METHOD:PUBLISH
X-WR-CALNAME:Senator George J. Mitchell Center for Sustainability Solutions
X-ORIGINAL-URL:https://umaine.edu/mitchellcenter
X-WR-CALDESC:Events for Senator George J. Mitchell Center for Sustainability Solutions
REFRESH-INTERVAL;VALUE=DURATION:PT1H
X-Robots-Tag:noindex
X-PUBLISHED-TTL:PT1H
BEGIN:VTIMEZONE
TZID:America/New_York
BEGIN:DAYLIGHT
TZOFFSETFROM:-0500
TZOFFSETTO:-0400
TZNAME:EDT
DTSTART:20130310T070000
END:DAYLIGHT
BEGIN:STANDARD
TZOFFSETFROM:-0400
TZOFFSETTO:-0500
TZNAME:EST
DTSTART:20131103T060000
END:STANDARD
BEGIN:DAYLIGHT
TZOFFSETFROM:-0500
TZOFFSETTO:-0400
TZNAME:EDT
DTSTART:20140309T070000
END:DAYLIGHT
BEGIN:STANDARD
TZOFFSETFROM:-0400
TZOFFSETTO:-0500
TZNAME:EST
DTSTART:20141102T060000
END:STANDARD
BEGIN:DAYLIGHT
TZOFFSETFROM:-0500
TZOFFSETTO:-0400
TZNAME:EDT
DTSTART:20150308T070000
END:DAYLIGHT
BEGIN:STANDARD
TZOFFSETFROM:-0400
TZOFFSETTO:-0500
TZNAME:EST
DTSTART:20151101T060000
END:STANDARD
END:VTIMEZONE
BEGIN:VEVENT
DTSTART;VALUE=DATE:20140524
DTEND;VALUE=DATE:20140525
DTSTAMP:20260424T200353
CREATED:20140522T193718Z
LAST-MODIFIED:20140522T193718Z
UID:10000505-1400889600-1400975999@umaine.edu
SUMMARY:World Fish Migration Day
DESCRIPTION:World Fish Migration Day is an international event that calls attention to the need to safeguard free flowing rivers and restore connections in rivers for migratory fish.  There will be a series of events\, including a tour\, screening of  “River Herring Migration”\, and an art installation on the banks of the Presumpscot River. \nOrganized by: Friends of Presumpscot River\, Presumpscot Regional Land Trust\, Casco Bay Estuary Partnership\, University of Southern Maine\, The Nature Conservancy of Maine. \nFor more information: http://www.presumpscotriver.org/world-fish-migration-day.html
URL:https://umaine.edu/mitchellcenter/event/world-fish-migration-day/
LOCATION:Downtown\, Westbrook\, ME\, United States
CATEGORIES:Other Events
GEO:43.6770252;-70.3711617
END:VEVENT
END:VCALENDAR