BEGIN:VCALENDAR
VERSION:2.0
PRODID:-//Senator George J. Mitchell Center for Sustainability Solutions - ECPv6.15.17.1//NONSGML v1.0//EN
CALSCALE:GREGORIAN
METHOD:PUBLISH
X-WR-CALNAME:Senator George J. Mitchell Center for Sustainability Solutions
X-ORIGINAL-URL:https://umaine.edu/mitchellcenter
X-WR-CALDESC:Events for Senator George J. Mitchell Center for Sustainability Solutions
REFRESH-INTERVAL;VALUE=DURATION:PT1H
X-Robots-Tag:noindex
X-PUBLISHED-TTL:PT1H
BEGIN:VTIMEZONE
TZID:America/New_York
BEGIN:DAYLIGHT
TZOFFSETFROM:-0500
TZOFFSETTO:-0400
TZNAME:EDT
DTSTART:20130310T070000
END:DAYLIGHT
BEGIN:STANDARD
TZOFFSETFROM:-0400
TZOFFSETTO:-0500
TZNAME:EST
DTSTART:20131103T060000
END:STANDARD
BEGIN:DAYLIGHT
TZOFFSETFROM:-0500
TZOFFSETTO:-0400
TZNAME:EDT
DTSTART:20140309T070000
END:DAYLIGHT
BEGIN:STANDARD
TZOFFSETFROM:-0400
TZOFFSETTO:-0500
TZNAME:EST
DTSTART:20141102T060000
END:STANDARD
BEGIN:DAYLIGHT
TZOFFSETFROM:-0500
TZOFFSETTO:-0400
TZNAME:EDT
DTSTART:20150308T070000
END:DAYLIGHT
BEGIN:STANDARD
TZOFFSETFROM:-0400
TZOFFSETTO:-0500
TZNAME:EST
DTSTART:20151101T060000
END:STANDARD
END:VTIMEZONE
BEGIN:VEVENT
DTSTART;TZID=America/New_York:20140919T150000
DTEND;TZID=America/New_York:20140919T160000
DTSTAMP:20260421T124742
CREATED:20140902T152310Z
LAST-MODIFIED:20140902T152310Z
UID:10000376-1411138800-1411142400@umaine.edu
SUMMARY:Seminar: Bobbi Peckarsky
DESCRIPTION:Potential effects of climate change on stream organisms\nBobbi Peckarsky\, University of Wisconsin-Madison \nCo-sponsors: Mitchell Center for Sustainability Solutions\, School of Biology & Ecology \nWhile increasing temperatures have received much focus of the effects of climate change\, associated increases in the frequency and intensity of extreme events\, such as droughts and floods\, may have important consequences for stream organisms. Investigators at the Rocky Mountain Biological Laboratory are investigating the potential for those events to negatively affect plants\, insects and trout in high elevation streams of western Colorado\, USA. Disruption of the natural flow regime via climate change could jeopardize the sustainability of otherwise pristine mountain streams.
URL:https://umaine.edu/mitchellcenter/event/seminar-bobbi-peckarsky/
LOCATION:100 Murray Hall\, UMaine\, Orono\, ME\, United States
CATEGORIES:Mitchell Center Events
GEO:44.897732;-68.6687076
X-APPLE-STRUCTURED-LOCATION;VALUE=URI;X-ADDRESS=100 Murray Hall UMaine Orono ME United States;X-APPLE-RADIUS=500;X-TITLE=UMaine:geo:-68.6687076,44.897732
END:VEVENT
END:VCALENDAR