BEGIN:VCALENDAR
VERSION:2.0
PRODID:-//Clement and Linda McGillicuddy Humanities Center - ECPv6.15.17.1//NONSGML v1.0//EN
CALSCALE:GREGORIAN
METHOD:PUBLISH
X-WR-CALNAME:Clement and Linda McGillicuddy Humanities Center
X-ORIGINAL-URL:https://umaine.edu/mhc
X-WR-CALDESC:Events for Clement and Linda McGillicuddy Humanities Center
REFRESH-INTERVAL;VALUE=DURATION:PT1H
X-Robots-Tag:noindex
X-PUBLISHED-TTL:PT1H
BEGIN:VTIMEZONE
TZID:America/New_York
BEGIN:DAYLIGHT
TZOFFSETFROM:-0500
TZOFFSETTO:-0400
TZNAME:EDT
DTSTART:20190310T070000
END:DAYLIGHT
BEGIN:STANDARD
TZOFFSETFROM:-0400
TZOFFSETTO:-0500
TZNAME:EST
DTSTART:20191103T060000
END:STANDARD
BEGIN:DAYLIGHT
TZOFFSETFROM:-0500
TZOFFSETTO:-0400
TZNAME:EDT
DTSTART:20200308T070000
END:DAYLIGHT
BEGIN:STANDARD
TZOFFSETFROM:-0400
TZOFFSETTO:-0500
TZNAME:EST
DTSTART:20201101T060000
END:STANDARD
BEGIN:DAYLIGHT
TZOFFSETFROM:-0500
TZOFFSETTO:-0400
TZNAME:EDT
DTSTART:20210314T070000
END:DAYLIGHT
BEGIN:STANDARD
TZOFFSETFROM:-0400
TZOFFSETTO:-0500
TZNAME:EST
DTSTART:20211107T060000
END:STANDARD
BEGIN:DAYLIGHT
TZOFFSETFROM:-0500
TZOFFSETTO:-0400
TZNAME:EDT
DTSTART:20220313T070000
END:DAYLIGHT
BEGIN:STANDARD
TZOFFSETFROM:-0400
TZOFFSETTO:-0500
TZNAME:EST
DTSTART:20221106T060000
END:STANDARD
BEGIN:DAYLIGHT
TZOFFSETFROM:-0500
TZOFFSETTO:-0400
TZNAME:EDT
DTSTART:20230312T070000
END:DAYLIGHT
BEGIN:STANDARD
TZOFFSETFROM:-0400
TZOFFSETTO:-0500
TZNAME:EST
DTSTART:20231105T060000
END:STANDARD
END:VTIMEZONE
BEGIN:VEVENT
DTSTART;TZID=America/New_York:20221020T183000
DTEND;TZID=America/New_York:20221020T193000
DTSTAMP:20260421T161252
CREATED:20221011T171934Z
LAST-MODIFIED:20221011T172125Z
UID:7272-1666290600-1666294200@umaine.edu
SUMMARY:The End of Policing: A Webinar with Sociologist Alex Vitale
DESCRIPTION:The University of Maine and the Peace and Justice Center of Eastern Maine are hosting sociologist Alex Vitale for a free webinar on Thursday\, Oct. 20 at 6:30 p.m. Vitale\, who has spent the last 30 years writing about policing\, will be joined in conversation with a number of policy stakeholders from around the State of Maine. The event\, which is co-sponsored by the McGillicuddy Humanities Center\, will be facilitated by Brian Pitman\, assistant professor of sociology at UMaine. \nThe event is available via Zoom at https://maine.zoom.us/j/84987737890?pwd=RFBOdWZFdUFpdFd6KzR1aktFRXQwZz09 (password 748297)
URL:https://umaine.edu/mhc/event/the-end-of-policing-a-webinar-with-sociologist-alex-vitale/
LOCATION:Online
ATTACH;FMTTYPE=image/jpeg:https://umaine.edu/mhc/wp-content/uploads/sites/276/2022/10/vitale_poster-no-link-1-e1665508642240.jpg
END:VEVENT
BEGIN:VEVENT
DTSTART;TZID=America/New_York:20200925T150000
DTEND;TZID=America/New_York:20200925T160000
DTSTAMP:20260421T161252
CREATED:20200810T153726Z
LAST-MODIFIED:20200902T123851Z
UID:6483-1601046000-1601049600@umaine.edu
SUMMARY:Careers in Public History workshop
DESCRIPTION:Kate Axelson Foster from the Career Center will lead a virtual workshop on “Careers in Public History” on September 25\, 2020 at 3 p.m. Foster will provide students with tips for navigating the public history job market. Attendees will learn about how to search and apply for internships and careers in public history\, including work with museums\, archives\, historic preservation offices\, the National Park Service\, historical societies and more. \nJoin the meeting at: tinyurl.com/y3qyt4po using the password: kate. \nEmail riordan@maine.edu for more information. \nSponsored by the University of Maine History Department\, Career Center\, and McGillicuddy Humanities Center.
URL:https://umaine.edu/mhc/event/careers-in-public-history-workshop/
LOCATION:Online
CATEGORIES:History,History Event,Public Humanities,workshop
ATTACH;FMTTYPE=image/jpeg:https://umaine.edu/mhc/wp-content/uploads/sites/276/2020/08/Careers-Public-History-e1599050316163.jpg
END:VEVENT
BEGIN:VEVENT
DTSTART;TZID=America/New_York:20200925T083000
DTEND;TZID=America/New_York:20200925T123000
DTSTAMP:20260421T161252
CREATED:20200727T192632Z
LAST-MODIFIED:20200902T124029Z
UID:5990-1601022600-1601037000@umaine.edu
SUMMARY:Virtual NEH Grant Writing Workshop
DESCRIPTION:On Friday\, September 25\, 2020\, the University of Maine’s McGillicuddy Humanities Center will offer a virtual workshop on applying for NEH grants. It will be conducted by Mark Silver\, Senior Program Officer in the Division of Research Programs at the National Endowment for the Humanities. The workshop is open to the public. Anyone interested in learning about NEH funding opportunities and application strategies is invited to attend\, although space is limited and priority will be given to those in the Mid-Coast\, Downeast and Highlands regions of Maine. The workshop will run from 8:30 a.m. until 12:30 p.m. Although the event is free\, you must register in advance. Registration is now open using this link.  \nDuring the first half of the workshop\, Dr. Silver will provide an overview of a variety of NEH funding opportunities and offer guidance for writing competitive proposals. In the second half of the workshop\, he will run a mock application review panel\, where panelists will discuss and rank sample proposals using NEH guidelines to provide insight into how applications are evaluated and recommended for NEH funding. \nDr. Silver will also be available during the afternoons of Thursday\, September 24\, and Friday\, September 25\, to meet virtually with prospective applicants to discuss their projects and offer advice about their proposals. Those interested in scheduling a twenty-minute appointment will be asked to submit a one-page single-spaced overview of their project in advance. \nFor more information\, email mhc@maine.edu or follow us on social media.
URL:https://umaine.edu/mhc/event/virtual-neh-grant-writing-workshop/
LOCATION:Online
CATEGORIES:Anthropology,Art,Canadian Studies,Center for Poetry and Poetics,CLAS event,Communication and Journalism Event,digital humanities,English Department,Folklife and Oral History,History,Performing Arts,Philosophy Department Colloquium Series,Poetry,Wabanaki,WGS
ATTACH;FMTTYPE=image/png:https://umaine.edu/mhc/wp-content/uploads/sites/276/2020/07/NEH-Workshop-Edited-e1599050417347.png
END:VEVENT
BEGIN:VEVENT
DTSTART;TZID=America/New_York:20200803T130000
DTEND;TZID=America/New_York:20200803T140000
DTSTAMP:20260421T161252
CREATED:20200727T193956Z
LAST-MODIFIED:20200727T193956Z
UID:5993-1596459600-1596463200@umaine.edu
SUMMARY:DH Pop In: Building Digital Timelines
DESCRIPTION:Building off of the success of the Black Digital History event this spring\, the McGillicuddy Humanities Center will be continuing their DH Pop In series throughout the year to show the potential and accessibility of the digital humanities for research and classroom use. Spearheaded by the MHC’s Humanities Specialist Karen Sieber\, each event will showcase a different tool or digital project\, and teach users how to use similar methods in their own research or creative work\, including mapping\, textual analysis and digital exhibits. \nThe next DH Pop In will be Monday\, August 3\, at 1PM. Sieber will show virtual attendees how to build quick\, easy\, free interactive timelines using the tool TimelineJS. No experience is necessary. Possibly uses include building virtual timelines to help students make sense of jam-packed survey classes\, harnessing the power of timelines to organize graduate school comps notes\, and using timelines to break down big ideas for a general audience. This tool also allows for collaborative remote work for classrooms meeting virtually. \nEmail mhc@maine.edu to get the link to register for the DH Pop In. \nSieber’s own digital humanities work has received national attention in recent years. The site Digital Loray (www.digitalloray.org) received the National Humanities Alliance’s “Humanities For All” award. The map\, timeline and digital archive on the race riots of 1919 that she built (www.visualizingtheredsummer.com) is used in classrooms around the country and has reached hundreds of thousands of users.
URL:https://umaine.edu/mhc/event/dh-pop-in-building-digital-timelines/
LOCATION:Online
CATEGORIES:Anthropology,Art,CLAS event,Communication and Journalism,digital humanities,English Department,Folklife and Oral History,History,Philosophy Department Colloquium Series,WGS
ATTACH;FMTTYPE=image/png:https://umaine.edu/mhc/wp-content/uploads/sites/276/2020/07/DHPopInTimelines-e1595878695849.png
END:VEVENT
END:VCALENDAR