BEGIN:VCALENDAR
VERSION:2.0
PRODID:-//Clement and Linda McGillicuddy Humanities Center - ECPv6.15.17.1//NONSGML v1.0//EN
CALSCALE:GREGORIAN
METHOD:PUBLISH
X-ORIGINAL-URL:https://umaine.edu/mhc
X-WR-CALDESC:Events for Clement and Linda McGillicuddy Humanities Center
REFRESH-INTERVAL;VALUE=DURATION:PT1H
X-Robots-Tag:noindex
X-PUBLISHED-TTL:PT1H
BEGIN:VTIMEZONE
TZID:America/New_York
BEGIN:DAYLIGHT
TZOFFSETFROM:-0500
TZOFFSETTO:-0400
TZNAME:EDT
DTSTART:20160313T070000
END:DAYLIGHT
BEGIN:STANDARD
TZOFFSETFROM:-0400
TZOFFSETTO:-0500
TZNAME:EST
DTSTART:20161106T060000
END:STANDARD
BEGIN:DAYLIGHT
TZOFFSETFROM:-0500
TZOFFSETTO:-0400
TZNAME:EDT
DTSTART:20170312T070000
END:DAYLIGHT
BEGIN:STANDARD
TZOFFSETFROM:-0400
TZOFFSETTO:-0500
TZNAME:EST
DTSTART:20171105T060000
END:STANDARD
BEGIN:DAYLIGHT
TZOFFSETFROM:-0500
TZOFFSETTO:-0400
TZNAME:EDT
DTSTART:20180311T070000
END:DAYLIGHT
BEGIN:STANDARD
TZOFFSETFROM:-0400
TZOFFSETTO:-0500
TZNAME:EST
DTSTART:20181104T060000
END:STANDARD
END:VTIMEZONE
BEGIN:VEVENT
DTSTART;TZID=America/New_York:20171012T183000
DTEND;TZID=America/New_York:20171012T203000
DTSTAMP:20260421T160334
CREATED:20170918T155542Z
LAST-MODIFIED:20170918T155655Z
UID:3243-1507833000-1507840200@umaine.edu
SUMMARY:SISTERING with Carasque- A Journey in Solidarity
DESCRIPTION:Lecture by Katie Greenman\, PICA Volunteer. \nPart of the Hispanic Heritage Month Lecture Series \nSponsored By: UMaine Deptartment of Modern Languages and Classics and CHISPO Centro Hispana\nContact: Maria Sandweiss
URL:https://umaine.edu/mhc/event/sistering-carasque-journey-solidarity/
LOCATION:Arthur St. John Hill Auditorium\, Barrows Hall\, University of Maine\, Orono\, ME\, 04468\, United States
CATEGORIES:Hispanic Heritage Month Lecture Series,Lecture,Public Humanities
ATTACH;FMTTYPE=image/jpeg:https://umaine.edu/mhc/wp-content/uploads/sites/276/2017/09/Hispanic-Heritage-Month-Lecture-Series-2017.jpg
GEO:44.9012197;-68.6666508
X-APPLE-STRUCTURED-LOCATION;VALUE=URI;X-ADDRESS=Arthur St. John Hill Auditorium Barrows Hall University of Maine Orono ME 04468 United States;X-APPLE-RADIUS=500;X-TITLE=Barrows Hall\, University of Maine:geo:-68.6666508,44.9012197
END:VEVENT
BEGIN:VEVENT
DTSTART;TZID=America/New_York:20171005T180000
DTEND;TZID=America/New_York:20171005T200000
DTSTAMP:20260421T160334
CREATED:20170918T153357Z
LAST-MODIFIED:20170918T154648Z
UID:3236-1507226400-1507233600@umaine.edu
SUMMARY:Puntos suspensivos: A Personal Geography for Hispanic Heritage Month
DESCRIPTION:Lecture by Zachary Ludington\, Assistant Professor of Spanish\, UMaine. \nPart of the Hispanic Heritage Month Lecture Series \nSponsored By: UMaine Deptartment of Modern Languages and Classics and CHISPO Centro Hispana\nContact: Maria Sandweiss
URL:https://umaine.edu/mhc/event/puntos-suspensivos-personal-geography-hispanic-heritage-month/
LOCATION:Arthur St. John Hill Auditorium\, Barrows Hall\, University of Maine\, Orono\, ME\, 04468\, United States
CATEGORIES:Hispanic Heritage Month Lecture Series,Lecture,Public Humanities
ATTACH;FMTTYPE=image/jpeg:https://umaine.edu/mhc/wp-content/uploads/sites/276/2017/09/Hispanic-Heritage-Month-Lecture-Series-2017.jpg
GEO:44.9012197;-68.6666508
X-APPLE-STRUCTURED-LOCATION;VALUE=URI;X-ADDRESS=Arthur St. John Hill Auditorium Barrows Hall University of Maine Orono ME 04468 United States;X-APPLE-RADIUS=500;X-TITLE=Barrows Hall\, University of Maine:geo:-68.6666508,44.9012197
END:VEVENT
BEGIN:VEVENT
DTSTART;TZID=America/New_York:20170928T183000
DTEND;TZID=America/New_York:20170928T200000
DTSTAMP:20260421T160334
CREATED:20170918T152940Z
LAST-MODIFIED:20170918T155152Z
UID:3233-1506623400-1506628800@umaine.edu
SUMMARY:Cholo in Peru\, Latino in the United States
DESCRIPTION:How Similar is Racism and White Privilege in the North and in the South? A Personal History\nLecture by Marco Aviles\, Author and Journalist. \n \nPart of the Hispanic Heritage Month Lecture Series \nSponsored By: UMaine Deptartment of Modern Languages and Classics and CHISPO Centro Hispana\nContact: Maria Sandweiss
URL:https://umaine.edu/mhc/event/cholo-peru-latino-united-states/
LOCATION:Arthur St. John Hill Auditorium\, Barrows Hall\, University of Maine\, Orono\, ME\, 04468\, United States
CATEGORIES:Hispanic Heritage Month Lecture Series,Lecture,Public Humanities
ATTACH;FMTTYPE=image/jpeg:https://umaine.edu/mhc/wp-content/uploads/sites/276/2017/09/Hispanic-Heritage-Month-Lecture-Series-2017.jpg
GEO:44.9012197;-68.6666508
X-APPLE-STRUCTURED-LOCATION;VALUE=URI;X-ADDRESS=Arthur St. John Hill Auditorium Barrows Hall University of Maine Orono ME 04468 United States;X-APPLE-RADIUS=500;X-TITLE=Barrows Hall\, University of Maine:geo:-68.6666508,44.9012197
END:VEVENT
BEGIN:VEVENT
DTSTART;TZID=America/New_York:20170921T183000
DTEND;TZID=America/New_York:20170921T200000
DTSTAMP:20260421T160334
CREATED:20170918T152351Z
LAST-MODIFIED:20170918T155118Z
UID:3227-1506018600-1506024000@umaine.edu
SUMMARY:Experiences as a Latino that Influenced a Career 
DESCRIPTION:Lecture by Rachelle Tome\, a former Chief Academic Office for the Maine Department of Education. \n \nPart of the Hispanic Heritage Month Lecture Series \nSponsored By: UMaine Deptartment of Modern Languages and Classics and CHISPO Centro Hispana\nContact: Maria Sandweiss
URL:https://umaine.edu/mhc/event/experiences-latino-influenced-career/
LOCATION:Arthur St. John Hill Auditorium\, Barrows Hall\, University of Maine\, Orono\, ME\, 04468\, United States
CATEGORIES:Hispanic Heritage Month Lecture Series,Lecture,Public Humanities
ATTACH;FMTTYPE=image/jpeg:https://umaine.edu/mhc/wp-content/uploads/sites/276/2017/09/Hispanic-Heritage-Month-Lecture-Series-2017.jpg
GEO:44.9012197;-68.6666508
X-APPLE-STRUCTURED-LOCATION;VALUE=URI;X-ADDRESS=Arthur St. John Hill Auditorium Barrows Hall University of Maine Orono ME 04468 United States;X-APPLE-RADIUS=500;X-TITLE=Barrows Hall\, University of Maine:geo:-68.6666508,44.9012197
END:VEVENT
END:VCALENDAR