BEGIN:VCALENDAR
VERSION:2.0
PRODID:-//Clement and Linda McGillicuddy Humanities Center - ECPv6.15.17.1//NONSGML v1.0//EN
CALSCALE:GREGORIAN
METHOD:PUBLISH
X-WR-CALNAME:Clement and Linda McGillicuddy Humanities Center
X-ORIGINAL-URL:https://umaine.edu/mhc
X-WR-CALDESC:Events for Clement and Linda McGillicuddy Humanities Center
REFRESH-INTERVAL;VALUE=DURATION:PT1H
X-Robots-Tag:noindex
X-PUBLISHED-TTL:PT1H
BEGIN:VTIMEZONE
TZID:America/New_York
BEGIN:DAYLIGHT
TZOFFSETFROM:-0500
TZOFFSETTO:-0400
TZNAME:EDT
DTSTART:20180311T070000
END:DAYLIGHT
BEGIN:STANDARD
TZOFFSETFROM:-0400
TZOFFSETTO:-0500
TZNAME:EST
DTSTART:20181104T060000
END:STANDARD
BEGIN:DAYLIGHT
TZOFFSETFROM:-0500
TZOFFSETTO:-0400
TZNAME:EDT
DTSTART:20190310T070000
END:DAYLIGHT
BEGIN:STANDARD
TZOFFSETFROM:-0400
TZOFFSETTO:-0500
TZNAME:EST
DTSTART:20191103T060000
END:STANDARD
BEGIN:DAYLIGHT
TZOFFSETFROM:-0500
TZOFFSETTO:-0400
TZNAME:EDT
DTSTART:20200308T070000
END:DAYLIGHT
BEGIN:STANDARD
TZOFFSETFROM:-0400
TZOFFSETTO:-0500
TZNAME:EST
DTSTART:20201101T060000
END:STANDARD
END:VTIMEZONE
BEGIN:VEVENT
DTSTART;TZID=America/New_York:20191209T200000
DTEND;TZID=America/New_York:20191209T213000
DTSTAMP:20260425T195559
CREATED:20191009T193337Z
LAST-MODIFIED:20191017T142326Z
UID:5611-1575921600-1575927000@umaine.edu
SUMMARY:Aydrea Walden\, "The Oreo Experience"
DESCRIPTION:The Rising Tide Center\, in collaboration with the Honors College\, the Bailey Fund\, the Communication and Journalism Department\, and the McGillicuddy Humanities Center\, presents stand-up comedienne Aydrea Walden performing “a musical one-woman show about a total whitey trapped in a black chick’s body.” The event will be held in Minsky Recital Hall on December 9\, 2019\, beginning at 8PM. The event is free and open to the public. \nThe following afternoon at 4PM in Hill Auditorium\, Aydrea will host a screening and Q&A of her successful web-series Black Girl in a Big Dress\, a show that touches on issues of race and gender in an ironic and endearing manner\, centering around an African American Anglophile cosplayer in love with the Victorian Era. \n  \n \n 
URL:https://umaine.edu/mhc/event/aydrea-walden-the-oreo-experience/
LOCATION:Minsky Recital Hall\, Collins Center for the Arts\, University of Maine\, Orono\, ME\, 04469\, United States
CATEGORIES:MHC Symposium 2019,Public Humanities,Symposium
ATTACH;FMTTYPE=image/jpeg:https://umaine.edu/mhc/wp-content/uploads/sites/276/2019/10/Aydrea-in-action.jpeg
GEO:44.899858;-68.666527
X-APPLE-STRUCTURED-LOCATION;VALUE=URI;X-ADDRESS=Minsky Recital Hall Collins Center for the Arts University of Maine Orono ME 04469 United States;X-APPLE-RADIUS=500;X-TITLE=Collins Center for the Arts\, University of Maine:geo:-68.666527,44.899858
END:VEVENT
END:VCALENDAR