BEGIN:VCALENDAR
VERSION:2.0
PRODID:-//UMaine Institute of Medicine - ECPv6.15.17.1//NONSGML v1.0//EN
CALSCALE:GREGORIAN
METHOD:PUBLISH
X-ORIGINAL-URL:https://umaine.edu/medicine
X-WR-CALDESC:Events for UMaine Institute of Medicine
REFRESH-INTERVAL;VALUE=DURATION:PT1H
X-Robots-Tag:noindex
X-PUBLISHED-TTL:PT1H
BEGIN:VTIMEZONE
TZID:America/New_York
BEGIN:DAYLIGHT
TZOFFSETFROM:-0500
TZOFFSETTO:-0400
TZNAME:EDT
DTSTART:20250309T070000
END:DAYLIGHT
BEGIN:STANDARD
TZOFFSETFROM:-0400
TZOFFSETTO:-0500
TZNAME:EST
DTSTART:20251102T060000
END:STANDARD
BEGIN:DAYLIGHT
TZOFFSETFROM:-0500
TZOFFSETTO:-0400
TZNAME:EDT
DTSTART:20260308T070000
END:DAYLIGHT
BEGIN:STANDARD
TZOFFSETFROM:-0400
TZOFFSETTO:-0500
TZNAME:EST
DTSTART:20261101T060000
END:STANDARD
BEGIN:DAYLIGHT
TZOFFSETFROM:-0500
TZOFFSETTO:-0400
TZNAME:EDT
DTSTART:20270314T070000
END:DAYLIGHT
BEGIN:STANDARD
TZOFFSETFROM:-0400
TZOFFSETTO:-0500
TZNAME:EST
DTSTART:20271107T060000
END:STANDARD
END:VTIMEZONE
BEGIN:VEVENT
DTSTART;TZID=America/New_York:20260421T190000
DTEND;TZID=America/New_York:20260421T200000
DTSTAMP:20260421T155821
CREATED:20260305T170619Z
LAST-MODIFIED:20260305T170724Z
UID:10000334-1776798000-1776801600@umaine.edu
SUMMARY:Career Speaker Series: Resume and Curriculum Vitae Workshop
DESCRIPTION:Students and recent graduates are invited to attend a Career Speaker Series workshop focused on applying for jobs after graduation. This session will provide guidance on developing strong resumes and curriculum vitae (CVs) for careers in industry\, research\, and related fields. \nHosted by the NH-INBRE Alumni Advisory Board\, the workshop will feature alumni speakers who will share their experiences navigating the job application process and discuss what employers look for when reviewing applications. Participants will also have the opportunity to learn strategies for tailoring resumes and CVs to specific job opportunities. \nThe session will include practical examples of resume and CV formats\, tips for highlighting relevant experience\, and advice for preparing application materials for the workforce. \nSpeakers\n\nAdam Geddis\, Care Coordinator Team Lead\, Ccelia Health\nJason Charbonneau\, United States Army\n\nRegistration\nSign up for the workshop here
URL:https://umaine.edu/medicine/event/career-speaker-series-resume-and-curriculum-vitae-workshop/
LOCATION:Virtual
CATEGORIES:Education,Seminar Series
END:VEVENT
END:VCALENDAR