BEGIN:VCALENDAR
VERSION:2.0
PRODID:-//Maine Agricultural and Forest Experiment Station - ECPv6.15.17.1//NONSGML v1.0//EN
CALSCALE:GREGORIAN
METHOD:PUBLISH
X-WR-CALNAME:Maine Agricultural and Forest Experiment Station
X-ORIGINAL-URL:https://umaine.edu/mafes
X-WR-CALDESC:Events for Maine Agricultural and Forest Experiment Station
REFRESH-INTERVAL;VALUE=DURATION:PT1H
X-Robots-Tag:noindex
X-PUBLISHED-TTL:PT1H
BEGIN:VTIMEZONE
TZID:America/New_York
BEGIN:DAYLIGHT
TZOFFSETFROM:-0500
TZOFFSETTO:-0400
TZNAME:EDT
DTSTART:20230312T070000
END:DAYLIGHT
BEGIN:STANDARD
TZOFFSETFROM:-0400
TZOFFSETTO:-0500
TZNAME:EST
DTSTART:20231105T060000
END:STANDARD
BEGIN:DAYLIGHT
TZOFFSETFROM:-0500
TZOFFSETTO:-0400
TZNAME:EDT
DTSTART:20240310T070000
END:DAYLIGHT
BEGIN:STANDARD
TZOFFSETFROM:-0400
TZOFFSETTO:-0500
TZNAME:EST
DTSTART:20241103T060000
END:STANDARD
BEGIN:DAYLIGHT
TZOFFSETFROM:-0500
TZOFFSETTO:-0400
TZNAME:EDT
DTSTART:20250309T070000
END:DAYLIGHT
BEGIN:STANDARD
TZOFFSETFROM:-0400
TZOFFSETTO:-0500
TZNAME:EST
DTSTART:20251102T060000
END:STANDARD
END:VTIMEZONE
BEGIN:VEVENT
DTSTART;TZID=America/New_York:20240905T150000
DTEND;TZID=America/New_York:20240908T220000
DTSTAMP:20260425T112243
CREATED:20240904T195441Z
LAST-MODIFIED:20240904T195912Z
UID:10000200-1725548400-1725832800@umaine.edu
SUMMARY:Clinton Lions Agricultural Fair
DESCRIPTION:The Biggest Little Fair in the state offers a variety of awesome carnival rides\, food\, exhibits and entertainment. \n– \nWhile not an organization or event affiliated with the Maine Agricultural and Forest Experiment Station\, we seek to support and promote agriculture across Maine.
URL:https://umaine.edu/mafes/event/clinton-lions-agricultural-fair-1450-bangor-rd-clinton-me-04927-x-clinton-lions-agricultural-fair/
LOCATION:Clinton Fairgrounds\, 1450 Bangor Road\, Clinton\, ME\, 04927\, United States
ATTACH;FMTTYPE=image/png:https://umaine.edu/mafes/wp-content/uploads/sites/98/2024/09/clinton.png
END:VEVENT
END:VCALENDAR