BEGIN:VCALENDAR
VERSION:2.0
PRODID:-//Judaic Studies - ECPv6.15.17.1//NONSGML v1.0//EN
CALSCALE:GREGORIAN
METHOD:PUBLISH
X-WR-CALNAME:Judaic Studies
X-ORIGINAL-URL:https://umaine.edu/judaicstudies
X-WR-CALDESC:Events for Judaic Studies
REFRESH-INTERVAL;VALUE=DURATION:PT1H
X-Robots-Tag:noindex
X-PUBLISHED-TTL:PT1H
BEGIN:VTIMEZONE
TZID:America/New_York
BEGIN:DAYLIGHT
TZOFFSETFROM:-0500
TZOFFSETTO:-0400
TZNAME:EDT
DTSTART:20260308T070000
END:DAYLIGHT
BEGIN:STANDARD
TZOFFSETFROM:-0400
TZOFFSETTO:-0500
TZNAME:EST
DTSTART:20261101T060000
END:STANDARD
BEGIN:DAYLIGHT
TZOFFSETFROM:-0500
TZOFFSETTO:-0400
TZNAME:EDT
DTSTART:20270314T070000
END:DAYLIGHT
BEGIN:STANDARD
TZOFFSETFROM:-0400
TZOFFSETTO:-0500
TZNAME:EST
DTSTART:20271107T060000
END:STANDARD
BEGIN:DAYLIGHT
TZOFFSETFROM:-0500
TZOFFSETTO:-0400
TZNAME:EDT
DTSTART:20280312T070000
END:DAYLIGHT
BEGIN:STANDARD
TZOFFSETFROM:-0400
TZOFFSETTO:-0500
TZNAME:EST
DTSTART:20281105T060000
END:STANDARD
END:VTIMEZONE
BEGIN:VEVENT
DTSTART;VALUE=DATE:20270322
DTEND;VALUE=DATE:20270324
DTSTAMP:20260421T145829
CREATED:20250630T201511Z
LAST-MODIFIED:20250630T201511Z
UID:10000311-1805745600-1805831999@umaine.edu
SUMMARY:🎭️📜 Purim
DESCRIPTION:Celebration of Jewish deliverance as told by Megilat Esther. It commemorates a time when the Jewish people living in Persia were saved from extermination\nTorah: Exodus 17:8-16; Esther 1:1-10:3\nhttps://hebcal.com/h/purim-2027?uc=ical-diaspora-2027
URL:https://umaine.edu/judaicstudies/event/%f0%9f%8e%ad%ef%b8%8f%f0%9f%93%9c-purim-2/
CATEGORIES:Holiday
END:VEVENT
BEGIN:VEVENT
DTSTART;VALUE=DATE:20270323
DTEND;VALUE=DATE:20270325
DTSTAMP:20260421T145829
CREATED:20250630T201511Z
LAST-MODIFIED:20250630T201511Z
UID:10000312-1805832000-1805918399@umaine.edu
SUMMARY:🎭️📜 Shushan Purim
DESCRIPTION:Purim celebrated in Jerusalem and walled cities\nhttps://hebcal.com/h/shushan-purim-2027?uc=ical-diaspora-2027
URL:https://umaine.edu/judaicstudies/event/%f0%9f%8e%ad%ef%b8%8f%f0%9f%93%9c-shushan-purim-2/
CATEGORIES:Holiday
END:VEVENT
BEGIN:VEVENT
DTSTART;VALUE=DATE:20270326
DTEND;VALUE=DATE:20270328
DTSTAMP:20260421T145829
CREATED:20250630T201511Z
LAST-MODIFIED:20250630T201511Z
UID:10000313-1806091200-1806177599@umaine.edu
SUMMARY:🕍 Shabbat Parah
DESCRIPTION:Shabbat of the Red Heifer. Shabbat before Shabbat HaChodesh\, in preparation for Passover\nHaftarah: Ezekiel 36:16-38\nHaftarah for Sephardim: Ezekiel 36:16-36\nhttps://hebcal.com/h/shabbat-parah-2027?uc=ical-diaspora-2027
URL:https://umaine.edu/judaicstudies/event/%f0%9f%95%8d-shabbat-parah-2/
CATEGORIES:Holiday
END:VEVENT
BEGIN:VEVENT
DTSTART;VALUE=DATE:20270402
DTEND;VALUE=DATE:20270404
DTSTAMP:20260421T145829
CREATED:20250630T201512Z
LAST-MODIFIED:20250630T201512Z
UID:10000314-1806696000-1806782399@umaine.edu
SUMMARY:🕍 Shabbat HaChodesh
DESCRIPTION:Shabbat before Rosh Chodesh Nissan. Read in preparation for Passover\nHaftarah: Ezekiel 45:16-46:18\nHaftarah for Sephardim: Ezekiel 45:18-46:15\nhttps://hebcal.com/h/shabbat-hachodesh-2027?uc=ical-diaspora-2027
URL:https://umaine.edu/judaicstudies/event/%f0%9f%95%8d-shabbat-hachodesh-2/
CATEGORIES:Holiday
END:VEVENT
BEGIN:VEVENT
DTSTART;VALUE=DATE:20270407
DTEND;VALUE=DATE:20270409
DTSTAMP:20260421T145829
CREATED:20250630T201512Z
LAST-MODIFIED:20250630T201512Z
UID:10000315-1807128000-1807214399@umaine.edu
SUMMARY:🌒 Rosh Chodesh Nisan
DESCRIPTION:Start of month of Nisan on the Hebrew calendar. נִיסָן (transliterated Nisan or Nissan) is the 7th month of the civil Hebrew year (8th on leap years) and the 1st month of the biblical Hebrew year. It has 30 days and corresponds to March or April on the Gregorian calendar. רֹאשׁ חוֹדֶשׁ\, transliterated Rosh Chodesh or Rosh Hodesh\, is a minor holiday that occurs at the beginning of every month in the Hebrew calendar. It is marked by the birth of a new moon\nTorah: Numbers 28:1-15\nhttps://hebcal.com/h/rosh-chodesh-nisan-2027?uc=ical-diaspora-2027
URL:https://umaine.edu/judaicstudies/event/%f0%9f%8c%92-rosh-chodesh-nisan-2/
CATEGORIES:Holiday
END:VEVENT
BEGIN:VEVENT
DTSTART;VALUE=DATE:20270416
DTEND;VALUE=DATE:20270418
DTSTAMP:20260421T145829
CREATED:20250630T201512Z
LAST-MODIFIED:20250630T201512Z
UID:10000316-1807905600-1807991999@umaine.edu
SUMMARY:🕍 Shabbat HaGadol
DESCRIPTION:Shabbat before Pesach (The Great Shabbat)\nHaftarah: Malachi 3:4-24\nhttps://hebcal.com/h/shabbat-hagadol-2027?uc=ical-diaspora-2027
URL:https://umaine.edu/judaicstudies/event/%f0%9f%95%8d-shabbat-hagadol-2/
CATEGORIES:Holiday
END:VEVENT
BEGIN:VEVENT
DTSTART;VALUE=DATE:20270416
DTEND;VALUE=DATE:20270418
DTSTAMP:20260421T145829
CREATED:20250630T201512Z
LAST-MODIFIED:20250630T201512Z
UID:10000317-1807905600-1807991999@umaine.edu
SUMMARY:🇮🇱 Yom HaAliyah
DESCRIPTION:Recognizes Aliyah\, immigration to the Jewish State of Israel\nhttps://hebcal.com/h/yom-haaliyah-2027?uc=ical-diaspora-2027
URL:https://umaine.edu/judaicstudies/event/%f0%9f%87%ae%f0%9f%87%b1-yom-haaliyah-2/
CATEGORIES:Holiday
END:VEVENT
BEGIN:VEVENT
DTSTART;VALUE=DATE:20270420
DTEND;VALUE=DATE:20270422
DTSTAMP:20260421T145829
CREATED:20250630T201513Z
LAST-MODIFIED:20250630T201513Z
UID:10000319-1808251200-1808337599@umaine.edu
SUMMARY:🫓🍷 Erev Pesach
DESCRIPTION:Passover\, the Feast of Unleavened Bread. Also called Chag HaMatzot (the Festival of Matzah)\, it commemorates the Exodus and freedom of the Israelites from ancient Egypt\nhttps://hebcal.com/h/pesach-2027?uc=ical-diaspora-2027
URL:https://umaine.edu/judaicstudies/event/%f0%9f%ab%93%f0%9f%8d%b7-erev-pesach-2/
CATEGORIES:Holiday
END:VEVENT
BEGIN:VEVENT
DTSTART;VALUE=DATE:20270420
DTEND;VALUE=DATE:20270422
DTSTAMP:20260421T145829
CREATED:20250630T201513Z
LAST-MODIFIED:20250630T201513Z
UID:10000320-1808251200-1808337599@umaine.edu
SUMMARY:✡️ Ta’anit Bechorot
DESCRIPTION:Fast of the First Born\nhttps://hebcal.com/h/taanit-bechorot-2027?uc=ical-diaspora-2027
URL:https://umaine.edu/judaicstudies/event/%e2%9c%a1%ef%b8%8f-taanit-bechorot-2/
CATEGORIES:Holiday
END:VEVENT
BEGIN:VEVENT
DTSTART;VALUE=DATE:20270421
DTEND;VALUE=DATE:20270423
DTSTAMP:20260421T145829
CREATED:20250630T201512Z
LAST-MODIFIED:20250630T201512Z
UID:10000318-1808337600-1808423999@umaine.edu
SUMMARY:🫓🍷 Pesach I
DESCRIPTION:Passover\, the Feast of Unleavened Bread. Also called Chag HaMatzot (the Festival of Matzah)\, it commemorates the Exodus and freedom of the Israelites from ancient Egypt\nTorah: Exodus 12:21-51; Numbers 28:16-25\nHaftarah: Joshua 3:5-7\, 5:2-6:1\, 6:27\nHaftarah for Sephardim: Joshua 5:2-6:1\, 6:27\nhttps://hebcal.com/h/pesach-2027?uc=ical-diaspora-2027
URL:https://umaine.edu/judaicstudies/event/%f0%9f%ab%93%f0%9f%8d%b7-pesach-i-2/
CATEGORIES:Holiday
END:VEVENT
BEGIN:VEVENT
DTSTART;VALUE=DATE:20270422
DTEND;VALUE=DATE:20270424
DTSTAMP:20260421T145829
CREATED:20250630T201513Z
LAST-MODIFIED:20250630T201513Z
UID:10000321-1808424000-1808510399@umaine.edu
SUMMARY:🫓 Pesach II
DESCRIPTION:Passover\, the Feast of Unleavened Bread. Also called Chag HaMatzot (the Festival of Matzah)\, it commemorates the Exodus and freedom of the Israelites from ancient Egypt\nTorah: Leviticus 22:26-23:44; Numbers 28:16-25\nHaftarah: II Kings 23:1-9\, 23:21-25\nhttps://hebcal.com/h/pesach-2027?uc=ical-diaspora-2027
URL:https://umaine.edu/judaicstudies/event/%f0%9f%ab%93-pesach-ii-2/
CATEGORIES:Holiday
END:VEVENT
BEGIN:VEVENT
DTSTART;VALUE=DATE:20270423
DTEND;VALUE=DATE:20270425
DTSTAMP:20260421T145829
CREATED:20250630T201513Z
LAST-MODIFIED:20250630T201513Z
UID:10000322-1808510400-1808596799@umaine.edu
SUMMARY:🫓 Pesach III (CH’’M)
DESCRIPTION:Passover\, the Feast of Unleavened Bread. Also called Chag HaMatzot (the Festival of Matzah)\, it commemorates the Exodus and freedom of the Israelites from ancient Egypt\nTorah: Exodus 33:12-34:26; Numbers 28:19-25; Song of Songs 1:1-8:14\nHaftarah: Ezekiel 37:1-14\nhttps://hebcal.com/h/pesach-2027?uc=ical-diaspora-2027
URL:https://umaine.edu/judaicstudies/event/%f0%9f%ab%93-pesach-iii-chm-2/
CATEGORIES:Holiday
END:VEVENT
BEGIN:VEVENT
DTSTART;VALUE=DATE:20270424
DTEND;VALUE=DATE:20270426
DTSTAMP:20260421T145829
CREATED:20250630T201513Z
LAST-MODIFIED:20250630T201513Z
UID:10000323-1808596800-1808683199@umaine.edu
SUMMARY:🫓 Pesach IV (CH’’M)
DESCRIPTION:Passover\, the Feast of Unleavened Bread. Also called Chag HaMatzot (the Festival of Matzah)\, it commemorates the Exodus and freedom of the Israelites from ancient Egypt\nTorah: Exodus 13:1-16; Numbers 28:19-25\nhttps://hebcal.com/h/pesach-2027?uc=ical-diaspora-2027
URL:https://umaine.edu/judaicstudies/event/%f0%9f%ab%93-pesach-iv-chm-2/
CATEGORIES:Holiday
END:VEVENT
BEGIN:VEVENT
DTSTART;VALUE=DATE:20270425
DTEND;VALUE=DATE:20270427
DTSTAMP:20260421T145829
CREATED:20250630T201514Z
LAST-MODIFIED:20250630T201514Z
UID:10000324-1808683200-1808769599@umaine.edu
SUMMARY:🫓 Pesach V (CH’’M)
DESCRIPTION:Passover\, the Feast of Unleavened Bread. Also called Chag HaMatzot (the Festival of Matzah)\, it commemorates the Exodus and freedom of the Israelites from ancient Egypt\nTorah: Exodus 22:24-23:19; Numbers 28:19-25\nhttps://hebcal.com/h/pesach-2027?uc=ical-diaspora-2027
URL:https://umaine.edu/judaicstudies/event/%f0%9f%ab%93-pesach-v-chm-2/
CATEGORIES:Holiday
END:VEVENT
BEGIN:VEVENT
DTSTART;VALUE=DATE:20270426
DTEND;VALUE=DATE:20270428
DTSTAMP:20260421T145829
CREATED:20250630T201514Z
LAST-MODIFIED:20250630T201514Z
UID:10000325-1808769600-1808855999@umaine.edu
SUMMARY:🫓 Pesach VI (CH’’M)
DESCRIPTION:Passover\, the Feast of Unleavened Bread. Also called Chag HaMatzot (the Festival of Matzah)\, it commemorates the Exodus and freedom of the Israelites from ancient Egypt\nTorah: Numbers 9:1-14\, 28:19-25\nhttps://hebcal.com/h/pesach-2027?uc=ical-diaspora-2027
URL:https://umaine.edu/judaicstudies/event/%f0%9f%ab%93-pesach-vi-chm-2/
CATEGORIES:Holiday
END:VEVENT
BEGIN:VEVENT
DTSTART;VALUE=DATE:20270427
DTEND;VALUE=DATE:20270429
DTSTAMP:20260421T145829
CREATED:20250630T201514Z
LAST-MODIFIED:20250630T201514Z
UID:10000326-1808856000-1808942399@umaine.edu
SUMMARY:🫓 Pesach VII
DESCRIPTION:Passover\, the Feast of Unleavened Bread. Also called Chag HaMatzot (the Festival of Matzah)\, it commemorates the Exodus and freedom of the Israelites from ancient Egypt\nTorah: Exodus 13:17-15:26; Numbers 28:19-25\nHaftarah: II Samuel 22:1-51\nhttps://hebcal.com/h/pesach-2027?uc=ical-diaspora-2027
URL:https://umaine.edu/judaicstudies/event/%f0%9f%ab%93-pesach-vii-2/
CATEGORIES:Holiday
END:VEVENT
BEGIN:VEVENT
DTSTART;VALUE=DATE:20270428
DTEND;VALUE=DATE:20270430
DTSTAMP:20260421T145829
CREATED:20250630T201514Z
LAST-MODIFIED:20250630T201514Z
UID:10000327-1808942400-1809028799@umaine.edu
SUMMARY:🫓 Pesach VIII
DESCRIPTION:Passover\, the Feast of Unleavened Bread. Also called Chag HaMatzot (the Festival of Matzah)\, it commemorates the Exodus and freedom of the Israelites from ancient Egypt\nTorah: Deuteronomy 15:19-16:17; Numbers 28:19-25\nHaftarah: Isaiah 10:32-12:6\nhttps://hebcal.com/h/pesach-2027?uc=ical-diaspora-2027
URL:https://umaine.edu/judaicstudies/event/%f0%9f%ab%93-pesach-viii-2/
CATEGORIES:Holiday
END:VEVENT
BEGIN:VEVENT
DTSTART;VALUE=DATE:20270503
DTEND;VALUE=DATE:20270505
DTSTAMP:20260421T145829
CREATED:20250630T201514Z
LAST-MODIFIED:20250630T201514Z
UID:10000328-1809374400-1809460799@umaine.edu
SUMMARY:✡️ Yom HaShoah
DESCRIPTION:Holocaust Memorial Day\nhttps://hebcal.com/h/yom-hashoah-2027?uc=ical-diaspora-2027
URL:https://umaine.edu/judaicstudies/event/%e2%9c%a1%ef%b8%8f-yom-hashoah-2/
CATEGORIES:Holiday
END:VEVENT
BEGIN:VEVENT
DTSTART;VALUE=DATE:20270506
DTEND;VALUE=DATE:20270508
DTSTAMP:20260421T145829
CREATED:20250630T201515Z
LAST-MODIFIED:20250630T201515Z
UID:10000330-1809633600-1809719999@umaine.edu
SUMMARY:🌒 Rosh Chodesh Iyyar
DESCRIPTION:Start of month of Iyyar on the Hebrew calendar. אִיָיר (transliterated Iyyar or Iyar) is the 8th month of the civil Hebrew year (9th on leap years) and the 2nd month of the biblical Hebrew year. It has 29 days and corresponds to April or May on the Gregorian calendar. רֹאשׁ חוֹדֶשׁ\, transliterated Rosh Chodesh or Rosh Hodesh\, is a minor holiday that occurs at the beginning of every month in the Hebrew calendar. It is marked by the birth of a new moon\nTorah: Numbers 28:1-15\nhttps://hebcal.com/h/rosh-chodesh-iyyar-2027?uc=ical-diaspora-2027
URL:https://umaine.edu/judaicstudies/event/%f0%9f%8c%92-rosh-chodesh-iyyar-4/
CATEGORIES:Holiday
END:VEVENT
BEGIN:VEVENT
DTSTART;VALUE=DATE:20270507
DTEND;VALUE=DATE:20270509
DTSTAMP:20260421T145829
CREATED:20250630T201514Z
LAST-MODIFIED:20250630T201514Z
UID:10000329-1809720000-1809806399@umaine.edu
SUMMARY:🌒 Rosh Chodesh Iyyar
DESCRIPTION:Start of month of Iyyar on the Hebrew calendar. אִיָיר (transliterated Iyyar or Iyar) is the 8th month of the civil Hebrew year (9th on leap years) and the 2nd month of the biblical Hebrew year. It has 29 days and corresponds to April or May on the Gregorian calendar. רֹאשׁ חוֹדֶשׁ\, transliterated Rosh Chodesh or Rosh Hodesh\, is a minor holiday that occurs at the beginning of every month in the Hebrew calendar. It is marked by the birth of a new moon\nHaftarah: Isaiah 66:1-24\nhttps://hebcal.com/h/rosh-chodesh-iyyar-2027?uc=ical-diaspora-2027
URL:https://umaine.edu/judaicstudies/event/%f0%9f%8c%92-rosh-chodesh-iyyar-3/
CATEGORIES:Holiday
END:VEVENT
BEGIN:VEVENT
DTSTART;VALUE=DATE:20270510
DTEND;VALUE=DATE:20270512
DTSTAMP:20260421T145829
CREATED:20250630T201515Z
LAST-MODIFIED:20250630T201515Z
UID:10000331-1809979200-1810065599@umaine.edu
SUMMARY:🇮🇱 Yom HaZikaron
DESCRIPTION:Israeli Memorial Day. Remembers those who died in the War of Independence and other wars in Israel. The full name of the holiday is Yom HaZikaron LeHalalei Ma’arakhot Yisrael ul’Nifge’ei Pe’ulot HaEivah (Hebrew: יוֹם הזִּכָּרוֹן לְחַלְלֵי מַעֲרָכוֹת יִשְׂרָאֵל וּלְנִפְגְעֵי פְּעֻלּוֹת הָאֵיבָה)\, Memorial Day for the Fallen Soldiers of the Wars of Israel and Victims of Actions of Terrorism. Although Yom Hazikaron is normally observed on the 4th of Iyyar\, it may be moved earlier or postponed if observance of the holiday (or Yom HaAtzma’ut\, which always follows it) would conflict with Shabbat\nhttps://hebcal.com/h/yom-hazikaron-2027?uc=ical-diaspora-2027
URL:https://umaine.edu/judaicstudies/event/%f0%9f%87%ae%f0%9f%87%b1-yom-hazikaron-2/
CATEGORIES:Holiday
END:VEVENT
BEGIN:VEVENT
DTSTART;VALUE=DATE:20270511
DTEND;VALUE=DATE:20270513
DTSTAMP:20260421T145829
CREATED:20250630T201515Z
LAST-MODIFIED:20250630T201515Z
UID:10000332-1810065600-1810151999@umaine.edu
SUMMARY:🇮🇱 Yom HaAtzma’ut
DESCRIPTION:Israeli Independence Day. Commemorates the declaration of independence of Israel in 1948. Although Yom HaAtzma’ut is normally observed on the 5th of Iyyar\, it may be moved earlier or postponed if observance of the holiday (or Yom HaZikaron\, which always precedes it) would conflict with Shabbat\nhttps://hebcal.com/h/yom-haatzmaut-2027?uc=ical-diaspora-2027
URL:https://umaine.edu/judaicstudies/event/%f0%9f%87%ae%f0%9f%87%b1-yom-haatzmaut-2/
CATEGORIES:Holiday
END:VEVENT
BEGIN:VEVENT
DTSTART;VALUE=DATE:20270520
DTEND;VALUE=DATE:20270522
DTSTAMP:20260421T145829
CREATED:20250630T201515Z
LAST-MODIFIED:20250630T201515Z
UID:10000333-1810843200-1810929599@umaine.edu
SUMMARY:✡️ Pesach Sheni
DESCRIPTION:Second Passover\, one month after Passover\nhttps://hebcal.com/h/pesach-sheni-2027?uc=ical-diaspora-2027
URL:https://umaine.edu/judaicstudies/event/%e2%9c%a1%ef%b8%8f-pesach-sheni-2/
CATEGORIES:Holiday
END:VEVENT
BEGIN:VEVENT
DTSTART;VALUE=DATE:20270524
DTEND;VALUE=DATE:20270526
DTSTAMP:20260421T145829
CREATED:20250630T201515Z
LAST-MODIFIED:20250630T201515Z
UID:10000334-1811188800-1811275199@umaine.edu
SUMMARY:🔥 Lag BaOmer
DESCRIPTION:33rd day of counting the Omer. The holiday is a temporary break from the semi-mourning period the counting of the Omer. Practices include lighting bonfires\, getting haircuts\, and Jewish weddings\nhttps://hebcal.com/h/lag-baomer-2027?uc=ical-diaspora-2027
URL:https://umaine.edu/judaicstudies/event/%f0%9f%94%a5-lag-baomer-2/
CATEGORIES:Holiday
END:VEVENT
BEGIN:VEVENT
DTSTART;VALUE=DATE:20270603
DTEND;VALUE=DATE:20270605
DTSTAMP:20260421T145829
CREATED:20250630T201515Z
LAST-MODIFIED:20250630T201515Z
UID:10000335-1812052800-1812139199@umaine.edu
SUMMARY:🇮🇱 Yom Yerushalayim
DESCRIPTION:Jerusalem Day. Commemorates the re-unification of Jerusalem in 1967\nhttps://hebcal.com/h/yom-yerushalayim-2027?uc=ical-diaspora-2027
URL:https://umaine.edu/judaicstudies/event/%f0%9f%87%ae%f0%9f%87%b1-yom-yerushalayim-2/
CATEGORIES:Holiday
END:VEVENT
BEGIN:VEVENT
DTSTART;VALUE=DATE:20270605
DTEND;VALUE=DATE:20270607
DTSTAMP:20260421T145829
CREATED:20250630T201515Z
LAST-MODIFIED:20250630T201515Z
UID:10000336-1812225600-1812311999@umaine.edu
SUMMARY:🌒 Rosh Chodesh Sivan
DESCRIPTION:Start of month of Sivan on the Hebrew calendar. Sivan (סִיוָן) is the 9th month of the civil Hebrew year (10th on leap years) and the 3rd month of the biblical Hebrew year. It has 30 days and corresponds to May or June on the Gregorian calendar. רֹאשׁ חוֹדֶשׁ\, transliterated Rosh Chodesh or Rosh Hodesh\, is a minor holiday that occurs at the beginning of every month in the Hebrew calendar. It is marked by the birth of a new moon\nTorah: Numbers 28:1-15\nhttps://hebcal.com/h/rosh-chodesh-sivan-2027?uc=ical-diaspora-2027
URL:https://umaine.edu/judaicstudies/event/%f0%9f%8c%92-rosh-chodesh-sivan-2/
CATEGORIES:Holiday
END:VEVENT
BEGIN:VEVENT
DTSTART;VALUE=DATE:20270609
DTEND;VALUE=DATE:20270611
DTSTAMP:20260421T145829
CREATED:20250630T201516Z
LAST-MODIFIED:20250630T201516Z
UID:10000337-1812571200-1812657599@umaine.edu
SUMMARY:⛰️🌸 Erev Shavuot
DESCRIPTION:Festival of Weeks. Commemorates the giving of the Torah at Mount Sinai\nhttps://hebcal.com/h/shavuot-2027?uc=ical-diaspora-2027
URL:https://umaine.edu/judaicstudies/event/%e2%9b%b0%ef%b8%8f%f0%9f%8c%b8-erev-shavuot-2/
CATEGORIES:Holiday
END:VEVENT
BEGIN:VEVENT
DTSTART;VALUE=DATE:20270610
DTEND;VALUE=DATE:20270612
DTSTAMP:20260421T145829
CREATED:20250630T201516Z
LAST-MODIFIED:20250630T201516Z
UID:10000338-1812657600-1812743999@umaine.edu
SUMMARY:⛰️🌸 Shavuot I
DESCRIPTION:Festival of Weeks. Commemorates the giving of the Torah at Mount Sinai\nTorah: Exodus 19:1-20:23; Numbers 28:26-31\nHaftarah: Ezekiel 1:1-28\, 3:12\nhttps://hebcal.com/h/shavuot-2027?uc=ical-diaspora-2027
URL:https://umaine.edu/judaicstudies/event/%e2%9b%b0%ef%b8%8f%f0%9f%8c%b8-shavuot-i-2/
CATEGORIES:Holiday
END:VEVENT
BEGIN:VEVENT
DTSTART;VALUE=DATE:20270611
DTEND;VALUE=DATE:20270613
DTSTAMP:20260421T145829
CREATED:20250630T201516Z
LAST-MODIFIED:20250630T201516Z
UID:10000339-1812744000-1812830399@umaine.edu
SUMMARY:⛰️🌸 Shavuot II
DESCRIPTION:Festival of Weeks. Commemorates the giving of the Torah at Mount Sinai\nTorah: Deuteronomy 14:22-16:17; Numbers 28:26-31; Ruth 1:1-4:22\nHaftarah: Habakkuk 3:1-19\nHaftarah for Sephardim: Habakkuk 2:20-3:19\nhttps://hebcal.com/h/shavuot-2027?uc=ical-diaspora-2027
URL:https://umaine.edu/judaicstudies/event/%e2%9b%b0%ef%b8%8f%f0%9f%8c%b8-shavuot-ii-2/
CATEGORIES:Holiday
END:VEVENT
END:VCALENDAR