BEGIN:VCALENDAR
VERSION:2.0
PRODID:-//Judaic Studies - ECPv6.15.17.1//NONSGML v1.0//EN
CALSCALE:GREGORIAN
METHOD:PUBLISH
X-WR-CALNAME:Judaic Studies
X-ORIGINAL-URL:https://umaine.edu/judaicstudies
X-WR-CALDESC:Events for Judaic Studies
REFRESH-INTERVAL;VALUE=DURATION:PT1H
X-Robots-Tag:noindex
X-PUBLISHED-TTL:PT1H
BEGIN:VTIMEZONE
TZID:America/New_York
BEGIN:DAYLIGHT
TZOFFSETFROM:-0500
TZOFFSETTO:-0400
TZNAME:EDT
DTSTART:20250309T070000
END:DAYLIGHT
BEGIN:STANDARD
TZOFFSETFROM:-0400
TZOFFSETTO:-0500
TZNAME:EST
DTSTART:20251102T060000
END:STANDARD
BEGIN:DAYLIGHT
TZOFFSETFROM:-0500
TZOFFSETTO:-0400
TZNAME:EDT
DTSTART:20260308T070000
END:DAYLIGHT
BEGIN:STANDARD
TZOFFSETFROM:-0400
TZOFFSETTO:-0500
TZNAME:EST
DTSTART:20261101T060000
END:STANDARD
BEGIN:DAYLIGHT
TZOFFSETFROM:-0500
TZOFFSETTO:-0400
TZNAME:EDT
DTSTART:20270314T070000
END:DAYLIGHT
BEGIN:STANDARD
TZOFFSETFROM:-0400
TZOFFSETTO:-0500
TZNAME:EST
DTSTART:20271107T060000
END:STANDARD
END:VTIMEZONE
BEGIN:VEVENT
DTSTART;VALUE=DATE:20260813
DTEND;VALUE=DATE:20260815
DTSTAMP:20260421T123704
CREATED:20250630T201334Z
LAST-MODIFIED:20250630T201334Z
UID:10000261-1786651200-1786737599@umaine.edu
SUMMARY:🌒 Rosh Chodesh Elul
DESCRIPTION:Start of month of Elul on the Hebrew calendar. Elul (אֱלוּל) is the 12th month of the civil Hebrew year (13th on leap years) and the 6th month of the biblical Hebrew year. It has 29 days and corresponds to August or September on the Gregorian calendar. רֹאשׁ חוֹדֶשׁ\, transliterated Rosh Chodesh or Rosh Hodesh\, is a minor holiday that occurs at the beginning of every month in the Hebrew calendar. It is marked by the birth of a new moon\nTorah: Numbers 28:1-15\nhttps://hebcal.com/h/rosh-chodesh-elul-2026?uc=ical-diaspora-2026
URL:https://umaine.edu/judaicstudies/event/%f0%9f%8c%92-rosh-chodesh-elul-4/
CATEGORIES:Holiday
END:VEVENT
BEGIN:VEVENT
DTSTART;VALUE=DATE:20260904
DTEND;VALUE=DATE:20260906
DTSTAMP:20260421T123704
CREATED:20250630T201334Z
LAST-MODIFIED:20250630T201334Z
UID:10000262-1788552000-1788638399@umaine.edu
SUMMARY:🕍 Leil Selichot
DESCRIPTION:Prayers for forgiveness in preparation for the High Holidays\nhttps://hebcal.com/h/leil-selichot-2026?uc=ical-diaspora-2026
URL:https://umaine.edu/judaicstudies/event/%f0%9f%95%8d-leil-selichot-2/
CATEGORIES:Holiday
END:VEVENT
BEGIN:VEVENT
DTSTART;VALUE=DATE:20260910
DTEND;VALUE=DATE:20260912
DTSTAMP:20260421T123704
CREATED:20250630T201334Z
LAST-MODIFIED:20250630T201334Z
UID:10000263-1789070400-1789156799@umaine.edu
SUMMARY:🍏🍯 Erev Rosh Hashana
DESCRIPTION:The Jewish New Year. Also spelled Rosh Hashanah\nhttps://hebcal.com/h/rosh-hashana-2026?uc=ical-diaspora-2026
URL:https://umaine.edu/judaicstudies/event/%f0%9f%8d%8f%f0%9f%8d%af-erev-rosh-hashana-2/
CATEGORIES:Holiday
END:VEVENT
BEGIN:VEVENT
DTSTART;VALUE=DATE:20260911
DTEND;VALUE=DATE:20260913
DTSTAMP:20260421T123704
CREATED:20250630T201334Z
LAST-MODIFIED:20250630T201334Z
UID:10000264-1789156800-1789243199@umaine.edu
SUMMARY:🍏🍯 Rosh Hashana 5787
DESCRIPTION:The Jewish New Year. Also spelled Rosh Hashanah\nTorah: Genesis 21:1-34; Numbers 29:1-6\nHaftarah: I Samuel 1:1-2:10\nhttps://hebcal.com/h/rosh-hashana-2026?uc=ical-diaspora-2026
URL:https://umaine.edu/judaicstudies/event/%f0%9f%8d%8f%f0%9f%8d%af-rosh-hashana-5787/
CATEGORIES:Holiday
END:VEVENT
BEGIN:VEVENT
DTSTART;VALUE=DATE:20260912
DTEND;VALUE=DATE:20260914
DTSTAMP:20260421T123704
CREATED:20250630T201334Z
LAST-MODIFIED:20250630T201334Z
UID:10000266-1789243200-1789329599@umaine.edu
SUMMARY:🍏🍯 Rosh Hashana II
DESCRIPTION:The Jewish New Year. Also spelled Rosh Hashanah\nTorah: Genesis 22:1-24; Numbers 29:1-6\nHaftarah: Jeremiah 31:2-20\nhttps://hebcal.com/h/rosh-hashana-2026?uc=ical-diaspora-2026
URL:https://umaine.edu/judaicstudies/event/%f0%9f%8d%8f%f0%9f%8d%af-rosh-hashana-ii-2/
CATEGORIES:Holiday
END:VEVENT
BEGIN:VEVENT
DTSTART;VALUE=DATE:20260913
DTEND;VALUE=DATE:20260915
DTSTAMP:20260421T123704
CREATED:20250630T201334Z
LAST-MODIFIED:20250630T201334Z
UID:10000265-1789329600-1789415999@umaine.edu
SUMMARY:✡️ Tzom Gedaliah
DESCRIPTION:Fast of the Seventh Month. Commemorates the assassination of the Jewish governor of Judah\nTorah: Exodus 32:11-14\, 34:1-10\nhttps://hebcal.com/h/tzom-gedaliah-2026?uc=ical-diaspora-2026
URL:https://umaine.edu/judaicstudies/event/%e2%9c%a1%ef%b8%8f-tzom-gedaliah-2/
CATEGORIES:Holiday
END:VEVENT
BEGIN:VEVENT
DTSTART;VALUE=DATE:20260918
DTEND;VALUE=DATE:20260920
DTSTAMP:20260421T123704
CREATED:20250630T201334Z
LAST-MODIFIED:20250630T201334Z
UID:10000267-1789761600-1789847999@umaine.edu
SUMMARY:🕍 Shabbat Shuva
DESCRIPTION:Shabbat of Returning. Shabbat that occurs during the Ten Days of Repentance between Rosh Hashanah and Yom Kippur\nHaftarah: Hosea 14:2-10; Micah 7:18-20; Joel 2:15-27\nhttps://hebcal.com/h/shabbat-shuva-2026?uc=ical-diaspora-2026
URL:https://umaine.edu/judaicstudies/event/%f0%9f%95%8d-shabbat-shuva-2/
CATEGORIES:Holiday
END:VEVENT
BEGIN:VEVENT
DTSTART;VALUE=DATE:20260919
DTEND;VALUE=DATE:20260921
DTSTAMP:20260421T123704
CREATED:20250630T201335Z
LAST-MODIFIED:20250630T201335Z
UID:10000268-1789848000-1789934399@umaine.edu
SUMMARY:✡️ Erev Yom Kippur
DESCRIPTION:Day of Atonement. The holiest day of the year in Judaism\, traditionally observed with a 25-hour period of fasting and intensive prayer\nhttps://hebcal.com/h/yom-kippur-2026?uc=ical-diaspora-2026
URL:https://umaine.edu/judaicstudies/event/%e2%9c%a1%ef%b8%8f-erev-yom-kippur-2/
CATEGORIES:Holiday
END:VEVENT
BEGIN:VEVENT
DTSTART;VALUE=DATE:20260920
DTEND;VALUE=DATE:20260922
DTSTAMP:20260421T123704
CREATED:20250630T201335Z
LAST-MODIFIED:20250630T201335Z
UID:10000269-1789934400-1790020799@umaine.edu
SUMMARY:✡️ Yom Kippur
DESCRIPTION:Day of Atonement. The holiest day of the year in Judaism\, traditionally observed with a 25-hour period of fasting and intensive prayer\nTorah: Leviticus 16:1-34; Numbers 29:7-11\nHaftarah: Isaiah 57:14-58:14\nhttps://hebcal.com/h/yom-kippur-2026?uc=ical-diaspora-2026
URL:https://umaine.edu/judaicstudies/event/%e2%9c%a1%ef%b8%8f-yom-kippur-2/
CATEGORIES:Holiday
END:VEVENT
BEGIN:VEVENT
DTSTART;VALUE=DATE:20260924
DTEND;VALUE=DATE:20260926
DTSTAMP:20260421T123704
CREATED:20250630T201335Z
LAST-MODIFIED:20250630T201335Z
UID:10000270-1790280000-1790366399@umaine.edu
SUMMARY:🌿🍋 Erev Sukkot
DESCRIPTION:Feast of Booths. Also called the Feast of Tabernacles\, the seven-day holiday is one of the Three Pilgrimage Festivals (Hebrew: שלוש רגלים\, shalosh regalim)\nhttps://hebcal.com/h/sukkot-2026?uc=ical-diaspora-2026
URL:https://umaine.edu/judaicstudies/event/%f0%9f%8c%bf%f0%9f%8d%8b-erev-sukkot-2/
CATEGORIES:Holiday
END:VEVENT
BEGIN:VEVENT
DTSTART;VALUE=DATE:20260925
DTEND;VALUE=DATE:20260927
DTSTAMP:20260421T123704
CREATED:20250630T201335Z
LAST-MODIFIED:20250630T201335Z
UID:10000271-1790366400-1790452799@umaine.edu
SUMMARY:🌿🍋 Sukkot I
DESCRIPTION:Feast of Booths. Also called the Feast of Tabernacles\, the seven-day holiday is one of the Three Pilgrimage Festivals (Hebrew: שלוש רגלים\, shalosh regalim)\nTorah: Leviticus 22:26-23:44; Numbers 29:12-16\nHaftarah: Zechariah 14:1-21\nhttps://hebcal.com/h/sukkot-2026?uc=ical-diaspora-2026
URL:https://umaine.edu/judaicstudies/event/%f0%9f%8c%bf%f0%9f%8d%8b-sukkot-i-2/
CATEGORIES:Holiday
END:VEVENT
BEGIN:VEVENT
DTSTART;VALUE=DATE:20260926
DTEND;VALUE=DATE:20260928
DTSTAMP:20260421T123704
CREATED:20250630T201335Z
LAST-MODIFIED:20250630T201335Z
UID:10000272-1790452800-1790539199@umaine.edu
SUMMARY:🌿🍋 Sukkot II
DESCRIPTION:Feast of Booths. Also called the Feast of Tabernacles\, the seven-day holiday is one of the Three Pilgrimage Festivals (Hebrew: שלוש רגלים\, shalosh regalim)\nTorah: Leviticus 22:26-23:44; Numbers 29:12-16\nHaftarah: I Kings 8:2-21\nhttps://hebcal.com/h/sukkot-2026?uc=ical-diaspora-2026
URL:https://umaine.edu/judaicstudies/event/%f0%9f%8c%bf%f0%9f%8d%8b-sukkot-ii-2/
CATEGORIES:Holiday
END:VEVENT
BEGIN:VEVENT
DTSTART;VALUE=DATE:20260927
DTEND;VALUE=DATE:20260929
DTSTAMP:20260421T123704
CREATED:20250630T201335Z
LAST-MODIFIED:20250630T201335Z
UID:10000273-1790539200-1790625599@umaine.edu
SUMMARY:🌿🍋 Sukkot III (CH’’M)
DESCRIPTION:Feast of Booths. Also called the Feast of Tabernacles\, the seven-day holiday is one of the Three Pilgrimage Festivals (Hebrew: שלוש רגלים\, shalosh regalim)\nTorah: Numbers 29:17-25\, 29:17-22\nhttps://hebcal.com/h/sukkot-2026?uc=ical-diaspora-2026
URL:https://umaine.edu/judaicstudies/event/%f0%9f%8c%bf%f0%9f%8d%8b-sukkot-iii-chm-2/
CATEGORIES:Holiday
END:VEVENT
BEGIN:VEVENT
DTSTART;VALUE=DATE:20260928
DTEND;VALUE=DATE:20260930
DTSTAMP:20260421T123704
CREATED:20250630T201336Z
LAST-MODIFIED:20250630T201336Z
UID:10000274-1790625600-1790711999@umaine.edu
SUMMARY:🌿🍋 Sukkot IV (CH’’M)
DESCRIPTION:Feast of Booths. Also called the Feast of Tabernacles\, the seven-day holiday is one of the Three Pilgrimage Festivals (Hebrew: שלוש רגלים\, shalosh regalim)\nTorah: Numbers 29:20-28\, 29:20-25\nhttps://hebcal.com/h/sukkot-2026?uc=ical-diaspora-2026
URL:https://umaine.edu/judaicstudies/event/%f0%9f%8c%bf%f0%9f%8d%8b-sukkot-iv-chm-2/
CATEGORIES:Holiday
END:VEVENT
BEGIN:VEVENT
DTSTART;VALUE=DATE:20260929
DTEND;VALUE=DATE:20261001
DTSTAMP:20260421T123704
CREATED:20250630T201336Z
LAST-MODIFIED:20250630T201336Z
UID:10000275-1790712000-1790798399@umaine.edu
SUMMARY:🌿🍋 Sukkot V (CH’’M)
DESCRIPTION:Feast of Booths. Also called the Feast of Tabernacles\, the seven-day holiday is one of the Three Pilgrimage Festivals (Hebrew: שלוש רגלים\, shalosh regalim)\nTorah: Numbers 29:23-31\, 29:23-28\nhttps://hebcal.com/h/sukkot-2026?uc=ical-diaspora-2026
URL:https://umaine.edu/judaicstudies/event/%f0%9f%8c%bf%f0%9f%8d%8b-sukkot-v-chm-2/
CATEGORIES:Holiday
END:VEVENT
BEGIN:VEVENT
DTSTART;VALUE=DATE:20260930
DTEND;VALUE=DATE:20261002
DTSTAMP:20260421T123704
CREATED:20250630T201336Z
LAST-MODIFIED:20250630T201336Z
UID:10000278-1790798400-1790884799@umaine.edu
SUMMARY:🌿🍋 Sukkot VI (CH’’M)
DESCRIPTION:Feast of Booths. Also called the Feast of Tabernacles\, the seven-day holiday is one of the Three Pilgrimage Festivals (Hebrew: שלוש רגלים\, shalosh regalim)\nTorah: Numbers 29:26-34\, 29:26-31\nhttps://hebcal.com/h/sukkot-2026?uc=ical-diaspora-2026
URL:https://umaine.edu/judaicstudies/event/%f0%9f%8c%bf%f0%9f%8d%8b-sukkot-vi-chm-2/
CATEGORIES:Holiday
END:VEVENT
BEGIN:VEVENT
DTSTART;VALUE=DATE:20261001
DTEND;VALUE=DATE:20261003
DTSTAMP:20260421T123704
CREATED:20250630T201336Z
LAST-MODIFIED:20250630T201336Z
UID:10000277-1790884800-1790971199@umaine.edu
SUMMARY:🌿🍋 Sukkot VII (Hoshana Raba)
DESCRIPTION:Feast of Booths. Also called the Feast of Tabernacles\, the seven-day holiday is one of the Three Pilgrimage Festivals (Hebrew: שלוש רגלים\, shalosh regalim)\nTorah: Numbers 29:26-34\nhttps://hebcal.com/h/sukkot-2026?uc=ical-diaspora-2026
URL:https://umaine.edu/judaicstudies/event/%f0%9f%8c%bf%f0%9f%8d%8b-sukkot-vii-hoshana-raba-2/
CATEGORIES:Holiday
END:VEVENT
BEGIN:VEVENT
DTSTART;VALUE=DATE:20261002
DTEND;VALUE=DATE:20261004
DTSTAMP:20260421T123704
CREATED:20250630T201336Z
LAST-MODIFIED:20250630T201336Z
UID:10000276-1790971200-1791057599@umaine.edu
SUMMARY:✡️ Shmini Atzeret
DESCRIPTION:Eighth Day of Assembly. Immediately following Sukkot\, it is observed as a separate holiday in the Diaspora and is combined with Simchat Torah in Israel\nTorah: Deuteronomy 14:22-16:17; Numbers 29:35-30:1; Ecclesiastes 1:1-12:14\nHaftarah: I Kings 8:54-66\nhttps://hebcal.com/h/shmini-atzeret-2026?uc=ical-diaspora-2026
URL:https://umaine.edu/judaicstudies/event/%e2%9c%a1%ef%b8%8f-shmini-atzeret-2/
CATEGORIES:Holiday
END:VEVENT
BEGIN:VEVENT
DTSTART;VALUE=DATE:20261003
DTEND;VALUE=DATE:20261005
DTSTAMP:20260421T123704
CREATED:20250630T201336Z
LAST-MODIFIED:20250630T201336Z
UID:10000279-1791057600-1791143999@umaine.edu
SUMMARY:✡️ Simchat Torah
DESCRIPTION:Day of Celebrating the Torah. Celebration marking the conclusion of the annual cycle of public Torah readings\, and the beginning of a new cycle\nTorah: Deuteronomy 33:1-34:12; Genesis 1:1-2:3; Numbers 29:35-30:1\nHaftarah: Joshua 1:1-18\nhttps://hebcal.com/h/simchat-torah-2026?uc=ical-diaspora-2026
URL:https://umaine.edu/judaicstudies/event/%e2%9c%a1%ef%b8%8f-simchat-torah-2/
CATEGORIES:Holiday
END:VEVENT
BEGIN:VEVENT
DTSTART;VALUE=DATE:20261010
DTEND;VALUE=DATE:20261012
DTSTAMP:20260421T123704
CREATED:20250630T201336Z
LAST-MODIFIED:20250630T201336Z
UID:10000280-1791662400-1791748799@umaine.edu
SUMMARY:🌒 Rosh Chodesh Cheshvan
DESCRIPTION:Start of month of Cheshvan on the Hebrew calendar. חֶשְׁוָן (transliterated Cheshvan or Heshvan) is the 2nd month of the civil Hebrew year and the 8th month of the biblical Hebrew year. It has 29 or 30 days and corresponds to October or November on the Gregorian calendar. רֹאשׁ חוֹדֶשׁ\, transliterated Rosh Chodesh or Rosh Hodesh\, is a minor holiday that occurs at the beginning of every month in the Hebrew calendar. It is marked by the birth of a new moon\nTorah: Numbers 28:1-15\nhttps://hebcal.com/h/rosh-chodesh-cheshvan-2026?uc=ical-diaspora-2026
URL:https://umaine.edu/judaicstudies/event/%f0%9f%8c%92-rosh-chodesh-cheshvan-3/
CATEGORIES:Holiday
END:VEVENT
BEGIN:VEVENT
DTSTART;VALUE=DATE:20261011
DTEND;VALUE=DATE:20261013
DTSTAMP:20260421T123704
CREATED:20250630T201337Z
LAST-MODIFIED:20250630T201337Z
UID:10000281-1791748800-1791835199@umaine.edu
SUMMARY:🌒 Rosh Chodesh Cheshvan
DESCRIPTION:Start of month of Cheshvan on the Hebrew calendar. חֶשְׁוָן (transliterated Cheshvan or Heshvan) is the 2nd month of the civil Hebrew year and the 8th month of the biblical Hebrew year. It has 29 or 30 days and corresponds to October or November on the Gregorian calendar. רֹאשׁ חוֹדֶשׁ\, transliterated Rosh Chodesh or Rosh Hodesh\, is a minor holiday that occurs at the beginning of every month in the Hebrew calendar. It is marked by the birth of a new moon\nTorah: Numbers 28:1-15\nhttps://hebcal.com/h/rosh-chodesh-cheshvan-2026?uc=ical-diaspora-2026
URL:https://umaine.edu/judaicstudies/event/%f0%9f%8c%92-rosh-chodesh-cheshvan-4/
CATEGORIES:Holiday
END:VEVENT
BEGIN:VEVENT
DTSTART;VALUE=DATE:20261108
DTEND;VALUE=DATE:20261110
DTSTAMP:20260421T123704
CREATED:20250630T201337Z
LAST-MODIFIED:20250630T201337Z
UID:10000282-1794164400-1794250799@umaine.edu
SUMMARY:✡️ Sigd
DESCRIPTION:Ethiopian Jewish holiday occurring 50 days after Yom Kippur\nhttps://hebcal.com/h/sigd-2026?uc=ical-diaspora-2026
URL:https://umaine.edu/judaicstudies/event/%e2%9c%a1%ef%b8%8f-sigd-2/
CATEGORIES:Holiday
END:VEVENT
BEGIN:VEVENT
DTSTART;VALUE=DATE:20261109
DTEND;VALUE=DATE:20261111
DTSTAMP:20260421T123704
CREATED:20250630T201337Z
LAST-MODIFIED:20250630T201337Z
UID:10000283-1794250800-1794337199@umaine.edu
SUMMARY:🌒 Rosh Chodesh Kislev
DESCRIPTION:Start of month of Kislev on the Hebrew calendar. Kislev (כִּסְלֵו) is the 3rd month of the civil Hebrew year and the 9th month of the biblical Hebrew year. It has 30 or 29 days and corresponds to November or December on the Gregorian calendar. רֹאשׁ חוֹדֶשׁ\, transliterated Rosh Chodesh or Rosh Hodesh\, is a minor holiday that occurs at the beginning of every month in the Hebrew calendar. It is marked by the birth of a new moon\nTorah: Numbers 28:1-15\nhttps://hebcal.com/h/rosh-chodesh-kislev-2026?uc=ical-diaspora-2026
URL:https://umaine.edu/judaicstudies/event/%f0%9f%8c%92-rosh-chodesh-kislev-2/
CATEGORIES:Holiday
END:VEVENT
BEGIN:VEVENT
DTSTART;VALUE=DATE:20261110
DTEND;VALUE=DATE:20261112
DTSTAMP:20260421T123704
CREATED:20250630T201337Z
LAST-MODIFIED:20250630T201337Z
UID:10000284-1794337200-1794423599@umaine.edu
SUMMARY:🌒 Rosh Chodesh Kislev
DESCRIPTION:Start of month of Kislev on the Hebrew calendar. Kislev (כִּסְלֵו) is the 3rd month of the civil Hebrew year and the 9th month of the biblical Hebrew year. It has 30 or 29 days and corresponds to November or December on the Gregorian calendar. רֹאשׁ חוֹדֶשׁ\, transliterated Rosh Chodesh or Rosh Hodesh\, is a minor holiday that occurs at the beginning of every month in the Hebrew calendar. It is marked by the birth of a new moon\nTorah: Numbers 28:1-15\nhttps://hebcal.com/h/rosh-chodesh-kislev-2026?uc=ical-diaspora-2026
URL:https://umaine.edu/judaicstudies/event/%f0%9f%8c%92-rosh-chodesh-kislev-3/
CATEGORIES:Holiday
END:VEVENT
BEGIN:VEVENT
DTSTART;VALUE=DATE:20261203
DTEND;VALUE=DATE:20261205
DTSTAMP:20260421T123704
CREATED:20250630T201337Z
LAST-MODIFIED:20250630T201337Z
UID:10000285-1796324400-1796410799@umaine.edu
SUMMARY:🕎1️⃣ Chanukah: 1 Candle
DESCRIPTION:Hanukkah\, the Jewish festival of rededication. Also known as the Festival of Lights\, the eight-day festival is observed by lighting the candles of a hanukkiah (menorah)\nhttps://hebcal.com/h/chanukah-2026?uc=ical-diaspora-2026
URL:https://umaine.edu/judaicstudies/event/%f0%9f%95%8e1%ef%b8%8f%e2%83%a3-chanukah-1-candle-2/
CATEGORIES:Holiday
END:VEVENT
BEGIN:VEVENT
DTSTART;VALUE=DATE:20261204
DTEND;VALUE=DATE:20261206
DTSTAMP:20260421T123704
CREATED:20250630T201337Z
LAST-MODIFIED:20250630T201337Z
UID:10000286-1796410800-1796497199@umaine.edu
SUMMARY:🕎2️⃣ Chanukah: 2 Candles
DESCRIPTION:Hanukkah\, the Jewish festival of rededication. Also known as the Festival of Lights\, the eight-day festival is observed by lighting the candles of a hanukkiah (menorah)\nHaftarah: Zechariah 2:14-4:7\nhttps://hebcal.com/h/chanukah-2026?uc=ical-diaspora-2026
URL:https://umaine.edu/judaicstudies/event/%f0%9f%95%8e2%ef%b8%8f%e2%83%a3-chanukah-2-candles-2/
CATEGORIES:Holiday
END:VEVENT
BEGIN:VEVENT
DTSTART;VALUE=DATE:20261205
DTEND;VALUE=DATE:20261207
DTSTAMP:20260421T123704
CREATED:20250630T201338Z
LAST-MODIFIED:20250630T201338Z
UID:10000289-1796497200-1796583599@umaine.edu
SUMMARY:🕎3️⃣ Chanukah: 3 Candles
DESCRIPTION:Hanukkah\, the Jewish festival of rededication. Also known as the Festival of Lights\, the eight-day festival is observed by lighting the candles of a hanukkiah (menorah)\nTorah: Numbers 7:18-29\nhttps://hebcal.com/h/chanukah-2026?uc=ical-diaspora-2026
URL:https://umaine.edu/judaicstudies/event/%f0%9f%95%8e3%ef%b8%8f%e2%83%a3-chanukah-3-candles-2/
CATEGORIES:Holiday
END:VEVENT
BEGIN:VEVENT
DTSTART;VALUE=DATE:20261206
DTEND;VALUE=DATE:20261208
DTSTAMP:20260421T123704
CREATED:20250630T201338Z
LAST-MODIFIED:20250630T201338Z
UID:10000288-1796583600-1796669999@umaine.edu
SUMMARY:🕎4️⃣ Chanukah: 4 Candles
DESCRIPTION:Hanukkah\, the Jewish festival of rededication. Also known as the Festival of Lights\, the eight-day festival is observed by lighting the candles of a hanukkiah (menorah)\nTorah: Numbers 7:24-35\nhttps://hebcal.com/h/chanukah-2026?uc=ical-diaspora-2026
URL:https://umaine.edu/judaicstudies/event/%f0%9f%95%8e4%ef%b8%8f%e2%83%a3-chanukah-4-candles-2/
CATEGORIES:Holiday
END:VEVENT
BEGIN:VEVENT
DTSTART;VALUE=DATE:20261207
DTEND;VALUE=DATE:20261209
DTSTAMP:20260421T123704
CREATED:20250630T201338Z
LAST-MODIFIED:20250630T201338Z
UID:10000287-1796670000-1796756399@umaine.edu
SUMMARY:🕎5️⃣ Chanukah: 5 Candles
DESCRIPTION:Hanukkah\, the Jewish festival of rededication. Also known as the Festival of Lights\, the eight-day festival is observed by lighting the candles of a hanukkiah (menorah)\nTorah: Numbers 7:30-41\nhttps://hebcal.com/h/chanukah-2026?uc=ical-diaspora-2026
URL:https://umaine.edu/judaicstudies/event/%f0%9f%95%8e5%ef%b8%8f%e2%83%a3-chanukah-5-candles-2/
CATEGORIES:Holiday
END:VEVENT
BEGIN:VEVENT
DTSTART;VALUE=DATE:20261208
DTEND;VALUE=DATE:20261210
DTSTAMP:20260421T123704
CREATED:20250630T201338Z
LAST-MODIFIED:20250630T201338Z
UID:10000290-1796756400-1796842799@umaine.edu
SUMMARY:🕎6️⃣ Chanukah: 6 Candles
DESCRIPTION:Hanukkah\, the Jewish festival of rededication. Also known as the Festival of Lights\, the eight-day festival is observed by lighting the candles of a hanukkiah (menorah)\nTorah: Numbers 7:36-47\nhttps://hebcal.com/h/chanukah-2026?uc=ical-diaspora-2026
URL:https://umaine.edu/judaicstudies/event/%f0%9f%95%8e6%ef%b8%8f%e2%83%a3-chanukah-6-candles-2/
CATEGORIES:Holiday
END:VEVENT
END:VCALENDAR