BEGIN:VCALENDAR
VERSION:2.0
PRODID:-//International Programs - ECPv6.15.17.1//NONSGML v1.0//EN
CALSCALE:GREGORIAN
METHOD:PUBLISH
X-WR-CALNAME:International Programs
X-ORIGINAL-URL:https://umaine.edu/international
X-WR-CALDESC:Events for International Programs
REFRESH-INTERVAL;VALUE=DURATION:PT1H
X-Robots-Tag:noindex
X-PUBLISHED-TTL:PT1H
BEGIN:VTIMEZONE
TZID:America/New_York
BEGIN:DAYLIGHT
TZOFFSETFROM:-0500
TZOFFSETTO:-0400
TZNAME:EDT
DTSTART:20230312T070000
END:DAYLIGHT
BEGIN:STANDARD
TZOFFSETFROM:-0400
TZOFFSETTO:-0500
TZNAME:EST
DTSTART:20231105T060000
END:STANDARD
BEGIN:DAYLIGHT
TZOFFSETFROM:-0500
TZOFFSETTO:-0400
TZNAME:EDT
DTSTART:20240310T070000
END:DAYLIGHT
BEGIN:STANDARD
TZOFFSETFROM:-0400
TZOFFSETTO:-0500
TZNAME:EST
DTSTART:20241103T060000
END:STANDARD
BEGIN:DAYLIGHT
TZOFFSETFROM:-0500
TZOFFSETTO:-0400
TZNAME:EDT
DTSTART:20250309T070000
END:DAYLIGHT
BEGIN:STANDARD
TZOFFSETFROM:-0400
TZOFFSETTO:-0500
TZNAME:EST
DTSTART:20251102T060000
END:STANDARD
END:VTIMEZONE
BEGIN:VEVENT
DTSTART;TZID=America/New_York:20240111T173000
DTEND;TZID=America/New_York:20240111T193000
DTSTAMP:20260420T213326
CREATED:20240109T152654Z
LAST-MODIFIED:20240109T152654Z
UID:10000152-1704994200-1705001400@umaine.edu
SUMMARY:Dinner and Game Night (Registration Required)
DESCRIPTION:Join the staff of OIP and Winnifred\, the International Student Liaison for the Graduate School for a light meal and a fun filled evening of board games and other entertaining activities. \nRegister Here: https://forms.gle/cLSTHWz9tjRWwXwe8
URL:https://umaine.edu/international/event/dinner-and-game-night-registration-required/
LOCATION:57 Stodder Hall
END:VEVENT
BEGIN:VEVENT
DTSTART;TZID=America/New_York:20240109T170000
DTEND;TZID=America/New_York:20240109T193000
DTSTAMP:20260420T213326
CREATED:20240109T151148Z
LAST-MODIFIED:20240109T151148Z
UID:10000140-1704819600-1704828600@umaine.edu
SUMMARY:New International Student Social
DESCRIPTION:Join OIP staff\, new students and returning students for a hot meal in 57 Stodder Hall. This is the kick-off for the official International Student Orientation program and a great way to meet one another in an informal setting before the Orientation program begins.  We will assist attendees with rides home if you live in the Orono/Old Town area.
URL:https://umaine.edu/international/event/new-international-student-social/
LOCATION:57 Stodder Hall
END:VEVENT
END:VCALENDAR