BEGIN:VCALENDAR
VERSION:2.0
PRODID:-//Foster Center for Innovation - ECPv6.15.17.1//NONSGML v1.0//EN
CALSCALE:GREGORIAN
METHOD:PUBLISH
X-WR-CALNAME:Foster Center for Innovation
X-ORIGINAL-URL:https://umaine.edu/innovation
X-WR-CALDESC:Events for Foster Center for Innovation
REFRESH-INTERVAL;VALUE=DURATION:PT1H
X-Robots-Tag:noindex
X-PUBLISHED-TTL:PT1H
BEGIN:VTIMEZONE
TZID:America/New_York
BEGIN:DAYLIGHT
TZOFFSETFROM:-0500
TZOFFSETTO:-0400
TZNAME:EDT
DTSTART:20210314T070000
END:DAYLIGHT
BEGIN:STANDARD
TZOFFSETFROM:-0400
TZOFFSETTO:-0500
TZNAME:EST
DTSTART:20211107T060000
END:STANDARD
BEGIN:DAYLIGHT
TZOFFSETFROM:-0500
TZOFFSETTO:-0400
TZNAME:EDT
DTSTART:20220313T070000
END:DAYLIGHT
BEGIN:STANDARD
TZOFFSETFROM:-0400
TZOFFSETTO:-0500
TZNAME:EST
DTSTART:20221106T060000
END:STANDARD
BEGIN:DAYLIGHT
TZOFFSETFROM:-0500
TZOFFSETTO:-0400
TZNAME:EDT
DTSTART:20230312T070000
END:DAYLIGHT
BEGIN:STANDARD
TZOFFSETFROM:-0400
TZOFFSETTO:-0500
TZNAME:EST
DTSTART:20231105T060000
END:STANDARD
END:VTIMEZONE
BEGIN:VEVENT
DTSTART;TZID=America/New_York:20221201T160000
DTEND;TZID=America/New_York:20221201T170000
DTSTAMP:20260421T000656
CREATED:20220120T232846Z
LAST-MODIFIED:20220916T212703Z
UID:10000030-1669910400-1669914000@umaine.edu
SUMMARY:Commercialization Training Series: Industry Collaborations and Licensing
DESCRIPTION:Universities and companies have become more interested in forging long-term collaborative relationships. Learn why there has been an increase in collaboration and the mechanics of cultivating and improving the effectiveness of such partnerships. All Commercialization Series workshops will be held online – once you register\, we will send you a link to attend via Zoom. This is an elective workshop in this free series. \nRegister via Eventbrite \nQuestions? Email us!
URL:https://umaine.edu/innovation/event/commercialization-training-series-working-with-external-partners/
LOCATION:Virtual Event
CATEGORIES:Commercialization Training Series
ORGANIZER;CN="Foster Center for Innovation":MAILTO:uminnovation@maine.edu
END:VEVENT
BEGIN:VEVENT
DTSTART;TZID=America/New_York:20221013T160000
DTEND;TZID=America/New_York:20221013T170000
DTSTAMP:20260421T000656
CREATED:20200916T001049Z
LAST-MODIFIED:20220916T192630Z
UID:10000045-1665676800-1665680400@umaine.edu
SUMMARY:Commercialization Training Series: Idea Validation
DESCRIPTION:New innovations based on cutting-edge research have a high failure rate because they focus on the wrong needs or even the wrong end user. In this workshop\, you will learn how to use Innovation Engineering tools to test your assumptions and validate that they align with end user needs\, wants\, and expectations. All Commercialization Series workshops will be held online\, so once you register\, we will send you a link to attend via Zoom. This is a core workshop in this series. \nRegister for this workshop \nQuestions? Email us!
URL:https://umaine.edu/innovation/event/commercialization-training-series-idea-validation/
LOCATION:Virtual Event
CATEGORIES:Commercialization Training Series
ORGANIZER;CN="Foster Center for Innovation":MAILTO:uminnovation@maine.edu
END:VEVENT
BEGIN:VEVENT
DTSTART;TZID=America/New_York:20220922T160000
DTEND;TZID=America/New_York:20220922T170000
DTSTAMP:20260421T000656
CREATED:20201217T222235Z
LAST-MODIFIED:20220916T192712Z
UID:10000044-1663862400-1663866000@umaine.edu
SUMMARY:Commercialization Training Series: Kickoff to Commercialization
DESCRIPTION:Learn the fundamentals of research commercialization\, understand the various pathways to the marketplace\, get exposure to Maine and national resources designed to assist\, and learn about additional professional development offerings planned for the year. All Commercialization Series workshops will be held online\, so once you register we will send you a link to attend via Zoom. This is a core workshop in this free series. \nRegister for this workshop \nQuestions? Email us!
URL:https://umaine.edu/innovation/event/commercialization-training-series-kickoff-to-commercialization/
LOCATION:Virtual Event
CATEGORIES:Commercialization Training Series
END:VEVENT
BEGIN:VEVENT
DTSTART;TZID=America/New_York:20220421T160000
DTEND;TZID=America/New_York:20220421T173000
DTSTAMP:20260421T000656
CREATED:20220120T233203Z
LAST-MODIFIED:20220120T233357Z
UID:10000031-1650556800-1650562200@umaine.edu
SUMMARY:Commercialization Training Series: Ethics in Commercialization
DESCRIPTION:Details coming soon! \nAll Commercialization Series workshops will be held online – once you RSVP\, we will send you a link to attend via Zoom. This is an elective workshop in this free series.\nRegister now via Eventbrite
URL:https://umaine.edu/innovation/event/1773/
LOCATION:Virtual Event
CATEGORIES:Commercialization Training Series
END:VEVENT
BEGIN:VEVENT
DTSTART;TZID=America/New_York:20220412T170000
DTEND;TZID=America/New_York:20220412T170000
DTSTAMP:20260421T000656
CREATED:20210110T182919Z
LAST-MODIFIED:20210916T135750Z
UID:10000029-1649782800-1649782800@umaine.edu
SUMMARY:Big Gig Pitch Competition: Season Finale
DESCRIPTION:Three entrepreneurs will pitch their innovative\, early-stage business or business idea to a panel of three judges and the audience in the season finale of the 2021-22 Big Gig series. The winning entrepreneur will walk away with a $500 prize and a chance to pitch for $5\,000 in the Big Gig season finale. Pitchers for this round will be determined by the outcomes of the three regular season Big Gig events. \nBig Gig represents a partnership between a motivated group of municipalities\, universities\, and organizations in Maine’s Penobscot River Valley who work with local innovators and entrepreneurs to create a supportive network and to bring positive change and economic growth to our communities. \nTo learn more about Big Gig\, visit their website.
URL:https://umaine.edu/innovation/event/1526/
LOCATION:Virtual Event
CATEGORIES:Big Gig
END:VEVENT
BEGIN:VEVENT
DTSTART;TZID=America/New_York:20220310T160000
DTEND;TZID=America/New_York:20220310T173000
DTSTAMP:20260421T000656
CREATED:20210110T181024Z
LAST-MODIFIED:20220120T232130Z
UID:10000042-1646928000-1646933400@umaine.edu
SUMMARY:Commercialization Training Series: Grant Writing and Funding Pathways
DESCRIPTION:Moving university research and technology toward commercialization will require capital for additional research and development prior to generating revenue and attracting further investment. There are a range of funding sources available for projects with commercialization potential emerging from Maine research institutions\, and this workshop will help you understand the funding landscape and offer best practices for grant writing.  All Commercialization Series workshops will be held online – once you RSVP\, we will send you a link to attend via Zoom. This is an elective workshop in this free series.\nRegister now via Eventbrite
URL:https://umaine.edu/innovation/event/commercialization-training-series-grant-writing-and-funding-pathways/
LOCATION:Virtual Event
CATEGORIES:Commercialization Training Series
END:VEVENT
BEGIN:VEVENT
DTSTART;TZID=America/New_York:20220215T170000
DTEND;TZID=America/New_York:20220215T170000
DTSTAMP:20260421T000656
CREATED:20210110T182612Z
LAST-MODIFIED:20210916T135857Z
UID:10000041-1644944400-1644944400@umaine.edu
SUMMARY:Big Gig Pitch Competition - Regular Season #3
DESCRIPTION:Three entrepreneurs will pitch their innovative\, early-stage business or business idea to a panel of three judges and the audience in the third regular-season event in the 2021-22 Big Gig series. The winning entrepreneur will walk away with a $500 prize and a chance to pitch for $5\,000 in the Big Gig season finale. Pitchers and registration details for this round\, which will be held virtually\, will be posted closer to the event. \nBig Gig represents a partnership between a motivated group of municipalities\, universities\, and organizations in Maine’s Penobscot River Valley who work with local innovators and entrepreneurs to create a supportive network and to bring positive change and economic growth to our communities. \nTo learn more about Big Gig\, visit their website.
URL:https://umaine.edu/innovation/event/big-gig-pitch-competition-regular-season-3/
LOCATION:Virtual Event
CATEGORIES:Big Gig
END:VEVENT
BEGIN:VEVENT
DTSTART;TZID=America/New_York:20220210T160000
DTEND;TZID=America/New_York:20220210T173000
DTSTAMP:20260421T000656
CREATED:20210110T180112Z
LAST-MODIFIED:20220120T231844Z
UID:10000043-1644508800-1644514200@umaine.edu
SUMMARY:Commercialization Training Series: IP Bootcamp
DESCRIPTION:Ever wonder if you could get a patent for your innovation? What about trademarks and copyrights? How do you determine the value of your intellectual property? IP can be a valuable asset\, and its protection helps to foster innovation and R&D by ensuring that inventors can reap the benefits of their work. During IP Bootcamp\, you will learn about the different types of intellectual property and key steps in evaluating and protecting intellectual property. All Commercialization Series workshops will be held online – once you RSVP\, we will send you a link to attend via Zoom. This is a core workshop in this free series.\nRegister now via Eventbrite
URL:https://umaine.edu/innovation/event/commercialization-training-series-ip-bootcamp/
LOCATION:Virtual Event
CATEGORIES:Commercialization Training Series
END:VEVENT
END:VCALENDAR