BEGIN:VCALENDAR
VERSION:2.0
PRODID:-//Office of Human Resources - ECPv6.15.17.1//NONSGML v1.0//EN
CALSCALE:GREGORIAN
METHOD:PUBLISH
X-WR-CALNAME:Office of Human Resources
X-ORIGINAL-URL:https://umaine.edu/hr
X-WR-CALDESC:Events for Office of Human Resources
REFRESH-INTERVAL;VALUE=DURATION:PT1H
X-Robots-Tag:noindex
X-PUBLISHED-TTL:PT1H
BEGIN:VTIMEZONE
TZID:America/New_York
BEGIN:DAYLIGHT
TZOFFSETFROM:-0500
TZOFFSETTO:-0400
TZNAME:EDT
DTSTART:20130310T070000
END:DAYLIGHT
BEGIN:STANDARD
TZOFFSETFROM:-0400
TZOFFSETTO:-0500
TZNAME:EST
DTSTART:20131103T060000
END:STANDARD
BEGIN:DAYLIGHT
TZOFFSETFROM:-0500
TZOFFSETTO:-0400
TZNAME:EDT
DTSTART:20140309T070000
END:DAYLIGHT
BEGIN:STANDARD
TZOFFSETFROM:-0400
TZOFFSETTO:-0500
TZNAME:EST
DTSTART:20141102T060000
END:STANDARD
BEGIN:DAYLIGHT
TZOFFSETFROM:-0500
TZOFFSETTO:-0400
TZNAME:EDT
DTSTART:20150308T070000
END:DAYLIGHT
BEGIN:STANDARD
TZOFFSETFROM:-0400
TZOFFSETTO:-0500
TZNAME:EST
DTSTART:20151101T060000
END:STANDARD
BEGIN:DAYLIGHT
TZOFFSETFROM:-0500
TZOFFSETTO:-0400
TZNAME:EDT
DTSTART:20160313T070000
END:DAYLIGHT
BEGIN:STANDARD
TZOFFSETFROM:-0400
TZOFFSETTO:-0500
TZNAME:EST
DTSTART:20161106T060000
END:STANDARD
BEGIN:DAYLIGHT
TZOFFSETFROM:-0500
TZOFFSETTO:-0400
TZNAME:EDT
DTSTART:20170312T070000
END:DAYLIGHT
BEGIN:STANDARD
TZOFFSETFROM:-0400
TZOFFSETTO:-0500
TZNAME:EST
DTSTART:20171105T060000
END:STANDARD
END:VTIMEZONE
BEGIN:VEVENT
DTSTART;TZID=America/New_York:20141231T080000
DTEND;TZID=America/New_York:20141231T170000
DTSTAMP:20260420T192055
CREATED:20141229T204613Z
LAST-MODIFIED:20141229T204613Z
UID:6404-1420012800-1420045200@umaine.edu
SUMMARY:Monthly Payday
DESCRIPTION:Payday for monthly employees.
URL:https://umaine.edu/hr/event/monthly-payday/
LOCATION:ME
END:VEVENT
BEGIN:VEVENT
DTSTART;TZID=America/New_York:20150105T080000
DTEND;TZID=America/New_York:20150105T170000
DTSTAMP:20260420T192055
CREATED:20141229T211702Z
LAST-MODIFIED:20141229T211702Z
UID:6405-1420444800-1420477200@umaine.edu
SUMMARY:Payroll Approve Bi-Weekly
DESCRIPTION:All bi-weekly employees needs to be approved by the end of the day.
URL:https://umaine.edu/hr/event/payroll-approve-bi-weekly/
LOCATION:ME
END:VEVENT
BEGIN:VEVENT
DTSTART;TZID=America/New_York:20150604T080000
DTEND;TZID=America/New_York:20150604T120000
DTSTAMP:20260420T192055
CREATED:20150610T121243Z
LAST-MODIFIED:20150610T121243Z
UID:7020-1433404800-1433419200@umaine.edu
SUMMARY:SDI- Managing in a Diverse Workforce
DESCRIPTION:The final session for the 2014-2015 cohort is here! A workshop on Diversity in the Workplace will be presented by Megan Clough.
URL:https://umaine.edu/hr/event/sdi-managing-in-a-diverse-workforce/
LOCATION:University of Maine Wells Conference Center\, Wells Conference Center\, The University of Maine\, Orono\, ME\,  04473\, United States
END:VEVENT
BEGIN:VEVENT
DTSTART;VALUE=DATE:20150703
DTEND;VALUE=DATE:20150704
DTSTAMP:20260420T192055
CREATED:20150615T153501Z
LAST-MODIFIED:20150615T153501Z
UID:7032-1435881600-1435967999@umaine.edu
SUMMARY:Fourth of July
DESCRIPTION:Since the Fourth of July falls on a Saturday\, employee’s will be considering Friday\, July 3rd as the work holiday.
URL:https://umaine.edu/hr/event/fourth-of-july/
LOCATION:ME
CATEGORIES:Holidays
END:VEVENT
BEGIN:VEVENT
DTSTART;TZID=America/New_York:20150903T080000
DTEND;TZID=America/New_York:20150903T120000
DTSTAMP:20260420T192055
CREATED:20150615T154004Z
LAST-MODIFIED:20150615T154004Z
UID:7034-1441267200-1441281600@umaine.edu
SUMMARY:SDI - Session 1
DESCRIPTION:The first SDI session of the 2015-2016 year. Presenters will be Human Resources Partners\, Willow Sherwood and Alyssa Anaya.
URL:https://umaine.edu/hr/event/orientationbasics-of-effective-supervision-and-supervising-in-a-union-environment/
LOCATION:University of Maine Wells Conference Center\, Wells Conference Center\, The University of Maine\, Orono\, ME\,  04473\, United States
CATEGORIES:Supervisor Development Institute
END:VEVENT
BEGIN:VEVENT
DTSTART;TZID=America/New_York:20151001T080000
DTEND;TZID=America/New_York:20151001T120000
DTSTAMP:20260420T192055
CREATED:20150615T154347Z
LAST-MODIFIED:20150615T154347Z
UID:7036-1443686400-1443700800@umaine.edu
SUMMARY:SDI - Session 2
DESCRIPTION:This session will be presented by Kasey Richards\, Administrative Specialist in HR\, and Bonita Grindle\, Associate Director of Equal Opportunity.
URL:https://umaine.edu/hr/event/sdi-session-2/
LOCATION:University of Maine Wells Conference Center\, Wells Conference Center\, The University of Maine\, Orono\, ME\,  04473\, United States
END:VEVENT
BEGIN:VEVENT
DTSTART;TZID=America/New_York:20151105T080000
DTEND;TZID=America/New_York:20151105T100000
DTSTAMP:20260420T192055
CREATED:20150615T154605Z
LAST-MODIFIED:20150615T154605Z
UID:7037-1446710400-1446717600@umaine.edu
SUMMARY:SDI - Session 3
DESCRIPTION:This session will be presented by Jacki Pauli-Ritz from the Cigna Employee Assistance Program.
URL:https://umaine.edu/hr/event/sdi-session-3/
LOCATION:University of Maine Wells Conference Center\, Wells Conference Center\, The University of Maine\, Orono\, ME\,  04473\, United States
CATEGORIES:Supervisor Development Institute
END:VEVENT
BEGIN:VEVENT
DTSTART;TZID=America/New_York:20151203T080000
DTEND;TZID=America/New_York:20151203T100000
DTSTAMP:20260420T192055
CREATED:20150615T154721Z
LAST-MODIFIED:20150615T154721Z
UID:7038-1449129600-1449136800@umaine.edu
SUMMARY:SDI - Session 4
DESCRIPTION:This session will be presented by Jacki Pauli-Ritz from the Cigna Employee Assistance Program.
URL:https://umaine.edu/hr/event/sdi-session-4/
LOCATION:University of Maine Wells Conference Center\, Wells Conference Center\, The University of Maine\, Orono\, ME\,  04473\, United States
CATEGORIES:Supervisor Development Institute
END:VEVENT
BEGIN:VEVENT
DTSTART;TZID=America/New_York:20160107T080000
DTEND;TZID=America/New_York:20160107T120000
DTSTAMP:20260420T192055
CREATED:20150615T154849Z
LAST-MODIFIED:20150615T154849Z
UID:7039-1452153600-1452168000@umaine.edu
SUMMARY:SDI - Session 5
DESCRIPTION:This session will be presented by Karen Kemble\, Director of Equal Opportunity.
URL:https://umaine.edu/hr/event/sdi-session-5/
LOCATION:University of Maine Wells Conference Center\, Wells Conference Center\, The University of Maine\, Orono\, ME\,  04473\, United States
CATEGORIES:Supervisor Development Institute
END:VEVENT
BEGIN:VEVENT
DTSTART;TZID=America/New_York:20160211T080000
DTEND;TZID=America/New_York:20160211T120000
DTSTAMP:20260420T192055
CREATED:20150615T155056Z
LAST-MODIFIED:20150615T155056Z
UID:7040-1455177600-1455192000@umaine.edu
SUMMARY:SDI - Session 6
DESCRIPTION:This session will be presented by Willow Sherwood\, Human Resource Partner\, and Tamara Mitchell\, Director of Organizational Effectiveness.
URL:https://umaine.edu/hr/event/sdi-session-6/
LOCATION:University of Maine Wells Conference Center\, Wells Conference Center\, The University of Maine\, Orono\, ME\,  04473\, United States
CATEGORIES:Supervisor Development Institute
END:VEVENT
BEGIN:VEVENT
DTSTART;TZID=America/New_York:20160324T080000
DTEND;TZID=America/New_York:20160324T100000
DTSTAMP:20260420T192055
CREATED:20150615T155213Z
LAST-MODIFIED:20150615T155213Z
UID:7041-1458806400-1458813600@umaine.edu
SUMMARY:SDI - Session 7
DESCRIPTION:This session will be presented by Jacki Pauli-Ritz from the Cigna Employee Assistance Program.
URL:https://umaine.edu/hr/event/sdi-session-7/
LOCATION:University of Maine Wells Conference Center\, Wells Conference Center\, The University of Maine\, Orono\, ME\,  04473\, United States
CATEGORIES:Supervisor Development Institute
END:VEVENT
BEGIN:VEVENT
DTSTART;TZID=America/New_York:20160421T080000
DTEND;TZID=America/New_York:20160421T120000
DTSTAMP:20260420T192055
CREATED:20150615T155508Z
LAST-MODIFIED:20150615T155508Z
UID:7043-1461225600-1461240000@umaine.edu
SUMMARY:SDI - Session 8
DESCRIPTION:This session will be presented by Human Resource Partners\, Alyssa Anaya and Nicole Lawrence.
URL:https://umaine.edu/hr/event/sdi-session-8/
LOCATION:University of Maine Wells Conference Center\, Wells Conference Center\, The University of Maine\, Orono\, ME\,  04473\, United States
CATEGORIES:Supervisor Development Institute
END:VEVENT
BEGIN:VEVENT
DTSTART;TZID=America/New_York:20160519T080000
DTEND;TZID=America/New_York:20160519T100000
DTSTAMP:20260420T192055
CREATED:20150615T155319Z
LAST-MODIFIED:20150615T155319Z
UID:7042-1463644800-1463652000@umaine.edu
SUMMARY:SDI - Session 9
DESCRIPTION:This session will be presented by Jacki Pauli-Ritz from the Cigna Employee Assistance Program.
URL:https://umaine.edu/hr/event/sdi-session-9/
LOCATION:ME
CATEGORIES:Supervisor Development Institute
END:VEVENT
BEGIN:VEVENT
DTSTART;TZID=America/New_York:20160609T080000
DTEND;TZID=America/New_York:20160609T120000
DTSTAMP:20260420T192055
CREATED:20150615T155608Z
LAST-MODIFIED:20150615T155608Z
UID:7044-1465459200-1465473600@umaine.edu
SUMMARY:SDI - Session 10
DESCRIPTION:This sessions presenter is TBA.
URL:https://umaine.edu/hr/event/sdi-session-10/
LOCATION:University of Maine Wells Conference Center\, Wells Conference Center\, The University of Maine\, Orono\, ME\,  04473\, United States
CATEGORIES:Supervisor Development Institute
END:VEVENT
END:VCALENDAR