BEGIN:VCALENDAR
VERSION:2.0
PRODID:-//Center for Biomedical Research Excellence (COBRE) - ECPv6.15.17.1//NONSGML v1.0//EN
CALSCALE:GREGORIAN
METHOD:PUBLISH
X-WR-CALNAME:Center for Biomedical Research Excellence (COBRE)
X-ORIGINAL-URL:https://umaine.edu/cobre
X-WR-CALDESC:Events for Center for Biomedical Research Excellence (COBRE)
REFRESH-INTERVAL;VALUE=DURATION:PT1H
X-Robots-Tag:noindex
X-PUBLISHED-TTL:PT1H
BEGIN:VTIMEZONE
TZID:America/New_York
BEGIN:DAYLIGHT
TZOFFSETFROM:-0500
TZOFFSETTO:-0400
TZNAME:EDT
DTSTART:20240310T070000
END:DAYLIGHT
BEGIN:STANDARD
TZOFFSETFROM:-0400
TZOFFSETTO:-0500
TZNAME:EST
DTSTART:20241103T060000
END:STANDARD
BEGIN:DAYLIGHT
TZOFFSETFROM:-0500
TZOFFSETTO:-0400
TZNAME:EDT
DTSTART:20250309T070000
END:DAYLIGHT
BEGIN:STANDARD
TZOFFSETFROM:-0400
TZOFFSETTO:-0500
TZNAME:EST
DTSTART:20251102T060000
END:STANDARD
BEGIN:DAYLIGHT
TZOFFSETFROM:-0500
TZOFFSETTO:-0400
TZNAME:EDT
DTSTART:20260308T070000
END:DAYLIGHT
BEGIN:STANDARD
TZOFFSETFROM:-0400
TZOFFSETTO:-0500
TZNAME:EST
DTSTART:20261101T060000
END:STANDARD
END:VTIMEZONE
BEGIN:VEVENT
DTSTART;TZID=America/New_York:20250923T120000
DTEND;TZID=America/New_York:20250923T130000
DTSTAMP:20260421T165817
CREATED:20250922T183857Z
LAST-MODIFIED:20250922T192854Z
UID:10000030-1758628800-1758632400@umaine.edu
SUMMARY:CORE Lunch & Learn presents: Microscopy and Image Analysis Core
DESCRIPTION:Curious about fluorescence microscopy or how imaging can support your research? Join us for our Lunch & Learn where we’ll introduce the Microscopy and Image Analysis Core (MIAC). You’ll get an overview of the equipment we offer – like confocal and stereo microscopes – and learn how tools like Imaris software can help you analyze your images. We offer hands-on training and support. Whether you’re getting started or exploring new techniques\, this is a great chance to see what’s available and ask questions. Plus lunch is provided! \nMIAC Lunch and Learn Flyer
URL:https://umaine.edu/cobre/event/core-lunch-learn-presents-microscopy-and-image-analysis-core/
LOCATION:Hill Auditorium (165 ESRB / Barrows Hall)\, Barrows Hall\, Orono\, ME\, 04469\, United States
CATEGORIES:Education,News,Research
ATTACH;FMTTYPE=image/png:https://umaine.edu/cobre/wp-content/uploads/sites/681/2025/09/MIAC-event-e1758566483527.png
ORGANIZER;CN="Microscopy and Image Analysis Core":MAILTO:megan.tardif@maine.edu
END:VEVENT
END:VCALENDAR