BEGIN:VCALENDAR
VERSION:2.0
PRODID:-//Commuter &amp; Non-Traditional Student Programs - ECPv6.15.17.1//NONSGML v1.0//EN
CALSCALE:GREGORIAN
METHOD:PUBLISH
X-WR-CALNAME:Commuter &amp; Non-Traditional Student Programs
X-ORIGINAL-URL:https://umaine.edu/cntsp
X-WR-CALDESC:Events for Commuter &amp; Non-Traditional Student Programs
REFRESH-INTERVAL;VALUE=DURATION:PT1H
X-Robots-Tag:noindex
X-PUBLISHED-TTL:PT1H
BEGIN:VTIMEZONE
TZID:America/New_York
BEGIN:DAYLIGHT
TZOFFSETFROM:-0500
TZOFFSETTO:-0400
TZNAME:EDT
DTSTART:20220313T070000
END:DAYLIGHT
BEGIN:STANDARD
TZOFFSETFROM:-0400
TZOFFSETTO:-0500
TZNAME:EST
DTSTART:20221106T060000
END:STANDARD
BEGIN:DAYLIGHT
TZOFFSETFROM:-0500
TZOFFSETTO:-0400
TZNAME:EDT
DTSTART:20230312T070000
END:DAYLIGHT
BEGIN:STANDARD
TZOFFSETFROM:-0400
TZOFFSETTO:-0500
TZNAME:EST
DTSTART:20231105T060000
END:STANDARD
BEGIN:DAYLIGHT
TZOFFSETFROM:-0500
TZOFFSETTO:-0400
TZNAME:EDT
DTSTART:20240310T070000
END:DAYLIGHT
BEGIN:STANDARD
TZOFFSETFROM:-0400
TZOFFSETTO:-0500
TZNAME:EST
DTSTART:20241103T060000
END:STANDARD
END:VTIMEZONE
BEGIN:VEVENT
DTSTART;TZID=America/New_York:20231030T080000
DTEND;TZID=America/New_York:20231030T110000
DTSTAMP:20260420T200516
CREATED:20160909T195852Z
LAST-MODIFIED:20160909T195852Z
UID:10005491-1698652800-1698663600@umaine.edu
SUMMARY:First Friday Bagels
DESCRIPTION:Every First Friday of the month ( when classes are in session )  Tim Hortons bagels and coffee are available for commuter students  in the Commuter Lounge/ Wade Center.  CANS and Tim Hortons sponsor this  monthly  event .
URL:https://umaine.edu/cntsp/event/first-friday-bagels-6/2023-10-30/
LOCATION:Commuter Lounge / Wade Center\, Memorial Union \, Orono
GEO:44.8831125;-68.6719411
X-APPLE-STRUCTURED-LOCATION;VALUE=URI;X-ADDRESS=Commuter Lounge / Wade Center Memorial Union  Orono;X-APPLE-RADIUS=500;X-TITLE=Memorial Union:geo:-68.6719411,44.8831125
END:VEVENT
BEGIN:VEVENT
DTSTART;TZID=America/New_York:20231029T080000
DTEND;TZID=America/New_York:20231029T110000
DTSTAMP:20260420T200516
CREATED:20160909T195852Z
LAST-MODIFIED:20160909T195852Z
UID:10005490-1698566400-1698577200@umaine.edu
SUMMARY:First Friday Bagels
DESCRIPTION:Every First Friday of the month ( when classes are in session )  Tim Hortons bagels and coffee are available for commuter students  in the Commuter Lounge/ Wade Center.  CANS and Tim Hortons sponsor this  monthly  event .
URL:https://umaine.edu/cntsp/event/first-friday-bagels-6/2023-10-29/
LOCATION:Commuter Lounge / Wade Center\, Memorial Union \, Orono
GEO:44.8831125;-68.6719411
X-APPLE-STRUCTURED-LOCATION;VALUE=URI;X-ADDRESS=Commuter Lounge / Wade Center Memorial Union  Orono;X-APPLE-RADIUS=500;X-TITLE=Memorial Union:geo:-68.6719411,44.8831125
END:VEVENT
BEGIN:VEVENT
DTSTART;TZID=America/New_York:20231028T080000
DTEND;TZID=America/New_York:20231028T110000
DTSTAMP:20260420T200516
CREATED:20160909T195852Z
LAST-MODIFIED:20160909T195852Z
UID:10005489-1698480000-1698490800@umaine.edu
SUMMARY:First Friday Bagels
DESCRIPTION:Every First Friday of the month ( when classes are in session )  Tim Hortons bagels and coffee are available for commuter students  in the Commuter Lounge/ Wade Center.  CANS and Tim Hortons sponsor this  monthly  event .
URL:https://umaine.edu/cntsp/event/first-friday-bagels-6/2023-10-28/
LOCATION:Commuter Lounge / Wade Center\, Memorial Union \, Orono
GEO:44.8831125;-68.6719411
X-APPLE-STRUCTURED-LOCATION;VALUE=URI;X-ADDRESS=Commuter Lounge / Wade Center Memorial Union  Orono;X-APPLE-RADIUS=500;X-TITLE=Memorial Union:geo:-68.6719411,44.8831125
END:VEVENT
BEGIN:VEVENT
DTSTART;TZID=America/New_York:20231027T080000
DTEND;TZID=America/New_York:20231027T110000
DTSTAMP:20260420T200516
CREATED:20160909T195852Z
LAST-MODIFIED:20160909T195852Z
UID:10005488-1698393600-1698404400@umaine.edu
SUMMARY:First Friday Bagels
DESCRIPTION:Every First Friday of the month ( when classes are in session )  Tim Hortons bagels and coffee are available for commuter students  in the Commuter Lounge/ Wade Center.  CANS and Tim Hortons sponsor this  monthly  event .
URL:https://umaine.edu/cntsp/event/first-friday-bagels-6/2023-10-27/
LOCATION:Commuter Lounge / Wade Center\, Memorial Union \, Orono
GEO:44.8831125;-68.6719411
X-APPLE-STRUCTURED-LOCATION;VALUE=URI;X-ADDRESS=Commuter Lounge / Wade Center Memorial Union  Orono;X-APPLE-RADIUS=500;X-TITLE=Memorial Union:geo:-68.6719411,44.8831125
END:VEVENT
BEGIN:VEVENT
DTSTART;TZID=America/New_York:20231026T080000
DTEND;TZID=America/New_York:20231026T110000
DTSTAMP:20260420T200516
CREATED:20160909T195852Z
LAST-MODIFIED:20160909T195852Z
UID:10005487-1698307200-1698318000@umaine.edu
SUMMARY:First Friday Bagels
DESCRIPTION:Every First Friday of the month ( when classes are in session )  Tim Hortons bagels and coffee are available for commuter students  in the Commuter Lounge/ Wade Center.  CANS and Tim Hortons sponsor this  monthly  event .
URL:https://umaine.edu/cntsp/event/first-friday-bagels-6/2023-10-26/
LOCATION:Commuter Lounge / Wade Center\, Memorial Union \, Orono
GEO:44.8831125;-68.6719411
X-APPLE-STRUCTURED-LOCATION;VALUE=URI;X-ADDRESS=Commuter Lounge / Wade Center Memorial Union  Orono;X-APPLE-RADIUS=500;X-TITLE=Memorial Union:geo:-68.6719411,44.8831125
END:VEVENT
BEGIN:VEVENT
DTSTART;TZID=America/New_York:20231025T080000
DTEND;TZID=America/New_York:20231025T110000
DTSTAMP:20260420T200516
CREATED:20160909T195852Z
LAST-MODIFIED:20160909T195852Z
UID:10005486-1698220800-1698231600@umaine.edu
SUMMARY:First Friday Bagels
DESCRIPTION:Every First Friday of the month ( when classes are in session )  Tim Hortons bagels and coffee are available for commuter students  in the Commuter Lounge/ Wade Center.  CANS and Tim Hortons sponsor this  monthly  event .
URL:https://umaine.edu/cntsp/event/first-friday-bagels-6/2023-10-25/
LOCATION:Commuter Lounge / Wade Center\, Memorial Union \, Orono
GEO:44.8831125;-68.6719411
X-APPLE-STRUCTURED-LOCATION;VALUE=URI;X-ADDRESS=Commuter Lounge / Wade Center Memorial Union  Orono;X-APPLE-RADIUS=500;X-TITLE=Memorial Union:geo:-68.6719411,44.8831125
END:VEVENT
BEGIN:VEVENT
DTSTART;TZID=America/New_York:20231024T080000
DTEND;TZID=America/New_York:20231024T110000
DTSTAMP:20260420T200516
CREATED:20160909T195852Z
LAST-MODIFIED:20160909T195852Z
UID:10005485-1698134400-1698145200@umaine.edu
SUMMARY:First Friday Bagels
DESCRIPTION:Every First Friday of the month ( when classes are in session )  Tim Hortons bagels and coffee are available for commuter students  in the Commuter Lounge/ Wade Center.  CANS and Tim Hortons sponsor this  monthly  event .
URL:https://umaine.edu/cntsp/event/first-friday-bagels-6/2023-10-24/
LOCATION:Commuter Lounge / Wade Center\, Memorial Union \, Orono
GEO:44.8831125;-68.6719411
X-APPLE-STRUCTURED-LOCATION;VALUE=URI;X-ADDRESS=Commuter Lounge / Wade Center Memorial Union  Orono;X-APPLE-RADIUS=500;X-TITLE=Memorial Union:geo:-68.6719411,44.8831125
END:VEVENT
BEGIN:VEVENT
DTSTART;TZID=America/New_York:20231023T080000
DTEND;TZID=America/New_York:20231023T110000
DTSTAMP:20260420T200516
CREATED:20160909T195852Z
LAST-MODIFIED:20160909T195852Z
UID:10005484-1698048000-1698058800@umaine.edu
SUMMARY:First Friday Bagels
DESCRIPTION:Every First Friday of the month ( when classes are in session )  Tim Hortons bagels and coffee are available for commuter students  in the Commuter Lounge/ Wade Center.  CANS and Tim Hortons sponsor this  monthly  event .
URL:https://umaine.edu/cntsp/event/first-friday-bagels-6/2023-10-23/
LOCATION:Commuter Lounge / Wade Center\, Memorial Union \, Orono
GEO:44.8831125;-68.6719411
X-APPLE-STRUCTURED-LOCATION;VALUE=URI;X-ADDRESS=Commuter Lounge / Wade Center Memorial Union  Orono;X-APPLE-RADIUS=500;X-TITLE=Memorial Union:geo:-68.6719411,44.8831125
END:VEVENT
BEGIN:VEVENT
DTSTART;TZID=America/New_York:20231022T080000
DTEND;TZID=America/New_York:20231022T110000
DTSTAMP:20260420T200516
CREATED:20160909T195852Z
LAST-MODIFIED:20160909T195852Z
UID:10005483-1697961600-1697972400@umaine.edu
SUMMARY:First Friday Bagels
DESCRIPTION:Every First Friday of the month ( when classes are in session )  Tim Hortons bagels and coffee are available for commuter students  in the Commuter Lounge/ Wade Center.  CANS and Tim Hortons sponsor this  monthly  event .
URL:https://umaine.edu/cntsp/event/first-friday-bagels-6/2023-10-22/
LOCATION:Commuter Lounge / Wade Center\, Memorial Union \, Orono
GEO:44.8831125;-68.6719411
X-APPLE-STRUCTURED-LOCATION;VALUE=URI;X-ADDRESS=Commuter Lounge / Wade Center Memorial Union  Orono;X-APPLE-RADIUS=500;X-TITLE=Memorial Union:geo:-68.6719411,44.8831125
END:VEVENT
BEGIN:VEVENT
DTSTART;TZID=America/New_York:20231021T080000
DTEND;TZID=America/New_York:20231021T110000
DTSTAMP:20260420T200516
CREATED:20160909T195852Z
LAST-MODIFIED:20160909T195852Z
UID:10005482-1697875200-1697886000@umaine.edu
SUMMARY:First Friday Bagels
DESCRIPTION:Every First Friday of the month ( when classes are in session )  Tim Hortons bagels and coffee are available for commuter students  in the Commuter Lounge/ Wade Center.  CANS and Tim Hortons sponsor this  monthly  event .
URL:https://umaine.edu/cntsp/event/first-friday-bagels-6/2023-10-21/
LOCATION:Commuter Lounge / Wade Center\, Memorial Union \, Orono
GEO:44.8831125;-68.6719411
X-APPLE-STRUCTURED-LOCATION;VALUE=URI;X-ADDRESS=Commuter Lounge / Wade Center Memorial Union  Orono;X-APPLE-RADIUS=500;X-TITLE=Memorial Union:geo:-68.6719411,44.8831125
END:VEVENT
BEGIN:VEVENT
DTSTART;TZID=America/New_York:20231020T080000
DTEND;TZID=America/New_York:20231020T110000
DTSTAMP:20260420T200516
CREATED:20160909T195852Z
LAST-MODIFIED:20160909T195852Z
UID:10005481-1697788800-1697799600@umaine.edu
SUMMARY:First Friday Bagels
DESCRIPTION:Every First Friday of the month ( when classes are in session )  Tim Hortons bagels and coffee are available for commuter students  in the Commuter Lounge/ Wade Center.  CANS and Tim Hortons sponsor this  monthly  event .
URL:https://umaine.edu/cntsp/event/first-friday-bagels-6/2023-10-20/
LOCATION:Commuter Lounge / Wade Center\, Memorial Union \, Orono
GEO:44.8831125;-68.6719411
X-APPLE-STRUCTURED-LOCATION;VALUE=URI;X-ADDRESS=Commuter Lounge / Wade Center Memorial Union  Orono;X-APPLE-RADIUS=500;X-TITLE=Memorial Union:geo:-68.6719411,44.8831125
END:VEVENT
BEGIN:VEVENT
DTSTART;TZID=America/New_York:20231019T080000
DTEND;TZID=America/New_York:20231019T110000
DTSTAMP:20260420T200516
CREATED:20160909T195852Z
LAST-MODIFIED:20160909T195852Z
UID:10005480-1697702400-1697713200@umaine.edu
SUMMARY:First Friday Bagels
DESCRIPTION:Every First Friday of the month ( when classes are in session )  Tim Hortons bagels and coffee are available for commuter students  in the Commuter Lounge/ Wade Center.  CANS and Tim Hortons sponsor this  monthly  event .
URL:https://umaine.edu/cntsp/event/first-friday-bagels-6/2023-10-19/
LOCATION:Commuter Lounge / Wade Center\, Memorial Union \, Orono
GEO:44.8831125;-68.6719411
X-APPLE-STRUCTURED-LOCATION;VALUE=URI;X-ADDRESS=Commuter Lounge / Wade Center Memorial Union  Orono;X-APPLE-RADIUS=500;X-TITLE=Memorial Union:geo:-68.6719411,44.8831125
END:VEVENT
BEGIN:VEVENT
DTSTART;TZID=America/New_York:20231018T080000
DTEND;TZID=America/New_York:20231018T110000
DTSTAMP:20260420T200516
CREATED:20160909T195852Z
LAST-MODIFIED:20160909T195852Z
UID:10005479-1697616000-1697626800@umaine.edu
SUMMARY:First Friday Bagels
DESCRIPTION:Every First Friday of the month ( when classes are in session )  Tim Hortons bagels and coffee are available for commuter students  in the Commuter Lounge/ Wade Center.  CANS and Tim Hortons sponsor this  monthly  event .
URL:https://umaine.edu/cntsp/event/first-friday-bagels-6/2023-10-18/
LOCATION:Commuter Lounge / Wade Center\, Memorial Union \, Orono
GEO:44.8831125;-68.6719411
X-APPLE-STRUCTURED-LOCATION;VALUE=URI;X-ADDRESS=Commuter Lounge / Wade Center Memorial Union  Orono;X-APPLE-RADIUS=500;X-TITLE=Memorial Union:geo:-68.6719411,44.8831125
END:VEVENT
BEGIN:VEVENT
DTSTART;TZID=America/New_York:20231017T080000
DTEND;TZID=America/New_York:20231017T110000
DTSTAMP:20260420T200516
CREATED:20160909T195852Z
LAST-MODIFIED:20160909T195852Z
UID:10005478-1697529600-1697540400@umaine.edu
SUMMARY:First Friday Bagels
DESCRIPTION:Every First Friday of the month ( when classes are in session )  Tim Hortons bagels and coffee are available for commuter students  in the Commuter Lounge/ Wade Center.  CANS and Tim Hortons sponsor this  monthly  event .
URL:https://umaine.edu/cntsp/event/first-friday-bagels-6/2023-10-17/
LOCATION:Commuter Lounge / Wade Center\, Memorial Union \, Orono
GEO:44.8831125;-68.6719411
X-APPLE-STRUCTURED-LOCATION;VALUE=URI;X-ADDRESS=Commuter Lounge / Wade Center Memorial Union  Orono;X-APPLE-RADIUS=500;X-TITLE=Memorial Union:geo:-68.6719411,44.8831125
END:VEVENT
BEGIN:VEVENT
DTSTART;TZID=America/New_York:20231016T080000
DTEND;TZID=America/New_York:20231016T110000
DTSTAMP:20260420T200516
CREATED:20160909T195852Z
LAST-MODIFIED:20160909T195852Z
UID:10005477-1697443200-1697454000@umaine.edu
SUMMARY:First Friday Bagels
DESCRIPTION:Every First Friday of the month ( when classes are in session )  Tim Hortons bagels and coffee are available for commuter students  in the Commuter Lounge/ Wade Center.  CANS and Tim Hortons sponsor this  monthly  event .
URL:https://umaine.edu/cntsp/event/first-friday-bagels-6/2023-10-16/
LOCATION:Commuter Lounge / Wade Center\, Memorial Union \, Orono
GEO:44.8831125;-68.6719411
X-APPLE-STRUCTURED-LOCATION;VALUE=URI;X-ADDRESS=Commuter Lounge / Wade Center Memorial Union  Orono;X-APPLE-RADIUS=500;X-TITLE=Memorial Union:geo:-68.6719411,44.8831125
END:VEVENT
BEGIN:VEVENT
DTSTART;TZID=America/New_York:20231015T080000
DTEND;TZID=America/New_York:20231015T110000
DTSTAMP:20260420T200516
CREATED:20160909T195852Z
LAST-MODIFIED:20160909T195852Z
UID:10005476-1697356800-1697367600@umaine.edu
SUMMARY:First Friday Bagels
DESCRIPTION:Every First Friday of the month ( when classes are in session )  Tim Hortons bagels and coffee are available for commuter students  in the Commuter Lounge/ Wade Center.  CANS and Tim Hortons sponsor this  monthly  event .
URL:https://umaine.edu/cntsp/event/first-friday-bagels-6/2023-10-15/
LOCATION:Commuter Lounge / Wade Center\, Memorial Union \, Orono
GEO:44.8831125;-68.6719411
X-APPLE-STRUCTURED-LOCATION;VALUE=URI;X-ADDRESS=Commuter Lounge / Wade Center Memorial Union  Orono;X-APPLE-RADIUS=500;X-TITLE=Memorial Union:geo:-68.6719411,44.8831125
END:VEVENT
BEGIN:VEVENT
DTSTART;TZID=America/New_York:20231014T080000
DTEND;TZID=America/New_York:20231014T110000
DTSTAMP:20260420T200516
CREATED:20160909T195852Z
LAST-MODIFIED:20160909T195852Z
UID:10005475-1697270400-1697281200@umaine.edu
SUMMARY:First Friday Bagels
DESCRIPTION:Every First Friday of the month ( when classes are in session )  Tim Hortons bagels and coffee are available for commuter students  in the Commuter Lounge/ Wade Center.  CANS and Tim Hortons sponsor this  monthly  event .
URL:https://umaine.edu/cntsp/event/first-friday-bagels-6/2023-10-14/
LOCATION:Commuter Lounge / Wade Center\, Memorial Union \, Orono
GEO:44.8831125;-68.6719411
X-APPLE-STRUCTURED-LOCATION;VALUE=URI;X-ADDRESS=Commuter Lounge / Wade Center Memorial Union  Orono;X-APPLE-RADIUS=500;X-TITLE=Memorial Union:geo:-68.6719411,44.8831125
END:VEVENT
BEGIN:VEVENT
DTSTART;TZID=America/New_York:20231013T080000
DTEND;TZID=America/New_York:20231013T110000
DTSTAMP:20260420T200516
CREATED:20160909T195852Z
LAST-MODIFIED:20160909T195852Z
UID:10005474-1697184000-1697194800@umaine.edu
SUMMARY:First Friday Bagels
DESCRIPTION:Every First Friday of the month ( when classes are in session )  Tim Hortons bagels and coffee are available for commuter students  in the Commuter Lounge/ Wade Center.  CANS and Tim Hortons sponsor this  monthly  event .
URL:https://umaine.edu/cntsp/event/first-friday-bagels-6/2023-10-13/
LOCATION:Commuter Lounge / Wade Center\, Memorial Union \, Orono
GEO:44.8831125;-68.6719411
X-APPLE-STRUCTURED-LOCATION;VALUE=URI;X-ADDRESS=Commuter Lounge / Wade Center Memorial Union  Orono;X-APPLE-RADIUS=500;X-TITLE=Memorial Union:geo:-68.6719411,44.8831125
END:VEVENT
BEGIN:VEVENT
DTSTART;TZID=America/New_York:20231012T080000
DTEND;TZID=America/New_York:20231012T110000
DTSTAMP:20260420T200516
CREATED:20160909T195852Z
LAST-MODIFIED:20160909T195852Z
UID:10005473-1697097600-1697108400@umaine.edu
SUMMARY:First Friday Bagels
DESCRIPTION:Every First Friday of the month ( when classes are in session )  Tim Hortons bagels and coffee are available for commuter students  in the Commuter Lounge/ Wade Center.  CANS and Tim Hortons sponsor this  monthly  event .
URL:https://umaine.edu/cntsp/event/first-friday-bagels-6/2023-10-12/
LOCATION:Commuter Lounge / Wade Center\, Memorial Union \, Orono
GEO:44.8831125;-68.6719411
X-APPLE-STRUCTURED-LOCATION;VALUE=URI;X-ADDRESS=Commuter Lounge / Wade Center Memorial Union  Orono;X-APPLE-RADIUS=500;X-TITLE=Memorial Union:geo:-68.6719411,44.8831125
END:VEVENT
BEGIN:VEVENT
DTSTART;TZID=America/New_York:20231011T080000
DTEND;TZID=America/New_York:20231011T110000
DTSTAMP:20260420T200516
CREATED:20160909T195852Z
LAST-MODIFIED:20160909T195852Z
UID:10005472-1697011200-1697022000@umaine.edu
SUMMARY:First Friday Bagels
DESCRIPTION:Every First Friday of the month ( when classes are in session )  Tim Hortons bagels and coffee are available for commuter students  in the Commuter Lounge/ Wade Center.  CANS and Tim Hortons sponsor this  monthly  event .
URL:https://umaine.edu/cntsp/event/first-friday-bagels-6/2023-10-11/
LOCATION:Commuter Lounge / Wade Center\, Memorial Union \, Orono
GEO:44.8831125;-68.6719411
X-APPLE-STRUCTURED-LOCATION;VALUE=URI;X-ADDRESS=Commuter Lounge / Wade Center Memorial Union  Orono;X-APPLE-RADIUS=500;X-TITLE=Memorial Union:geo:-68.6719411,44.8831125
END:VEVENT
BEGIN:VEVENT
DTSTART;TZID=America/New_York:20231010T080000
DTEND;TZID=America/New_York:20231010T110000
DTSTAMP:20260420T200516
CREATED:20160909T195852Z
LAST-MODIFIED:20160909T195852Z
UID:10005471-1696924800-1696935600@umaine.edu
SUMMARY:First Friday Bagels
DESCRIPTION:Every First Friday of the month ( when classes are in session )  Tim Hortons bagels and coffee are available for commuter students  in the Commuter Lounge/ Wade Center.  CANS and Tim Hortons sponsor this  monthly  event .
URL:https://umaine.edu/cntsp/event/first-friday-bagels-6/2023-10-10/
LOCATION:Commuter Lounge / Wade Center\, Memorial Union \, Orono
GEO:44.8831125;-68.6719411
X-APPLE-STRUCTURED-LOCATION;VALUE=URI;X-ADDRESS=Commuter Lounge / Wade Center Memorial Union  Orono;X-APPLE-RADIUS=500;X-TITLE=Memorial Union:geo:-68.6719411,44.8831125
END:VEVENT
BEGIN:VEVENT
DTSTART;TZID=America/New_York:20231009T080000
DTEND;TZID=America/New_York:20231009T110000
DTSTAMP:20260420T200516
CREATED:20160909T195852Z
LAST-MODIFIED:20160909T195852Z
UID:10005470-1696838400-1696849200@umaine.edu
SUMMARY:First Friday Bagels
DESCRIPTION:Every First Friday of the month ( when classes are in session )  Tim Hortons bagels and coffee are available for commuter students  in the Commuter Lounge/ Wade Center.  CANS and Tim Hortons sponsor this  monthly  event .
URL:https://umaine.edu/cntsp/event/first-friday-bagels-6/2023-10-09/
LOCATION:Commuter Lounge / Wade Center\, Memorial Union \, Orono
GEO:44.8831125;-68.6719411
X-APPLE-STRUCTURED-LOCATION;VALUE=URI;X-ADDRESS=Commuter Lounge / Wade Center Memorial Union  Orono;X-APPLE-RADIUS=500;X-TITLE=Memorial Union:geo:-68.6719411,44.8831125
END:VEVENT
BEGIN:VEVENT
DTSTART;TZID=America/New_York:20231008T080000
DTEND;TZID=America/New_York:20231008T110000
DTSTAMP:20260420T200516
CREATED:20160909T195852Z
LAST-MODIFIED:20160909T195852Z
UID:10005469-1696752000-1696762800@umaine.edu
SUMMARY:First Friday Bagels
DESCRIPTION:Every First Friday of the month ( when classes are in session )  Tim Hortons bagels and coffee are available for commuter students  in the Commuter Lounge/ Wade Center.  CANS and Tim Hortons sponsor this  monthly  event .
URL:https://umaine.edu/cntsp/event/first-friday-bagels-6/2023-10-08/
LOCATION:Commuter Lounge / Wade Center\, Memorial Union \, Orono
GEO:44.8831125;-68.6719411
X-APPLE-STRUCTURED-LOCATION;VALUE=URI;X-ADDRESS=Commuter Lounge / Wade Center Memorial Union  Orono;X-APPLE-RADIUS=500;X-TITLE=Memorial Union:geo:-68.6719411,44.8831125
END:VEVENT
BEGIN:VEVENT
DTSTART;TZID=America/New_York:20231007T080000
DTEND;TZID=America/New_York:20231007T110000
DTSTAMP:20260420T200516
CREATED:20160909T195852Z
LAST-MODIFIED:20160909T195852Z
UID:10005468-1696665600-1696676400@umaine.edu
SUMMARY:First Friday Bagels
DESCRIPTION:Every First Friday of the month ( when classes are in session )  Tim Hortons bagels and coffee are available for commuter students  in the Commuter Lounge/ Wade Center.  CANS and Tim Hortons sponsor this  monthly  event .
URL:https://umaine.edu/cntsp/event/first-friday-bagels-6/2023-10-07/
LOCATION:Commuter Lounge / Wade Center\, Memorial Union \, Orono
GEO:44.8831125;-68.6719411
X-APPLE-STRUCTURED-LOCATION;VALUE=URI;X-ADDRESS=Commuter Lounge / Wade Center Memorial Union  Orono;X-APPLE-RADIUS=500;X-TITLE=Memorial Union:geo:-68.6719411,44.8831125
END:VEVENT
BEGIN:VEVENT
DTSTART;TZID=America/New_York:20231006T080000
DTEND;TZID=America/New_York:20231006T110000
DTSTAMP:20260420T200516
CREATED:20160909T195852Z
LAST-MODIFIED:20160909T195852Z
UID:10005467-1696579200-1696590000@umaine.edu
SUMMARY:First Friday Bagels
DESCRIPTION:Every First Friday of the month ( when classes are in session )  Tim Hortons bagels and coffee are available for commuter students  in the Commuter Lounge/ Wade Center.  CANS and Tim Hortons sponsor this  monthly  event .
URL:https://umaine.edu/cntsp/event/first-friday-bagels-6/2023-10-06/
LOCATION:Commuter Lounge / Wade Center\, Memorial Union \, Orono
GEO:44.8831125;-68.6719411
X-APPLE-STRUCTURED-LOCATION;VALUE=URI;X-ADDRESS=Commuter Lounge / Wade Center Memorial Union  Orono;X-APPLE-RADIUS=500;X-TITLE=Memorial Union:geo:-68.6719411,44.8831125
END:VEVENT
BEGIN:VEVENT
DTSTART;TZID=America/New_York:20231005T080000
DTEND;TZID=America/New_York:20231005T110000
DTSTAMP:20260420T200516
CREATED:20160909T195852Z
LAST-MODIFIED:20160909T195852Z
UID:10005466-1696492800-1696503600@umaine.edu
SUMMARY:First Friday Bagels
DESCRIPTION:Every First Friday of the month ( when classes are in session )  Tim Hortons bagels and coffee are available for commuter students  in the Commuter Lounge/ Wade Center.  CANS and Tim Hortons sponsor this  monthly  event .
URL:https://umaine.edu/cntsp/event/first-friday-bagels-6/2023-10-05/
LOCATION:Commuter Lounge / Wade Center\, Memorial Union \, Orono
GEO:44.8831125;-68.6719411
X-APPLE-STRUCTURED-LOCATION;VALUE=URI;X-ADDRESS=Commuter Lounge / Wade Center Memorial Union  Orono;X-APPLE-RADIUS=500;X-TITLE=Memorial Union:geo:-68.6719411,44.8831125
END:VEVENT
BEGIN:VEVENT
DTSTART;TZID=America/New_York:20231004T080000
DTEND;TZID=America/New_York:20231004T110000
DTSTAMP:20260420T200516
CREATED:20160909T195852Z
LAST-MODIFIED:20160909T195852Z
UID:10005465-1696406400-1696417200@umaine.edu
SUMMARY:First Friday Bagels
DESCRIPTION:Every First Friday of the month ( when classes are in session )  Tim Hortons bagels and coffee are available for commuter students  in the Commuter Lounge/ Wade Center.  CANS and Tim Hortons sponsor this  monthly  event .
URL:https://umaine.edu/cntsp/event/first-friday-bagels-6/2023-10-04/
LOCATION:Commuter Lounge / Wade Center\, Memorial Union \, Orono
GEO:44.8831125;-68.6719411
X-APPLE-STRUCTURED-LOCATION;VALUE=URI;X-ADDRESS=Commuter Lounge / Wade Center Memorial Union  Orono;X-APPLE-RADIUS=500;X-TITLE=Memorial Union:geo:-68.6719411,44.8831125
END:VEVENT
BEGIN:VEVENT
DTSTART;TZID=America/New_York:20231003T080000
DTEND;TZID=America/New_York:20231003T110000
DTSTAMP:20260420T200516
CREATED:20160909T195852Z
LAST-MODIFIED:20160909T195852Z
UID:10005464-1696320000-1696330800@umaine.edu
SUMMARY:First Friday Bagels
DESCRIPTION:Every First Friday of the month ( when classes are in session )  Tim Hortons bagels and coffee are available for commuter students  in the Commuter Lounge/ Wade Center.  CANS and Tim Hortons sponsor this  monthly  event .
URL:https://umaine.edu/cntsp/event/first-friday-bagels-6/2023-10-03/
LOCATION:Commuter Lounge / Wade Center\, Memorial Union \, Orono
GEO:44.8831125;-68.6719411
X-APPLE-STRUCTURED-LOCATION;VALUE=URI;X-ADDRESS=Commuter Lounge / Wade Center Memorial Union  Orono;X-APPLE-RADIUS=500;X-TITLE=Memorial Union:geo:-68.6719411,44.8831125
END:VEVENT
BEGIN:VEVENT
DTSTART;TZID=America/New_York:20231002T080000
DTEND;TZID=America/New_York:20231002T110000
DTSTAMP:20260420T200516
CREATED:20160909T195852Z
LAST-MODIFIED:20160909T195852Z
UID:10005463-1696233600-1696244400@umaine.edu
SUMMARY:First Friday Bagels
DESCRIPTION:Every First Friday of the month ( when classes are in session )  Tim Hortons bagels and coffee are available for commuter students  in the Commuter Lounge/ Wade Center.  CANS and Tim Hortons sponsor this  monthly  event .
URL:https://umaine.edu/cntsp/event/first-friday-bagels-6/2023-10-02/
LOCATION:Commuter Lounge / Wade Center\, Memorial Union \, Orono
GEO:44.8831125;-68.6719411
X-APPLE-STRUCTURED-LOCATION;VALUE=URI;X-ADDRESS=Commuter Lounge / Wade Center Memorial Union  Orono;X-APPLE-RADIUS=500;X-TITLE=Memorial Union:geo:-68.6719411,44.8831125
END:VEVENT
BEGIN:VEVENT
DTSTART;TZID=America/New_York:20231001T080000
DTEND;TZID=America/New_York:20231001T110000
DTSTAMP:20260420T200516
CREATED:20160909T195852Z
LAST-MODIFIED:20160909T195852Z
UID:10005462-1696147200-1696158000@umaine.edu
SUMMARY:First Friday Bagels
DESCRIPTION:Every First Friday of the month ( when classes are in session )  Tim Hortons bagels and coffee are available for commuter students  in the Commuter Lounge/ Wade Center.  CANS and Tim Hortons sponsor this  monthly  event .
URL:https://umaine.edu/cntsp/event/first-friday-bagels-6/2023-10-01/
LOCATION:Commuter Lounge / Wade Center\, Memorial Union \, Orono
GEO:44.8831125;-68.6719411
X-APPLE-STRUCTURED-LOCATION;VALUE=URI;X-ADDRESS=Commuter Lounge / Wade Center Memorial Union  Orono;X-APPLE-RADIUS=500;X-TITLE=Memorial Union:geo:-68.6719411,44.8831125
END:VEVENT
END:VCALENDAR