BEGIN:VCALENDAR
VERSION:2.0
PRODID:-//Commuter &amp; Non-Traditional Student Programs - ECPv6.15.17.1//NONSGML v1.0//EN
CALSCALE:GREGORIAN
METHOD:PUBLISH
X-WR-CALNAME:Commuter &amp; Non-Traditional Student Programs
X-ORIGINAL-URL:https://umaine.edu/cntsp
X-WR-CALDESC:Events for Commuter &amp; Non-Traditional Student Programs
REFRESH-INTERVAL;VALUE=DURATION:PT1H
X-Robots-Tag:noindex
X-PUBLISHED-TTL:PT1H
BEGIN:VTIMEZONE
TZID:America/New_York
BEGIN:DAYLIGHT
TZOFFSETFROM:-0500
TZOFFSETTO:-0400
TZNAME:EDT
DTSTART:20220313T070000
END:DAYLIGHT
BEGIN:STANDARD
TZOFFSETFROM:-0400
TZOFFSETTO:-0500
TZNAME:EST
DTSTART:20221106T060000
END:STANDARD
BEGIN:DAYLIGHT
TZOFFSETFROM:-0500
TZOFFSETTO:-0400
TZNAME:EDT
DTSTART:20230312T070000
END:DAYLIGHT
BEGIN:STANDARD
TZOFFSETFROM:-0400
TZOFFSETTO:-0500
TZNAME:EST
DTSTART:20231105T060000
END:STANDARD
BEGIN:DAYLIGHT
TZOFFSETFROM:-0500
TZOFFSETTO:-0400
TZNAME:EDT
DTSTART:20240310T070000
END:DAYLIGHT
BEGIN:STANDARD
TZOFFSETFROM:-0400
TZOFFSETTO:-0500
TZNAME:EST
DTSTART:20241103T060000
END:STANDARD
END:VTIMEZONE
BEGIN:VEVENT
DTSTART;TZID=America/New_York:20231010T080000
DTEND;TZID=America/New_York:20231010T110000
DTSTAMP:20260421T152009
CREATED:20160909T195852Z
LAST-MODIFIED:20160909T195852Z
UID:10005471-1696924800-1696935600@umaine.edu
SUMMARY:First Friday Bagels
DESCRIPTION:Every First Friday of the month ( when classes are in session )  Tim Hortons bagels and coffee are available for commuter students  in the Commuter Lounge/ Wade Center.  CANS and Tim Hortons sponsor this  monthly  event .
URL:https://umaine.edu/cntsp/event/first-friday-bagels-6/2023-10-10/
LOCATION:Commuter Lounge / Wade Center\, Memorial Union \, Orono
GEO:44.8831125;-68.6719411
X-APPLE-STRUCTURED-LOCATION;VALUE=URI;X-ADDRESS=Commuter Lounge / Wade Center Memorial Union  Orono;X-APPLE-RADIUS=500;X-TITLE=Memorial Union:geo:-68.6719411,44.8831125
END:VEVENT
BEGIN:VEVENT
DTSTART;TZID=America/New_York:20231009T080000
DTEND;TZID=America/New_York:20231009T110000
DTSTAMP:20260421T152009
CREATED:20160909T195852Z
LAST-MODIFIED:20160909T195852Z
UID:10005470-1696838400-1696849200@umaine.edu
SUMMARY:First Friday Bagels
DESCRIPTION:Every First Friday of the month ( when classes are in session )  Tim Hortons bagels and coffee are available for commuter students  in the Commuter Lounge/ Wade Center.  CANS and Tim Hortons sponsor this  monthly  event .
URL:https://umaine.edu/cntsp/event/first-friday-bagels-6/2023-10-09/
LOCATION:Commuter Lounge / Wade Center\, Memorial Union \, Orono
GEO:44.8831125;-68.6719411
X-APPLE-STRUCTURED-LOCATION;VALUE=URI;X-ADDRESS=Commuter Lounge / Wade Center Memorial Union  Orono;X-APPLE-RADIUS=500;X-TITLE=Memorial Union:geo:-68.6719411,44.8831125
END:VEVENT
BEGIN:VEVENT
DTSTART;TZID=America/New_York:20231008T080000
DTEND;TZID=America/New_York:20231008T110000
DTSTAMP:20260421T152009
CREATED:20160909T195852Z
LAST-MODIFIED:20160909T195852Z
UID:10005469-1696752000-1696762800@umaine.edu
SUMMARY:First Friday Bagels
DESCRIPTION:Every First Friday of the month ( when classes are in session )  Tim Hortons bagels and coffee are available for commuter students  in the Commuter Lounge/ Wade Center.  CANS and Tim Hortons sponsor this  monthly  event .
URL:https://umaine.edu/cntsp/event/first-friday-bagels-6/2023-10-08/
LOCATION:Commuter Lounge / Wade Center\, Memorial Union \, Orono
GEO:44.8831125;-68.6719411
X-APPLE-STRUCTURED-LOCATION;VALUE=URI;X-ADDRESS=Commuter Lounge / Wade Center Memorial Union  Orono;X-APPLE-RADIUS=500;X-TITLE=Memorial Union:geo:-68.6719411,44.8831125
END:VEVENT
BEGIN:VEVENT
DTSTART;TZID=America/New_York:20231007T080000
DTEND;TZID=America/New_York:20231007T110000
DTSTAMP:20260421T152009
CREATED:20160909T195852Z
LAST-MODIFIED:20160909T195852Z
UID:10005468-1696665600-1696676400@umaine.edu
SUMMARY:First Friday Bagels
DESCRIPTION:Every First Friday of the month ( when classes are in session )  Tim Hortons bagels and coffee are available for commuter students  in the Commuter Lounge/ Wade Center.  CANS and Tim Hortons sponsor this  monthly  event .
URL:https://umaine.edu/cntsp/event/first-friday-bagels-6/2023-10-07/
LOCATION:Commuter Lounge / Wade Center\, Memorial Union \, Orono
GEO:44.8831125;-68.6719411
X-APPLE-STRUCTURED-LOCATION;VALUE=URI;X-ADDRESS=Commuter Lounge / Wade Center Memorial Union  Orono;X-APPLE-RADIUS=500;X-TITLE=Memorial Union:geo:-68.6719411,44.8831125
END:VEVENT
BEGIN:VEVENT
DTSTART;TZID=America/New_York:20231006T080000
DTEND;TZID=America/New_York:20231006T110000
DTSTAMP:20260421T152009
CREATED:20160909T195852Z
LAST-MODIFIED:20160909T195852Z
UID:10005467-1696579200-1696590000@umaine.edu
SUMMARY:First Friday Bagels
DESCRIPTION:Every First Friday of the month ( when classes are in session )  Tim Hortons bagels and coffee are available for commuter students  in the Commuter Lounge/ Wade Center.  CANS and Tim Hortons sponsor this  monthly  event .
URL:https://umaine.edu/cntsp/event/first-friday-bagels-6/2023-10-06/
LOCATION:Commuter Lounge / Wade Center\, Memorial Union \, Orono
GEO:44.8831125;-68.6719411
X-APPLE-STRUCTURED-LOCATION;VALUE=URI;X-ADDRESS=Commuter Lounge / Wade Center Memorial Union  Orono;X-APPLE-RADIUS=500;X-TITLE=Memorial Union:geo:-68.6719411,44.8831125
END:VEVENT
BEGIN:VEVENT
DTSTART;TZID=America/New_York:20231005T080000
DTEND;TZID=America/New_York:20231005T110000
DTSTAMP:20260421T152009
CREATED:20160909T195852Z
LAST-MODIFIED:20160909T195852Z
UID:10005466-1696492800-1696503600@umaine.edu
SUMMARY:First Friday Bagels
DESCRIPTION:Every First Friday of the month ( when classes are in session )  Tim Hortons bagels and coffee are available for commuter students  in the Commuter Lounge/ Wade Center.  CANS and Tim Hortons sponsor this  monthly  event .
URL:https://umaine.edu/cntsp/event/first-friday-bagels-6/2023-10-05/
LOCATION:Commuter Lounge / Wade Center\, Memorial Union \, Orono
GEO:44.8831125;-68.6719411
X-APPLE-STRUCTURED-LOCATION;VALUE=URI;X-ADDRESS=Commuter Lounge / Wade Center Memorial Union  Orono;X-APPLE-RADIUS=500;X-TITLE=Memorial Union:geo:-68.6719411,44.8831125
END:VEVENT
BEGIN:VEVENT
DTSTART;TZID=America/New_York:20231004T080000
DTEND;TZID=America/New_York:20231004T110000
DTSTAMP:20260421T152009
CREATED:20160909T195852Z
LAST-MODIFIED:20160909T195852Z
UID:10005465-1696406400-1696417200@umaine.edu
SUMMARY:First Friday Bagels
DESCRIPTION:Every First Friday of the month ( when classes are in session )  Tim Hortons bagels and coffee are available for commuter students  in the Commuter Lounge/ Wade Center.  CANS and Tim Hortons sponsor this  monthly  event .
URL:https://umaine.edu/cntsp/event/first-friday-bagels-6/2023-10-04/
LOCATION:Commuter Lounge / Wade Center\, Memorial Union \, Orono
GEO:44.8831125;-68.6719411
X-APPLE-STRUCTURED-LOCATION;VALUE=URI;X-ADDRESS=Commuter Lounge / Wade Center Memorial Union  Orono;X-APPLE-RADIUS=500;X-TITLE=Memorial Union:geo:-68.6719411,44.8831125
END:VEVENT
BEGIN:VEVENT
DTSTART;TZID=America/New_York:20231003T080000
DTEND;TZID=America/New_York:20231003T110000
DTSTAMP:20260421T152009
CREATED:20160909T195852Z
LAST-MODIFIED:20160909T195852Z
UID:10005464-1696320000-1696330800@umaine.edu
SUMMARY:First Friday Bagels
DESCRIPTION:Every First Friday of the month ( when classes are in session )  Tim Hortons bagels and coffee are available for commuter students  in the Commuter Lounge/ Wade Center.  CANS and Tim Hortons sponsor this  monthly  event .
URL:https://umaine.edu/cntsp/event/first-friday-bagels-6/2023-10-03/
LOCATION:Commuter Lounge / Wade Center\, Memorial Union \, Orono
GEO:44.8831125;-68.6719411
X-APPLE-STRUCTURED-LOCATION;VALUE=URI;X-ADDRESS=Commuter Lounge / Wade Center Memorial Union  Orono;X-APPLE-RADIUS=500;X-TITLE=Memorial Union:geo:-68.6719411,44.8831125
END:VEVENT
BEGIN:VEVENT
DTSTART;TZID=America/New_York:20231002T080000
DTEND;TZID=America/New_York:20231002T110000
DTSTAMP:20260421T152009
CREATED:20160909T195852Z
LAST-MODIFIED:20160909T195852Z
UID:10005463-1696233600-1696244400@umaine.edu
SUMMARY:First Friday Bagels
DESCRIPTION:Every First Friday of the month ( when classes are in session )  Tim Hortons bagels and coffee are available for commuter students  in the Commuter Lounge/ Wade Center.  CANS and Tim Hortons sponsor this  monthly  event .
URL:https://umaine.edu/cntsp/event/first-friday-bagels-6/2023-10-02/
LOCATION:Commuter Lounge / Wade Center\, Memorial Union \, Orono
GEO:44.8831125;-68.6719411
X-APPLE-STRUCTURED-LOCATION;VALUE=URI;X-ADDRESS=Commuter Lounge / Wade Center Memorial Union  Orono;X-APPLE-RADIUS=500;X-TITLE=Memorial Union:geo:-68.6719411,44.8831125
END:VEVENT
BEGIN:VEVENT
DTSTART;TZID=America/New_York:20231001T080000
DTEND;TZID=America/New_York:20231001T110000
DTSTAMP:20260421T152009
CREATED:20160909T195852Z
LAST-MODIFIED:20160909T195852Z
UID:10005462-1696147200-1696158000@umaine.edu
SUMMARY:First Friday Bagels
DESCRIPTION:Every First Friday of the month ( when classes are in session )  Tim Hortons bagels and coffee are available for commuter students  in the Commuter Lounge/ Wade Center.  CANS and Tim Hortons sponsor this  monthly  event .
URL:https://umaine.edu/cntsp/event/first-friday-bagels-6/2023-10-01/
LOCATION:Commuter Lounge / Wade Center\, Memorial Union \, Orono
GEO:44.8831125;-68.6719411
X-APPLE-STRUCTURED-LOCATION;VALUE=URI;X-ADDRESS=Commuter Lounge / Wade Center Memorial Union  Orono;X-APPLE-RADIUS=500;X-TITLE=Memorial Union:geo:-68.6719411,44.8831125
END:VEVENT
BEGIN:VEVENT
DTSTART;TZID=America/New_York:20230930T080000
DTEND;TZID=America/New_York:20230930T110000
DTSTAMP:20260421T152009
CREATED:20160909T195852Z
LAST-MODIFIED:20160909T195852Z
UID:10005461-1696060800-1696071600@umaine.edu
SUMMARY:First Friday Bagels
DESCRIPTION:Every First Friday of the month ( when classes are in session )  Tim Hortons bagels and coffee are available for commuter students  in the Commuter Lounge/ Wade Center.  CANS and Tim Hortons sponsor this  monthly  event .
URL:https://umaine.edu/cntsp/event/first-friday-bagels-6/2023-09-30/
LOCATION:Commuter Lounge / Wade Center\, Memorial Union \, Orono
GEO:44.8831125;-68.6719411
X-APPLE-STRUCTURED-LOCATION;VALUE=URI;X-ADDRESS=Commuter Lounge / Wade Center Memorial Union  Orono;X-APPLE-RADIUS=500;X-TITLE=Memorial Union:geo:-68.6719411,44.8831125
END:VEVENT
BEGIN:VEVENT
DTSTART;TZID=America/New_York:20230929T080000
DTEND;TZID=America/New_York:20230929T110000
DTSTAMP:20260421T152009
CREATED:20160909T195852Z
LAST-MODIFIED:20160909T195852Z
UID:10005460-1695974400-1695985200@umaine.edu
SUMMARY:First Friday Bagels
DESCRIPTION:Every First Friday of the month ( when classes are in session )  Tim Hortons bagels and coffee are available for commuter students  in the Commuter Lounge/ Wade Center.  CANS and Tim Hortons sponsor this  monthly  event .
URL:https://umaine.edu/cntsp/event/first-friday-bagels-6/2023-09-29/
LOCATION:Commuter Lounge / Wade Center\, Memorial Union \, Orono
GEO:44.8831125;-68.6719411
X-APPLE-STRUCTURED-LOCATION;VALUE=URI;X-ADDRESS=Commuter Lounge / Wade Center Memorial Union  Orono;X-APPLE-RADIUS=500;X-TITLE=Memorial Union:geo:-68.6719411,44.8831125
END:VEVENT
BEGIN:VEVENT
DTSTART;TZID=America/New_York:20230928T080000
DTEND;TZID=America/New_York:20230928T110000
DTSTAMP:20260421T152009
CREATED:20160909T195852Z
LAST-MODIFIED:20160909T195852Z
UID:10005459-1695888000-1695898800@umaine.edu
SUMMARY:First Friday Bagels
DESCRIPTION:Every First Friday of the month ( when classes are in session )  Tim Hortons bagels and coffee are available for commuter students  in the Commuter Lounge/ Wade Center.  CANS and Tim Hortons sponsor this  monthly  event .
URL:https://umaine.edu/cntsp/event/first-friday-bagels-6/2023-09-28/
LOCATION:Commuter Lounge / Wade Center\, Memorial Union \, Orono
GEO:44.8831125;-68.6719411
X-APPLE-STRUCTURED-LOCATION;VALUE=URI;X-ADDRESS=Commuter Lounge / Wade Center Memorial Union  Orono;X-APPLE-RADIUS=500;X-TITLE=Memorial Union:geo:-68.6719411,44.8831125
END:VEVENT
BEGIN:VEVENT
DTSTART;TZID=America/New_York:20230927T080000
DTEND;TZID=America/New_York:20230927T110000
DTSTAMP:20260421T152009
CREATED:20160909T195852Z
LAST-MODIFIED:20160909T195852Z
UID:10005458-1695801600-1695812400@umaine.edu
SUMMARY:First Friday Bagels
DESCRIPTION:Every First Friday of the month ( when classes are in session )  Tim Hortons bagels and coffee are available for commuter students  in the Commuter Lounge/ Wade Center.  CANS and Tim Hortons sponsor this  monthly  event .
URL:https://umaine.edu/cntsp/event/first-friday-bagels-6/2023-09-27/
LOCATION:Commuter Lounge / Wade Center\, Memorial Union \, Orono
GEO:44.8831125;-68.6719411
X-APPLE-STRUCTURED-LOCATION;VALUE=URI;X-ADDRESS=Commuter Lounge / Wade Center Memorial Union  Orono;X-APPLE-RADIUS=500;X-TITLE=Memorial Union:geo:-68.6719411,44.8831125
END:VEVENT
BEGIN:VEVENT
DTSTART;TZID=America/New_York:20230926T080000
DTEND;TZID=America/New_York:20230926T110000
DTSTAMP:20260421T152009
CREATED:20160909T195852Z
LAST-MODIFIED:20160909T195852Z
UID:10005457-1695715200-1695726000@umaine.edu
SUMMARY:First Friday Bagels
DESCRIPTION:Every First Friday of the month ( when classes are in session )  Tim Hortons bagels and coffee are available for commuter students  in the Commuter Lounge/ Wade Center.  CANS and Tim Hortons sponsor this  monthly  event .
URL:https://umaine.edu/cntsp/event/first-friday-bagels-6/2023-09-26/
LOCATION:Commuter Lounge / Wade Center\, Memorial Union \, Orono
GEO:44.8831125;-68.6719411
X-APPLE-STRUCTURED-LOCATION;VALUE=URI;X-ADDRESS=Commuter Lounge / Wade Center Memorial Union  Orono;X-APPLE-RADIUS=500;X-TITLE=Memorial Union:geo:-68.6719411,44.8831125
END:VEVENT
BEGIN:VEVENT
DTSTART;TZID=America/New_York:20230925T080000
DTEND;TZID=America/New_York:20230925T110000
DTSTAMP:20260421T152009
CREATED:20160909T195852Z
LAST-MODIFIED:20160909T195852Z
UID:10005456-1695628800-1695639600@umaine.edu
SUMMARY:First Friday Bagels
DESCRIPTION:Every First Friday of the month ( when classes are in session )  Tim Hortons bagels and coffee are available for commuter students  in the Commuter Lounge/ Wade Center.  CANS and Tim Hortons sponsor this  monthly  event .
URL:https://umaine.edu/cntsp/event/first-friday-bagels-6/2023-09-25/
LOCATION:Commuter Lounge / Wade Center\, Memorial Union \, Orono
GEO:44.8831125;-68.6719411
X-APPLE-STRUCTURED-LOCATION;VALUE=URI;X-ADDRESS=Commuter Lounge / Wade Center Memorial Union  Orono;X-APPLE-RADIUS=500;X-TITLE=Memorial Union:geo:-68.6719411,44.8831125
END:VEVENT
BEGIN:VEVENT
DTSTART;TZID=America/New_York:20230924T080000
DTEND;TZID=America/New_York:20230924T110000
DTSTAMP:20260421T152009
CREATED:20160909T195852Z
LAST-MODIFIED:20160909T195852Z
UID:10005455-1695542400-1695553200@umaine.edu
SUMMARY:First Friday Bagels
DESCRIPTION:Every First Friday of the month ( when classes are in session )  Tim Hortons bagels and coffee are available for commuter students  in the Commuter Lounge/ Wade Center.  CANS and Tim Hortons sponsor this  monthly  event .
URL:https://umaine.edu/cntsp/event/first-friday-bagels-6/2023-09-24/
LOCATION:Commuter Lounge / Wade Center\, Memorial Union \, Orono
GEO:44.8831125;-68.6719411
X-APPLE-STRUCTURED-LOCATION;VALUE=URI;X-ADDRESS=Commuter Lounge / Wade Center Memorial Union  Orono;X-APPLE-RADIUS=500;X-TITLE=Memorial Union:geo:-68.6719411,44.8831125
END:VEVENT
BEGIN:VEVENT
DTSTART;TZID=America/New_York:20230923T080000
DTEND;TZID=America/New_York:20230923T110000
DTSTAMP:20260421T152009
CREATED:20160909T195852Z
LAST-MODIFIED:20160909T195852Z
UID:10005454-1695456000-1695466800@umaine.edu
SUMMARY:First Friday Bagels
DESCRIPTION:Every First Friday of the month ( when classes are in session )  Tim Hortons bagels and coffee are available for commuter students  in the Commuter Lounge/ Wade Center.  CANS and Tim Hortons sponsor this  monthly  event .
URL:https://umaine.edu/cntsp/event/first-friday-bagels-6/2023-09-23/
LOCATION:Commuter Lounge / Wade Center\, Memorial Union \, Orono
GEO:44.8831125;-68.6719411
X-APPLE-STRUCTURED-LOCATION;VALUE=URI;X-ADDRESS=Commuter Lounge / Wade Center Memorial Union  Orono;X-APPLE-RADIUS=500;X-TITLE=Memorial Union:geo:-68.6719411,44.8831125
END:VEVENT
BEGIN:VEVENT
DTSTART;TZID=America/New_York:20230922T080000
DTEND;TZID=America/New_York:20230922T110000
DTSTAMP:20260421T152009
CREATED:20160909T195852Z
LAST-MODIFIED:20160909T195852Z
UID:10005453-1695369600-1695380400@umaine.edu
SUMMARY:First Friday Bagels
DESCRIPTION:Every First Friday of the month ( when classes are in session )  Tim Hortons bagels and coffee are available for commuter students  in the Commuter Lounge/ Wade Center.  CANS and Tim Hortons sponsor this  monthly  event .
URL:https://umaine.edu/cntsp/event/first-friday-bagels-6/2023-09-22/
LOCATION:Commuter Lounge / Wade Center\, Memorial Union \, Orono
GEO:44.8831125;-68.6719411
X-APPLE-STRUCTURED-LOCATION;VALUE=URI;X-ADDRESS=Commuter Lounge / Wade Center Memorial Union  Orono;X-APPLE-RADIUS=500;X-TITLE=Memorial Union:geo:-68.6719411,44.8831125
END:VEVENT
BEGIN:VEVENT
DTSTART;TZID=America/New_York:20230921T080000
DTEND;TZID=America/New_York:20230921T110000
DTSTAMP:20260421T152009
CREATED:20160909T195852Z
LAST-MODIFIED:20160909T195852Z
UID:10005452-1695283200-1695294000@umaine.edu
SUMMARY:First Friday Bagels
DESCRIPTION:Every First Friday of the month ( when classes are in session )  Tim Hortons bagels and coffee are available for commuter students  in the Commuter Lounge/ Wade Center.  CANS and Tim Hortons sponsor this  monthly  event .
URL:https://umaine.edu/cntsp/event/first-friday-bagels-6/2023-09-21/
LOCATION:Commuter Lounge / Wade Center\, Memorial Union \, Orono
GEO:44.8831125;-68.6719411
X-APPLE-STRUCTURED-LOCATION;VALUE=URI;X-ADDRESS=Commuter Lounge / Wade Center Memorial Union  Orono;X-APPLE-RADIUS=500;X-TITLE=Memorial Union:geo:-68.6719411,44.8831125
END:VEVENT
BEGIN:VEVENT
DTSTART;TZID=America/New_York:20230920T080000
DTEND;TZID=America/New_York:20230920T110000
DTSTAMP:20260421T152009
CREATED:20160909T195852Z
LAST-MODIFIED:20160909T195852Z
UID:10005451-1695196800-1695207600@umaine.edu
SUMMARY:First Friday Bagels
DESCRIPTION:Every First Friday of the month ( when classes are in session )  Tim Hortons bagels and coffee are available for commuter students  in the Commuter Lounge/ Wade Center.  CANS and Tim Hortons sponsor this  monthly  event .
URL:https://umaine.edu/cntsp/event/first-friday-bagels-6/2023-09-20/
LOCATION:Commuter Lounge / Wade Center\, Memorial Union \, Orono
GEO:44.8831125;-68.6719411
X-APPLE-STRUCTURED-LOCATION;VALUE=URI;X-ADDRESS=Commuter Lounge / Wade Center Memorial Union  Orono;X-APPLE-RADIUS=500;X-TITLE=Memorial Union:geo:-68.6719411,44.8831125
END:VEVENT
BEGIN:VEVENT
DTSTART;TZID=America/New_York:20230919T080000
DTEND;TZID=America/New_York:20230919T110000
DTSTAMP:20260421T152009
CREATED:20160909T195852Z
LAST-MODIFIED:20160909T195852Z
UID:10005450-1695110400-1695121200@umaine.edu
SUMMARY:First Friday Bagels
DESCRIPTION:Every First Friday of the month ( when classes are in session )  Tim Hortons bagels and coffee are available for commuter students  in the Commuter Lounge/ Wade Center.  CANS and Tim Hortons sponsor this  monthly  event .
URL:https://umaine.edu/cntsp/event/first-friday-bagels-6/2023-09-19/
LOCATION:Commuter Lounge / Wade Center\, Memorial Union \, Orono
GEO:44.8831125;-68.6719411
X-APPLE-STRUCTURED-LOCATION;VALUE=URI;X-ADDRESS=Commuter Lounge / Wade Center Memorial Union  Orono;X-APPLE-RADIUS=500;X-TITLE=Memorial Union:geo:-68.6719411,44.8831125
END:VEVENT
BEGIN:VEVENT
DTSTART;TZID=America/New_York:20230918T080000
DTEND;TZID=America/New_York:20230918T110000
DTSTAMP:20260421T152009
CREATED:20160909T195852Z
LAST-MODIFIED:20160909T195852Z
UID:10005449-1695024000-1695034800@umaine.edu
SUMMARY:First Friday Bagels
DESCRIPTION:Every First Friday of the month ( when classes are in session )  Tim Hortons bagels and coffee are available for commuter students  in the Commuter Lounge/ Wade Center.  CANS and Tim Hortons sponsor this  monthly  event .
URL:https://umaine.edu/cntsp/event/first-friday-bagels-6/2023-09-18/
LOCATION:Commuter Lounge / Wade Center\, Memorial Union \, Orono
GEO:44.8831125;-68.6719411
X-APPLE-STRUCTURED-LOCATION;VALUE=URI;X-ADDRESS=Commuter Lounge / Wade Center Memorial Union  Orono;X-APPLE-RADIUS=500;X-TITLE=Memorial Union:geo:-68.6719411,44.8831125
END:VEVENT
BEGIN:VEVENT
DTSTART;TZID=America/New_York:20230917T080000
DTEND;TZID=America/New_York:20230917T110000
DTSTAMP:20260421T152009
CREATED:20160909T195852Z
LAST-MODIFIED:20160909T195852Z
UID:10005448-1694937600-1694948400@umaine.edu
SUMMARY:First Friday Bagels
DESCRIPTION:Every First Friday of the month ( when classes are in session )  Tim Hortons bagels and coffee are available for commuter students  in the Commuter Lounge/ Wade Center.  CANS and Tim Hortons sponsor this  monthly  event .
URL:https://umaine.edu/cntsp/event/first-friday-bagels-6/2023-09-17/
LOCATION:Commuter Lounge / Wade Center\, Memorial Union \, Orono
GEO:44.8831125;-68.6719411
X-APPLE-STRUCTURED-LOCATION;VALUE=URI;X-ADDRESS=Commuter Lounge / Wade Center Memorial Union  Orono;X-APPLE-RADIUS=500;X-TITLE=Memorial Union:geo:-68.6719411,44.8831125
END:VEVENT
BEGIN:VEVENT
DTSTART;TZID=America/New_York:20230916T080000
DTEND;TZID=America/New_York:20230916T110000
DTSTAMP:20260421T152009
CREATED:20160909T195852Z
LAST-MODIFIED:20160909T195852Z
UID:10005447-1694851200-1694862000@umaine.edu
SUMMARY:First Friday Bagels
DESCRIPTION:Every First Friday of the month ( when classes are in session )  Tim Hortons bagels and coffee are available for commuter students  in the Commuter Lounge/ Wade Center.  CANS and Tim Hortons sponsor this  monthly  event .
URL:https://umaine.edu/cntsp/event/first-friday-bagels-6/2023-09-16/
LOCATION:Commuter Lounge / Wade Center\, Memorial Union \, Orono
GEO:44.8831125;-68.6719411
X-APPLE-STRUCTURED-LOCATION;VALUE=URI;X-ADDRESS=Commuter Lounge / Wade Center Memorial Union  Orono;X-APPLE-RADIUS=500;X-TITLE=Memorial Union:geo:-68.6719411,44.8831125
END:VEVENT
BEGIN:VEVENT
DTSTART;TZID=America/New_York:20230915T080000
DTEND;TZID=America/New_York:20230915T110000
DTSTAMP:20260421T152009
CREATED:20160909T195852Z
LAST-MODIFIED:20160909T195852Z
UID:10005446-1694764800-1694775600@umaine.edu
SUMMARY:First Friday Bagels
DESCRIPTION:Every First Friday of the month ( when classes are in session )  Tim Hortons bagels and coffee are available for commuter students  in the Commuter Lounge/ Wade Center.  CANS and Tim Hortons sponsor this  monthly  event .
URL:https://umaine.edu/cntsp/event/first-friday-bagels-6/2023-09-15/
LOCATION:Commuter Lounge / Wade Center\, Memorial Union \, Orono
GEO:44.8831125;-68.6719411
X-APPLE-STRUCTURED-LOCATION;VALUE=URI;X-ADDRESS=Commuter Lounge / Wade Center Memorial Union  Orono;X-APPLE-RADIUS=500;X-TITLE=Memorial Union:geo:-68.6719411,44.8831125
END:VEVENT
BEGIN:VEVENT
DTSTART;TZID=America/New_York:20230914T080000
DTEND;TZID=America/New_York:20230914T110000
DTSTAMP:20260421T152009
CREATED:20160909T195852Z
LAST-MODIFIED:20160909T195852Z
UID:10005445-1694678400-1694689200@umaine.edu
SUMMARY:First Friday Bagels
DESCRIPTION:Every First Friday of the month ( when classes are in session )  Tim Hortons bagels and coffee are available for commuter students  in the Commuter Lounge/ Wade Center.  CANS and Tim Hortons sponsor this  monthly  event .
URL:https://umaine.edu/cntsp/event/first-friday-bagels-6/2023-09-14/
LOCATION:Commuter Lounge / Wade Center\, Memorial Union \, Orono
GEO:44.8831125;-68.6719411
X-APPLE-STRUCTURED-LOCATION;VALUE=URI;X-ADDRESS=Commuter Lounge / Wade Center Memorial Union  Orono;X-APPLE-RADIUS=500;X-TITLE=Memorial Union:geo:-68.6719411,44.8831125
END:VEVENT
BEGIN:VEVENT
DTSTART;TZID=America/New_York:20230913T080000
DTEND;TZID=America/New_York:20230913T110000
DTSTAMP:20260421T152009
CREATED:20160909T195852Z
LAST-MODIFIED:20160909T195852Z
UID:10005444-1694592000-1694602800@umaine.edu
SUMMARY:First Friday Bagels
DESCRIPTION:Every First Friday of the month ( when classes are in session )  Tim Hortons bagels and coffee are available for commuter students  in the Commuter Lounge/ Wade Center.  CANS and Tim Hortons sponsor this  monthly  event .
URL:https://umaine.edu/cntsp/event/first-friday-bagels-6/2023-09-13/
LOCATION:Commuter Lounge / Wade Center\, Memorial Union \, Orono
GEO:44.8831125;-68.6719411
X-APPLE-STRUCTURED-LOCATION;VALUE=URI;X-ADDRESS=Commuter Lounge / Wade Center Memorial Union  Orono;X-APPLE-RADIUS=500;X-TITLE=Memorial Union:geo:-68.6719411,44.8831125
END:VEVENT
BEGIN:VEVENT
DTSTART;TZID=America/New_York:20230912T080000
DTEND;TZID=America/New_York:20230912T110000
DTSTAMP:20260421T152009
CREATED:20160909T195852Z
LAST-MODIFIED:20160909T195852Z
UID:10005443-1694505600-1694516400@umaine.edu
SUMMARY:First Friday Bagels
DESCRIPTION:Every First Friday of the month ( when classes are in session )  Tim Hortons bagels and coffee are available for commuter students  in the Commuter Lounge/ Wade Center.  CANS and Tim Hortons sponsor this  monthly  event .
URL:https://umaine.edu/cntsp/event/first-friday-bagels-6/2023-09-12/
LOCATION:Commuter Lounge / Wade Center\, Memorial Union \, Orono
GEO:44.8831125;-68.6719411
X-APPLE-STRUCTURED-LOCATION;VALUE=URI;X-ADDRESS=Commuter Lounge / Wade Center Memorial Union  Orono;X-APPLE-RADIUS=500;X-TITLE=Memorial Union:geo:-68.6719411,44.8831125
END:VEVENT
BEGIN:VEVENT
DTSTART;TZID=America/New_York:20230911T080000
DTEND;TZID=America/New_York:20230911T110000
DTSTAMP:20260421T152009
CREATED:20160909T195852Z
LAST-MODIFIED:20160909T195852Z
UID:10005442-1694419200-1694430000@umaine.edu
SUMMARY:First Friday Bagels
DESCRIPTION:Every First Friday of the month ( when classes are in session )  Tim Hortons bagels and coffee are available for commuter students  in the Commuter Lounge/ Wade Center.  CANS and Tim Hortons sponsor this  monthly  event .
URL:https://umaine.edu/cntsp/event/first-friday-bagels-6/2023-09-11/
LOCATION:Commuter Lounge / Wade Center\, Memorial Union \, Orono
GEO:44.8831125;-68.6719411
X-APPLE-STRUCTURED-LOCATION;VALUE=URI;X-ADDRESS=Commuter Lounge / Wade Center Memorial Union  Orono;X-APPLE-RADIUS=500;X-TITLE=Memorial Union:geo:-68.6719411,44.8831125
END:VEVENT
END:VCALENDAR