BEGIN:VCALENDAR
VERSION:2.0
PRODID:-//Commuter &amp; Non-Traditional Student Programs - ECPv6.15.17.1//NONSGML v1.0//EN
CALSCALE:GREGORIAN
METHOD:PUBLISH
X-WR-CALNAME:Commuter &amp; Non-Traditional Student Programs
X-ORIGINAL-URL:https://umaine.edu/cntsp
X-WR-CALDESC:Events for Commuter &amp; Non-Traditional Student Programs
REFRESH-INTERVAL;VALUE=DURATION:PT1H
X-Robots-Tag:noindex
X-PUBLISHED-TTL:PT1H
BEGIN:VTIMEZONE
TZID:America/New_York
BEGIN:DAYLIGHT
TZOFFSETFROM:-0500
TZOFFSETTO:-0400
TZNAME:EDT
DTSTART:20140309T070000
END:DAYLIGHT
BEGIN:STANDARD
TZOFFSETFROM:-0400
TZOFFSETTO:-0500
TZNAME:EST
DTSTART:20141102T060000
END:STANDARD
BEGIN:DAYLIGHT
TZOFFSETFROM:-0500
TZOFFSETTO:-0400
TZNAME:EDT
DTSTART:20150308T070000
END:DAYLIGHT
BEGIN:STANDARD
TZOFFSETFROM:-0400
TZOFFSETTO:-0500
TZNAME:EST
DTSTART:20151101T060000
END:STANDARD
BEGIN:DAYLIGHT
TZOFFSETFROM:-0500
TZOFFSETTO:-0400
TZNAME:EDT
DTSTART:20160313T070000
END:DAYLIGHT
BEGIN:STANDARD
TZOFFSETFROM:-0400
TZOFFSETTO:-0500
TZNAME:EST
DTSTART:20161106T060000
END:STANDARD
BEGIN:DAYLIGHT
TZOFFSETFROM:-0500
TZOFFSETTO:-0400
TZNAME:EDT
DTSTART:20170312T070000
END:DAYLIGHT
BEGIN:STANDARD
TZOFFSETFROM:-0400
TZOFFSETTO:-0500
TZNAME:EST
DTSTART:20171105T060000
END:STANDARD
END:VTIMEZONE
BEGIN:VEVENT
DTSTART;TZID=America/New_York:20160627T080000
DTEND;TZID=America/New_York:20160627T090000
DTSTAMP:20260422T033846
CREATED:20160503T181738Z
LAST-MODIFIED:20160503T182341Z
UID:10005592-1467014400-1467018000@umaine.edu
SUMMARY:Non Traditional Student Alternative Summer Orientation Session
DESCRIPTION:New students who are non traditional students are invited to attend an alternate schedule for summer orientation  that will not include and overnight.  Non traditional Students should try when possible to attend a session planned for their college.  See NSO Summer Orientations schedule
URL:https://umaine.edu/cntsp/event/alternative-summer/2016-06-27/
LOCATION:Commuter Lounge / Wade Center\, Memorial Union \, Orono
GEO:44.8831125;-68.6719411
X-APPLE-STRUCTURED-LOCATION;VALUE=URI;X-ADDRESS=Commuter Lounge / Wade Center Memorial Union  Orono;X-APPLE-RADIUS=500;X-TITLE=Memorial Union:geo:-68.6719411,44.8831125
END:VEVENT
BEGIN:VEVENT
DTSTART;TZID=America/New_York:20160626T080000
DTEND;TZID=America/New_York:20160626T090000
DTSTAMP:20260422T033846
CREATED:20160503T181738Z
LAST-MODIFIED:20160503T182341Z
UID:10005591-1466928000-1466931600@umaine.edu
SUMMARY:Non Traditional Student Alternative Summer Orientation Session
DESCRIPTION:New students who are non traditional students are invited to attend an alternate schedule for summer orientation  that will not include and overnight.  Non traditional Students should try when possible to attend a session planned for their college.  See NSO Summer Orientations schedule
URL:https://umaine.edu/cntsp/event/alternative-summer/2016-06-26/
LOCATION:Commuter Lounge / Wade Center\, Memorial Union \, Orono
GEO:44.8831125;-68.6719411
X-APPLE-STRUCTURED-LOCATION;VALUE=URI;X-ADDRESS=Commuter Lounge / Wade Center Memorial Union  Orono;X-APPLE-RADIUS=500;X-TITLE=Memorial Union:geo:-68.6719411,44.8831125
END:VEVENT
BEGIN:VEVENT
DTSTART;TZID=America/New_York:20160625T080000
DTEND;TZID=America/New_York:20160625T090000
DTSTAMP:20260422T033846
CREATED:20160503T181738Z
LAST-MODIFIED:20160503T182341Z
UID:10005590-1466841600-1466845200@umaine.edu
SUMMARY:Non Traditional Student Alternative Summer Orientation Session
DESCRIPTION:New students who are non traditional students are invited to attend an alternate schedule for summer orientation  that will not include and overnight.  Non traditional Students should try when possible to attend a session planned for their college.  See NSO Summer Orientations schedule
URL:https://umaine.edu/cntsp/event/alternative-summer/2016-06-25/
LOCATION:Commuter Lounge / Wade Center\, Memorial Union \, Orono
GEO:44.8831125;-68.6719411
X-APPLE-STRUCTURED-LOCATION;VALUE=URI;X-ADDRESS=Commuter Lounge / Wade Center Memorial Union  Orono;X-APPLE-RADIUS=500;X-TITLE=Memorial Union:geo:-68.6719411,44.8831125
END:VEVENT
BEGIN:VEVENT
DTSTART;TZID=America/New_York:20160620T080000
DTEND;TZID=America/New_York:20160620T090000
DTSTAMP:20260422T033846
CREATED:20160503T181053Z
LAST-MODIFIED:20160512T201840Z
UID:10005595-1466409600-1466413200@umaine.edu
SUMMARY:Non Traditional Student Alternate Summer Orientation  session
DESCRIPTION:
URL:https://umaine.edu/cntsp/event/non-traditional-student-alternate-summer-orientation-session/2016-06-20/
LOCATION:Commuter Lounge / Wade Center\, Memorial Union \, Orono
GEO:44.8831125;-68.6719411
X-APPLE-STRUCTURED-LOCATION;VALUE=URI;X-ADDRESS=Commuter Lounge / Wade Center Memorial Union  Orono;X-APPLE-RADIUS=500;X-TITLE=Memorial Union:geo:-68.6719411,44.8831125
END:VEVENT
BEGIN:VEVENT
DTSTART;TZID=America/New_York:20160619T080000
DTEND;TZID=America/New_York:20160619T090000
DTSTAMP:20260422T033846
CREATED:20160503T181053Z
LAST-MODIFIED:20160512T201840Z
UID:10005594-1466323200-1466326800@umaine.edu
SUMMARY:Non Traditional Student Alternate Summer Orientation  session
DESCRIPTION:
URL:https://umaine.edu/cntsp/event/non-traditional-student-alternate-summer-orientation-session/2016-06-19/
LOCATION:Commuter Lounge / Wade Center\, Memorial Union \, Orono
GEO:44.8831125;-68.6719411
X-APPLE-STRUCTURED-LOCATION;VALUE=URI;X-ADDRESS=Commuter Lounge / Wade Center Memorial Union  Orono;X-APPLE-RADIUS=500;X-TITLE=Memorial Union:geo:-68.6719411,44.8831125
END:VEVENT
BEGIN:VEVENT
DTSTART;TZID=America/New_York:20160618T080000
DTEND;TZID=America/New_York:20160618T090000
DTSTAMP:20260422T033846
CREATED:20160503T181053Z
LAST-MODIFIED:20160512T201840Z
UID:10005593-1466236800-1466240400@umaine.edu
SUMMARY:Non Traditional Student Alternate Summer Orientation  session
DESCRIPTION:
URL:https://umaine.edu/cntsp/event/non-traditional-student-alternate-summer-orientation-session/2016-06-18/
LOCATION:Commuter Lounge / Wade Center\, Memorial Union \, Orono
GEO:44.8831125;-68.6719411
X-APPLE-STRUCTURED-LOCATION;VALUE=URI;X-ADDRESS=Commuter Lounge / Wade Center Memorial Union  Orono;X-APPLE-RADIUS=500;X-TITLE=Memorial Union:geo:-68.6719411,44.8831125
END:VEVENT
BEGIN:VEVENT
DTSTART;TZID=America/New_York:20160505T083000
DTEND;TZID=America/New_York:20160505T103000
DTSTAMP:20260422T033846
CREATED:20160217T203209Z
LAST-MODIFIED:20160217T203819Z
UID:10005597-1462437000-1462444200@umaine.edu
SUMMARY:Non traditional Student Graduation Breakfast
DESCRIPTION:
URL:https://umaine.edu/cntsp/event/non-traditional-student-graduation-breakfast/
LOCATION:TBA
END:VEVENT
BEGIN:VEVENT
DTSTART;TZID=America/New_York:20160504T090000
DTEND;TZID=America/New_York:20160504T100000
DTSTAMP:20260422T033846
CREATED:20160217T202809Z
LAST-MODIFIED:20160217T202809Z
UID:10005598-1462352400-1462356000@umaine.edu
SUMMARY:Commuter Maine Day Project
DESCRIPTION:
URL:https://umaine.edu/cntsp/event/commuter-maine-day-project/
LOCATION:Commuter Lounge / Wade Center\, Memorial Union \, Orono
GEO:44.8831125;-68.6719411
X-APPLE-STRUCTURED-LOCATION;VALUE=URI;X-ADDRESS=Commuter Lounge / Wade Center Memorial Union  Orono;X-APPLE-RADIUS=500;X-TITLE=Memorial Union:geo:-68.6719411,44.8831125
END:VEVENT
BEGIN:VEVENT
DTSTART;TZID=America/New_York:20160305T080000
DTEND;TZID=America/New_York:20160319T170000
DTSTAMP:20260422T033846
CREATED:20160217T201331Z
LAST-MODIFIED:20160217T201331Z
UID:10005602-1457164800-1458406800@umaine.edu
SUMMARY:Spring Break : Commuter Lounge is open \, no staff
DESCRIPTION:
URL:https://umaine.edu/cntsp/event/spring-break-commuter-lounge-is-open-no-staff/
END:VEVENT
BEGIN:VEVENT
DTSTART;TZID=America/New_York:20160205T080000
DTEND;TZID=America/New_York:20160206T103000
DTSTAMP:20260422T033846
CREATED:20151222T202857Z
LAST-MODIFIED:20151222T203453Z
UID:10005617-1454659200-1454754600@umaine.edu
SUMMARY:First Friday Bagels
DESCRIPTION:Come and join us for free bagels and coffee in the Commuter Lounge. This monthly event for commuter students is made possible by donations from Tim Hortons and funding from CANS\, Commuter and Nontraditional Students \, a board of UMaine Student Government and co sponsored by CNTSP
URL:https://umaine.edu/cntsp/event/first-friday-bagels-2/
LOCATION:Commuter Lounge / Wade Center\, Memorial Union \, Orono
GEO:44.8831125;-68.6719411
X-APPLE-STRUCTURED-LOCATION;VALUE=URI;X-ADDRESS=Commuter Lounge / Wade Center Memorial Union  Orono;X-APPLE-RADIUS=500;X-TITLE=Memorial Union:geo:-68.6719411,44.8831125
END:VEVENT
BEGIN:VEVENT
DTSTART;TZID=America/New_York:20160128T090000
DTEND;TZID=America/New_York:20160128T170000
DTSTAMP:20260422T033846
CREATED:20151222T201348Z
LAST-MODIFIED:20151222T201348Z
UID:10005634-1453971600-1454000400@umaine.edu
SUMMARY:Renters Fair
DESCRIPTION:Students looking for off- campus housing for next year are invited to meet with local landlords and property managers to review available housing.   Information about Renters Insurance \, Home Fire Safety and more will be available to students \n  \n  \n 
URL:https://umaine.edu/cntsp/event/renters-fair-3/
LOCATION:Atrium\, Memorial Union\, 5748  Memorial Union \, Orono\, ME\, 04469\, United States
GEO:44.9024546;-68.6638413
X-APPLE-STRUCTURED-LOCATION;VALUE=URI;X-ADDRESS=Atrium Memorial Union 5748  Memorial Union  Orono ME 04469 United States;X-APPLE-RADIUS=500;X-TITLE=5748  Memorial Union:geo:-68.6638413,44.9024546
END:VEVENT
BEGIN:VEVENT
DTSTART;TZID=America/New_York:20160125T130000
DTEND;TZID=America/New_York:20160125T140000
DTSTAMP:20260422T033846
CREATED:20151222T202248Z
LAST-MODIFIED:20151222T202248Z
UID:10005616-1453726800-1453730400@umaine.edu
SUMMARY:Renters Information Sessions
DESCRIPTION:Commuter and Non traditional Student Programs  (CNTSP) will provide information and resources to assist students as they look for off campus housing . We will cover topics such as; Choosing the right off campus housing\, Communicating with your landlord\, Living successfully in your new neighborhood and more.
URL:https://umaine.edu/cntsp/event/renters-information-sessions/2016-01-25/
LOCATION:Commuter Lounge / Wade Center\, Memorial Union \, Orono
GEO:44.8831125;-68.6719411
X-APPLE-STRUCTURED-LOCATION;VALUE=URI;X-ADDRESS=Commuter Lounge / Wade Center Memorial Union  Orono;X-APPLE-RADIUS=500;X-TITLE=Memorial Union:geo:-68.6719411,44.8831125
END:VEVENT
BEGIN:VEVENT
DTSTART;TZID=America/New_York:20151203T090000
DTEND;TZID=America/New_York:20151203T150000
DTSTAMP:20260422T033846
CREATED:20151109T200451Z
LAST-MODIFIED:20151109T200451Z
UID:10005637-1449133200-1449154800@umaine.edu
SUMMARY:Renters Fair
DESCRIPTION:Local property managers and landlords come to campus so students can learn about off campus housing. Resources tables about renters insurance\, lease review \, home safety and more  are also present .
URL:https://umaine.edu/cntsp/event/renters-fair-2/
LOCATION:Atrium\, Memorial Union\, 5748  Memorial Union \, Orono\, ME\, 04469\, United States
GEO:44.9024546;-68.6638413
X-APPLE-STRUCTURED-LOCATION;VALUE=URI;X-ADDRESS=Atrium Memorial Union 5748  Memorial Union  Orono ME 04469 United States;X-APPLE-RADIUS=500;X-TITLE=5748  Memorial Union:geo:-68.6638413,44.9024546
END:VEVENT
BEGIN:VEVENT
DTSTART;TZID=America/New_York:20151202T090000
DTEND;TZID=America/New_York:20151202T170000
DTSTAMP:20260422T033846
CREATED:20151109T200044Z
LAST-MODIFIED:20151109T200044Z
UID:10005638-1449046800-1449075600@umaine.edu
SUMMARY:Renters Fair
DESCRIPTION:Local property managers and landlords  are invited to campus so students can learn more about available off campus housing. Resource tables for renters insurance\, budgeting\, lease reviews and more are also part of the Renters Fair
URL:https://umaine.edu/cntsp/event/renters-fair/
LOCATION:Atrium\, Memorial Union\, 5748  Memorial Union \, Orono\, ME\, 04469\, United States
GEO:44.9024546;-68.6638413
X-APPLE-STRUCTURED-LOCATION;VALUE=URI;X-ADDRESS=Atrium Memorial Union 5748  Memorial Union  Orono ME 04469 United States;X-APPLE-RADIUS=500;X-TITLE=5748  Memorial Union:geo:-68.6638413,44.9024546
END:VEVENT
END:VCALENDAR