BEGIN:VCALENDAR
VERSION:2.0
PRODID:-//Commuter &amp; Non-Traditional Student Programs - ECPv6.15.17.1//NONSGML v1.0//EN
CALSCALE:GREGORIAN
METHOD:PUBLISH
X-ORIGINAL-URL:https://umaine.edu/cntsp
X-WR-CALDESC:Events for Commuter &amp; Non-Traditional Student Programs
REFRESH-INTERVAL;VALUE=DURATION:PT1H
X-Robots-Tag:noindex
X-PUBLISHED-TTL:PT1H
BEGIN:VTIMEZONE
TZID:America/New_York
BEGIN:DAYLIGHT
TZOFFSETFROM:-0500
TZOFFSETTO:-0400
TZNAME:EDT
DTSTART:20160313T070000
END:DAYLIGHT
BEGIN:STANDARD
TZOFFSETFROM:-0400
TZOFFSETTO:-0500
TZNAME:EST
DTSTART:20161106T060000
END:STANDARD
BEGIN:DAYLIGHT
TZOFFSETFROM:-0500
TZOFFSETTO:-0400
TZNAME:EDT
DTSTART:20170312T070000
END:DAYLIGHT
BEGIN:STANDARD
TZOFFSETFROM:-0400
TZOFFSETTO:-0500
TZNAME:EST
DTSTART:20171105T060000
END:STANDARD
BEGIN:DAYLIGHT
TZOFFSETFROM:-0500
TZOFFSETTO:-0400
TZNAME:EDT
DTSTART:20180311T070000
END:DAYLIGHT
BEGIN:STANDARD
TZOFFSETFROM:-0400
TZOFFSETTO:-0500
TZNAME:EST
DTSTART:20181104T060000
END:STANDARD
END:VTIMEZONE
BEGIN:VEVENT
DTSTART;TZID=America/New_York:20170210T080000
DTEND;TZID=America/New_York:20170210T110000
DTSTAMP:20260421T142401
CREATED:20160909T195852Z
LAST-MODIFIED:20160909T195852Z
UID:10003038-1486713600-1486724400@umaine.edu
SUMMARY:First Friday Bagels
DESCRIPTION:Every First Friday of the month ( when classes are in session )  Tim Hortons bagels and coffee are available for commuter students  in the Commuter Lounge/ Wade Center.  CANS and Tim Hortons sponsor this  monthly  event .
URL:https://umaine.edu/cntsp/event/first-friday-bagels-6/2017-02-10/
LOCATION:Commuter Lounge / Wade Center\, Memorial Union \, Orono
GEO:44.8831125;-68.6719411
X-APPLE-STRUCTURED-LOCATION;VALUE=URI;X-ADDRESS=Commuter Lounge / Wade Center Memorial Union  Orono;X-APPLE-RADIUS=500;X-TITLE=Memorial Union:geo:-68.6719411,44.8831125
END:VEVENT
BEGIN:VEVENT
DTSTART;TZID=America/New_York:20170211T080000
DTEND;TZID=America/New_York:20170211T110000
DTSTAMP:20260421T142401
CREATED:20160909T195852Z
LAST-MODIFIED:20160909T195852Z
UID:10003039-1486800000-1486810800@umaine.edu
SUMMARY:First Friday Bagels
DESCRIPTION:Every First Friday of the month ( when classes are in session )  Tim Hortons bagels and coffee are available for commuter students  in the Commuter Lounge/ Wade Center.  CANS and Tim Hortons sponsor this  monthly  event .
URL:https://umaine.edu/cntsp/event/first-friday-bagels-6/2017-02-11/
LOCATION:Commuter Lounge / Wade Center\, Memorial Union \, Orono
GEO:44.8831125;-68.6719411
X-APPLE-STRUCTURED-LOCATION;VALUE=URI;X-ADDRESS=Commuter Lounge / Wade Center Memorial Union  Orono;X-APPLE-RADIUS=500;X-TITLE=Memorial Union:geo:-68.6719411,44.8831125
END:VEVENT
BEGIN:VEVENT
DTSTART;TZID=America/New_York:20170212T080000
DTEND;TZID=America/New_York:20170212T110000
DTSTAMP:20260421T142401
CREATED:20160909T195852Z
LAST-MODIFIED:20160909T195852Z
UID:10003040-1486886400-1486897200@umaine.edu
SUMMARY:First Friday Bagels
DESCRIPTION:Every First Friday of the month ( when classes are in session )  Tim Hortons bagels and coffee are available for commuter students  in the Commuter Lounge/ Wade Center.  CANS and Tim Hortons sponsor this  monthly  event .
URL:https://umaine.edu/cntsp/event/first-friday-bagels-6/2017-02-12/
LOCATION:Commuter Lounge / Wade Center\, Memorial Union \, Orono
GEO:44.8831125;-68.6719411
X-APPLE-STRUCTURED-LOCATION;VALUE=URI;X-ADDRESS=Commuter Lounge / Wade Center Memorial Union  Orono;X-APPLE-RADIUS=500;X-TITLE=Memorial Union:geo:-68.6719411,44.8831125
END:VEVENT
BEGIN:VEVENT
DTSTART;TZID=America/New_York:20170213T080000
DTEND;TZID=America/New_York:20170213T110000
DTSTAMP:20260421T142401
CREATED:20160909T195852Z
LAST-MODIFIED:20160909T195852Z
UID:10003041-1486972800-1486983600@umaine.edu
SUMMARY:First Friday Bagels
DESCRIPTION:Every First Friday of the month ( when classes are in session )  Tim Hortons bagels and coffee are available for commuter students  in the Commuter Lounge/ Wade Center.  CANS and Tim Hortons sponsor this  monthly  event .
URL:https://umaine.edu/cntsp/event/first-friday-bagels-6/2017-02-13/
LOCATION:Commuter Lounge / Wade Center\, Memorial Union \, Orono
GEO:44.8831125;-68.6719411
X-APPLE-STRUCTURED-LOCATION;VALUE=URI;X-ADDRESS=Commuter Lounge / Wade Center Memorial Union  Orono;X-APPLE-RADIUS=500;X-TITLE=Memorial Union:geo:-68.6719411,44.8831125
END:VEVENT
BEGIN:VEVENT
DTSTART;TZID=America/New_York:20170214T080000
DTEND;TZID=America/New_York:20170214T110000
DTSTAMP:20260421T142401
CREATED:20160909T195852Z
LAST-MODIFIED:20160909T195852Z
UID:10003042-1487059200-1487070000@umaine.edu
SUMMARY:First Friday Bagels
DESCRIPTION:Every First Friday of the month ( when classes are in session )  Tim Hortons bagels and coffee are available for commuter students  in the Commuter Lounge/ Wade Center.  CANS and Tim Hortons sponsor this  monthly  event .
URL:https://umaine.edu/cntsp/event/first-friday-bagels-6/2017-02-14/
LOCATION:Commuter Lounge / Wade Center\, Memorial Union \, Orono
GEO:44.8831125;-68.6719411
X-APPLE-STRUCTURED-LOCATION;VALUE=URI;X-ADDRESS=Commuter Lounge / Wade Center Memorial Union  Orono;X-APPLE-RADIUS=500;X-TITLE=Memorial Union:geo:-68.6719411,44.8831125
END:VEVENT
BEGIN:VEVENT
DTSTART;TZID=America/New_York:20170215T080000
DTEND;TZID=America/New_York:20170215T110000
DTSTAMP:20260421T142401
CREATED:20160909T195852Z
LAST-MODIFIED:20160909T195852Z
UID:10003043-1487145600-1487156400@umaine.edu
SUMMARY:First Friday Bagels
DESCRIPTION:Every First Friday of the month ( when classes are in session )  Tim Hortons bagels and coffee are available for commuter students  in the Commuter Lounge/ Wade Center.  CANS and Tim Hortons sponsor this  monthly  event .
URL:https://umaine.edu/cntsp/event/first-friday-bagels-6/2017-02-15/
LOCATION:Commuter Lounge / Wade Center\, Memorial Union \, Orono
GEO:44.8831125;-68.6719411
X-APPLE-STRUCTURED-LOCATION;VALUE=URI;X-ADDRESS=Commuter Lounge / Wade Center Memorial Union  Orono;X-APPLE-RADIUS=500;X-TITLE=Memorial Union:geo:-68.6719411,44.8831125
END:VEVENT
BEGIN:VEVENT
DTSTART;TZID=America/New_York:20170215T140000
DTEND;TZID=America/New_York:20170215T150000
DTSTAMP:20260421T142401
CREATED:20160909T202149Z
LAST-MODIFIED:20160909T202149Z
UID:10002873-1487167200-1487170800@umaine.edu
SUMMARY:Whats on Wednesday
DESCRIPTION:Every week on Wednesday\, CNTSP invites a campus resource to visit the Commuter Lounge in the Wade Center and talk with students about what that department or program has to offer.  Resources include the Parking office\, Study Abroad\, and many others.  Call CNTSP to find out who is the guest this week . This is a casual conversation with plenty of time for questions. Light refreshments are  served.
URL:https://umaine.edu/cntsp/event/whats-on-wednesday/2017-02-15/
LOCATION:Commuter Lounge / Wade Center\, Memorial Union \, Orono
GEO:44.8831125;-68.6719411
X-APPLE-STRUCTURED-LOCATION;VALUE=URI;X-ADDRESS=Commuter Lounge / Wade Center Memorial Union  Orono;X-APPLE-RADIUS=500;X-TITLE=Memorial Union:geo:-68.6719411,44.8831125
END:VEVENT
BEGIN:VEVENT
DTSTART;TZID=America/New_York:20170216T080000
DTEND;TZID=America/New_York:20170216T110000
DTSTAMP:20260421T142401
CREATED:20160909T195852Z
LAST-MODIFIED:20160909T195852Z
UID:10003044-1487232000-1487242800@umaine.edu
SUMMARY:First Friday Bagels
DESCRIPTION:Every First Friday of the month ( when classes are in session )  Tim Hortons bagels and coffee are available for commuter students  in the Commuter Lounge/ Wade Center.  CANS and Tim Hortons sponsor this  monthly  event .
URL:https://umaine.edu/cntsp/event/first-friday-bagels-6/2017-02-16/
LOCATION:Commuter Lounge / Wade Center\, Memorial Union \, Orono
GEO:44.8831125;-68.6719411
X-APPLE-STRUCTURED-LOCATION;VALUE=URI;X-ADDRESS=Commuter Lounge / Wade Center Memorial Union  Orono;X-APPLE-RADIUS=500;X-TITLE=Memorial Union:geo:-68.6719411,44.8831125
END:VEVENT
BEGIN:VEVENT
DTSTART;TZID=America/New_York:20170217T080000
DTEND;TZID=America/New_York:20170217T110000
DTSTAMP:20260421T142401
CREATED:20160909T195852Z
LAST-MODIFIED:20160909T195852Z
UID:10003045-1487318400-1487329200@umaine.edu
SUMMARY:First Friday Bagels
DESCRIPTION:Every First Friday of the month ( when classes are in session )  Tim Hortons bagels and coffee are available for commuter students  in the Commuter Lounge/ Wade Center.  CANS and Tim Hortons sponsor this  monthly  event .
URL:https://umaine.edu/cntsp/event/first-friday-bagels-6/2017-02-17/
LOCATION:Commuter Lounge / Wade Center\, Memorial Union \, Orono
GEO:44.8831125;-68.6719411
X-APPLE-STRUCTURED-LOCATION;VALUE=URI;X-ADDRESS=Commuter Lounge / Wade Center Memorial Union  Orono;X-APPLE-RADIUS=500;X-TITLE=Memorial Union:geo:-68.6719411,44.8831125
END:VEVENT
BEGIN:VEVENT
DTSTART;TZID=America/New_York:20170218T080000
DTEND;TZID=America/New_York:20170218T110000
DTSTAMP:20260421T142401
CREATED:20160909T195852Z
LAST-MODIFIED:20160909T195852Z
UID:10003046-1487404800-1487415600@umaine.edu
SUMMARY:First Friday Bagels
DESCRIPTION:Every First Friday of the month ( when classes are in session )  Tim Hortons bagels and coffee are available for commuter students  in the Commuter Lounge/ Wade Center.  CANS and Tim Hortons sponsor this  monthly  event .
URL:https://umaine.edu/cntsp/event/first-friday-bagels-6/2017-02-18/
LOCATION:Commuter Lounge / Wade Center\, Memorial Union \, Orono
GEO:44.8831125;-68.6719411
X-APPLE-STRUCTURED-LOCATION;VALUE=URI;X-ADDRESS=Commuter Lounge / Wade Center Memorial Union  Orono;X-APPLE-RADIUS=500;X-TITLE=Memorial Union:geo:-68.6719411,44.8831125
END:VEVENT
BEGIN:VEVENT
DTSTART;TZID=America/New_York:20170219T080000
DTEND;TZID=America/New_York:20170219T110000
DTSTAMP:20260421T142401
CREATED:20160909T195852Z
LAST-MODIFIED:20160909T195852Z
UID:10003047-1487491200-1487502000@umaine.edu
SUMMARY:First Friday Bagels
DESCRIPTION:Every First Friday of the month ( when classes are in session )  Tim Hortons bagels and coffee are available for commuter students  in the Commuter Lounge/ Wade Center.  CANS and Tim Hortons sponsor this  monthly  event .
URL:https://umaine.edu/cntsp/event/first-friday-bagels-6/2017-02-19/
LOCATION:Commuter Lounge / Wade Center\, Memorial Union \, Orono
GEO:44.8831125;-68.6719411
X-APPLE-STRUCTURED-LOCATION;VALUE=URI;X-ADDRESS=Commuter Lounge / Wade Center Memorial Union  Orono;X-APPLE-RADIUS=500;X-TITLE=Memorial Union:geo:-68.6719411,44.8831125
END:VEVENT
BEGIN:VEVENT
DTSTART;TZID=America/New_York:20170220T080000
DTEND;TZID=America/New_York:20170220T110000
DTSTAMP:20260421T142401
CREATED:20160909T195852Z
LAST-MODIFIED:20160909T195852Z
UID:10003048-1487577600-1487588400@umaine.edu
SUMMARY:First Friday Bagels
DESCRIPTION:Every First Friday of the month ( when classes are in session )  Tim Hortons bagels and coffee are available for commuter students  in the Commuter Lounge/ Wade Center.  CANS and Tim Hortons sponsor this  monthly  event .
URL:https://umaine.edu/cntsp/event/first-friday-bagels-6/2017-02-20/
LOCATION:Commuter Lounge / Wade Center\, Memorial Union \, Orono
GEO:44.8831125;-68.6719411
X-APPLE-STRUCTURED-LOCATION;VALUE=URI;X-ADDRESS=Commuter Lounge / Wade Center Memorial Union  Orono;X-APPLE-RADIUS=500;X-TITLE=Memorial Union:geo:-68.6719411,44.8831125
END:VEVENT
BEGIN:VEVENT
DTSTART;TZID=America/New_York:20170221T080000
DTEND;TZID=America/New_York:20170221T110000
DTSTAMP:20260421T142401
CREATED:20160909T195852Z
LAST-MODIFIED:20160909T195852Z
UID:10003049-1487664000-1487674800@umaine.edu
SUMMARY:First Friday Bagels
DESCRIPTION:Every First Friday of the month ( when classes are in session )  Tim Hortons bagels and coffee are available for commuter students  in the Commuter Lounge/ Wade Center.  CANS and Tim Hortons sponsor this  monthly  event .
URL:https://umaine.edu/cntsp/event/first-friday-bagels-6/2017-02-21/
LOCATION:Commuter Lounge / Wade Center\, Memorial Union \, Orono
GEO:44.8831125;-68.6719411
X-APPLE-STRUCTURED-LOCATION;VALUE=URI;X-ADDRESS=Commuter Lounge / Wade Center Memorial Union  Orono;X-APPLE-RADIUS=500;X-TITLE=Memorial Union:geo:-68.6719411,44.8831125
END:VEVENT
BEGIN:VEVENT
DTSTART;TZID=America/New_York:20170222T080000
DTEND;TZID=America/New_York:20170222T110000
DTSTAMP:20260421T142401
CREATED:20160909T195852Z
LAST-MODIFIED:20160909T195852Z
UID:10003050-1487750400-1487761200@umaine.edu
SUMMARY:First Friday Bagels
DESCRIPTION:Every First Friday of the month ( when classes are in session )  Tim Hortons bagels and coffee are available for commuter students  in the Commuter Lounge/ Wade Center.  CANS and Tim Hortons sponsor this  monthly  event .
URL:https://umaine.edu/cntsp/event/first-friday-bagels-6/2017-02-22/
LOCATION:Commuter Lounge / Wade Center\, Memorial Union \, Orono
GEO:44.8831125;-68.6719411
X-APPLE-STRUCTURED-LOCATION;VALUE=URI;X-ADDRESS=Commuter Lounge / Wade Center Memorial Union  Orono;X-APPLE-RADIUS=500;X-TITLE=Memorial Union:geo:-68.6719411,44.8831125
END:VEVENT
BEGIN:VEVENT
DTSTART;TZID=America/New_York:20170222T140000
DTEND;TZID=America/New_York:20170222T150000
DTSTAMP:20260421T142401
CREATED:20160909T202149Z
LAST-MODIFIED:20160909T202149Z
UID:10002874-1487772000-1487775600@umaine.edu
SUMMARY:Whats on Wednesday
DESCRIPTION:Every week on Wednesday\, CNTSP invites a campus resource to visit the Commuter Lounge in the Wade Center and talk with students about what that department or program has to offer.  Resources include the Parking office\, Study Abroad\, and many others.  Call CNTSP to find out who is the guest this week . This is a casual conversation with plenty of time for questions. Light refreshments are  served.
URL:https://umaine.edu/cntsp/event/whats-on-wednesday/2017-02-22/
LOCATION:Commuter Lounge / Wade Center\, Memorial Union \, Orono
GEO:44.8831125;-68.6719411
X-APPLE-STRUCTURED-LOCATION;VALUE=URI;X-ADDRESS=Commuter Lounge / Wade Center Memorial Union  Orono;X-APPLE-RADIUS=500;X-TITLE=Memorial Union:geo:-68.6719411,44.8831125
END:VEVENT
BEGIN:VEVENT
DTSTART;TZID=America/New_York:20170223T080000
DTEND;TZID=America/New_York:20170223T110000
DTSTAMP:20260421T142401
CREATED:20160909T195852Z
LAST-MODIFIED:20160909T195852Z
UID:10003051-1487836800-1487847600@umaine.edu
SUMMARY:First Friday Bagels
DESCRIPTION:Every First Friday of the month ( when classes are in session )  Tim Hortons bagels and coffee are available for commuter students  in the Commuter Lounge/ Wade Center.  CANS and Tim Hortons sponsor this  monthly  event .
URL:https://umaine.edu/cntsp/event/first-friday-bagels-6/2017-02-23/
LOCATION:Commuter Lounge / Wade Center\, Memorial Union \, Orono
GEO:44.8831125;-68.6719411
X-APPLE-STRUCTURED-LOCATION;VALUE=URI;X-ADDRESS=Commuter Lounge / Wade Center Memorial Union  Orono;X-APPLE-RADIUS=500;X-TITLE=Memorial Union:geo:-68.6719411,44.8831125
END:VEVENT
BEGIN:VEVENT
DTSTART;TZID=America/New_York:20170224T080000
DTEND;TZID=America/New_York:20170224T110000
DTSTAMP:20260421T142401
CREATED:20160909T195852Z
LAST-MODIFIED:20160909T195852Z
UID:10003052-1487923200-1487934000@umaine.edu
SUMMARY:First Friday Bagels
DESCRIPTION:Every First Friday of the month ( when classes are in session )  Tim Hortons bagels and coffee are available for commuter students  in the Commuter Lounge/ Wade Center.  CANS and Tim Hortons sponsor this  monthly  event .
URL:https://umaine.edu/cntsp/event/first-friday-bagels-6/2017-02-24/
LOCATION:Commuter Lounge / Wade Center\, Memorial Union \, Orono
GEO:44.8831125;-68.6719411
X-APPLE-STRUCTURED-LOCATION;VALUE=URI;X-ADDRESS=Commuter Lounge / Wade Center Memorial Union  Orono;X-APPLE-RADIUS=500;X-TITLE=Memorial Union:geo:-68.6719411,44.8831125
END:VEVENT
BEGIN:VEVENT
DTSTART;TZID=America/New_York:20170224T080000
DTEND;TZID=America/New_York:20170224T160000
DTSTAMP:20260421T142401
CREATED:20170203T140658Z
LAST-MODIFIED:20170203T140658Z
UID:10005614-1487923200-1487952000@umaine.edu
SUMMARY:Non Trad Scholarship Applications Due
DESCRIPTION:The Non traditional Student Scholarship ( from Senior Alumni \, formerly the Taverner Scholarship)  must be submitted to CNTSP staff in the Commuter Lounge by Feb 24\, 2017\, 4PM .  Applications forms are available at the CNTSP desk .
URL:https://umaine.edu/cntsp/event/non-trad-scholarship-applications-due/
LOCATION:Commuter Lounge / Wade Center\, Memorial Union \, Orono
GEO:44.8831125;-68.6719411
X-APPLE-STRUCTURED-LOCATION;VALUE=URI;X-ADDRESS=Commuter Lounge / Wade Center Memorial Union  Orono;X-APPLE-RADIUS=500;X-TITLE=Memorial Union:geo:-68.6719411,44.8831125
END:VEVENT
BEGIN:VEVENT
DTSTART;TZID=America/New_York:20170225T080000
DTEND;TZID=America/New_York:20170225T110000
DTSTAMP:20260421T142401
CREATED:20160909T195852Z
LAST-MODIFIED:20160909T195852Z
UID:10003053-1488009600-1488020400@umaine.edu
SUMMARY:First Friday Bagels
DESCRIPTION:Every First Friday of the month ( when classes are in session )  Tim Hortons bagels and coffee are available for commuter students  in the Commuter Lounge/ Wade Center.  CANS and Tim Hortons sponsor this  monthly  event .
URL:https://umaine.edu/cntsp/event/first-friday-bagels-6/2017-02-25/
LOCATION:Commuter Lounge / Wade Center\, Memorial Union \, Orono
GEO:44.8831125;-68.6719411
X-APPLE-STRUCTURED-LOCATION;VALUE=URI;X-ADDRESS=Commuter Lounge / Wade Center Memorial Union  Orono;X-APPLE-RADIUS=500;X-TITLE=Memorial Union:geo:-68.6719411,44.8831125
END:VEVENT
BEGIN:VEVENT
DTSTART;TZID=America/New_York:20170226T080000
DTEND;TZID=America/New_York:20170226T110000
DTSTAMP:20260421T142401
CREATED:20160909T195852Z
LAST-MODIFIED:20160909T195852Z
UID:10003054-1488096000-1488106800@umaine.edu
SUMMARY:First Friday Bagels
DESCRIPTION:Every First Friday of the month ( when classes are in session )  Tim Hortons bagels and coffee are available for commuter students  in the Commuter Lounge/ Wade Center.  CANS and Tim Hortons sponsor this  monthly  event .
URL:https://umaine.edu/cntsp/event/first-friday-bagels-6/2017-02-26/
LOCATION:Commuter Lounge / Wade Center\, Memorial Union \, Orono
GEO:44.8831125;-68.6719411
X-APPLE-STRUCTURED-LOCATION;VALUE=URI;X-ADDRESS=Commuter Lounge / Wade Center Memorial Union  Orono;X-APPLE-RADIUS=500;X-TITLE=Memorial Union:geo:-68.6719411,44.8831125
END:VEVENT
BEGIN:VEVENT
DTSTART;TZID=America/New_York:20170227T080000
DTEND;TZID=America/New_York:20170227T110000
DTSTAMP:20260421T142401
CREATED:20160909T195852Z
LAST-MODIFIED:20160909T195852Z
UID:10003055-1488182400-1488193200@umaine.edu
SUMMARY:First Friday Bagels
DESCRIPTION:Every First Friday of the month ( when classes are in session )  Tim Hortons bagels and coffee are available for commuter students  in the Commuter Lounge/ Wade Center.  CANS and Tim Hortons sponsor this  monthly  event .
URL:https://umaine.edu/cntsp/event/first-friday-bagels-6/2017-02-27/
LOCATION:Commuter Lounge / Wade Center\, Memorial Union \, Orono
GEO:44.8831125;-68.6719411
X-APPLE-STRUCTURED-LOCATION;VALUE=URI;X-ADDRESS=Commuter Lounge / Wade Center Memorial Union  Orono;X-APPLE-RADIUS=500;X-TITLE=Memorial Union:geo:-68.6719411,44.8831125
END:VEVENT
BEGIN:VEVENT
DTSTART;TZID=America/New_York:20170228T080000
DTEND;TZID=America/New_York:20170228T110000
DTSTAMP:20260421T142401
CREATED:20160909T195852Z
LAST-MODIFIED:20160909T195852Z
UID:10003056-1488268800-1488279600@umaine.edu
SUMMARY:First Friday Bagels
DESCRIPTION:Every First Friday of the month ( when classes are in session )  Tim Hortons bagels and coffee are available for commuter students  in the Commuter Lounge/ Wade Center.  CANS and Tim Hortons sponsor this  monthly  event .
URL:https://umaine.edu/cntsp/event/first-friday-bagels-6/2017-02-28/
LOCATION:Commuter Lounge / Wade Center\, Memorial Union \, Orono
GEO:44.8831125;-68.6719411
X-APPLE-STRUCTURED-LOCATION;VALUE=URI;X-ADDRESS=Commuter Lounge / Wade Center Memorial Union  Orono;X-APPLE-RADIUS=500;X-TITLE=Memorial Union:geo:-68.6719411,44.8831125
END:VEVENT
BEGIN:VEVENT
DTSTART;TZID=America/New_York:20170301T080000
DTEND;TZID=America/New_York:20170301T110000
DTSTAMP:20260421T142401
CREATED:20160909T195852Z
LAST-MODIFIED:20160909T195852Z
UID:10003057-1488355200-1488366000@umaine.edu
SUMMARY:First Friday Bagels
DESCRIPTION:Every First Friday of the month ( when classes are in session )  Tim Hortons bagels and coffee are available for commuter students  in the Commuter Lounge/ Wade Center.  CANS and Tim Hortons sponsor this  monthly  event .
URL:https://umaine.edu/cntsp/event/first-friday-bagels-6/2017-03-01/
LOCATION:Commuter Lounge / Wade Center\, Memorial Union \, Orono
GEO:44.8831125;-68.6719411
X-APPLE-STRUCTURED-LOCATION;VALUE=URI;X-ADDRESS=Commuter Lounge / Wade Center Memorial Union  Orono;X-APPLE-RADIUS=500;X-TITLE=Memorial Union:geo:-68.6719411,44.8831125
END:VEVENT
BEGIN:VEVENT
DTSTART;TZID=America/New_York:20170301T140000
DTEND;TZID=America/New_York:20170301T150000
DTSTAMP:20260421T142401
CREATED:20160909T202149Z
LAST-MODIFIED:20160909T202149Z
UID:10002875-1488376800-1488380400@umaine.edu
SUMMARY:Whats on Wednesday
DESCRIPTION:Every week on Wednesday\, CNTSP invites a campus resource to visit the Commuter Lounge in the Wade Center and talk with students about what that department or program has to offer.  Resources include the Parking office\, Study Abroad\, and many others.  Call CNTSP to find out who is the guest this week . This is a casual conversation with plenty of time for questions. Light refreshments are  served.
URL:https://umaine.edu/cntsp/event/whats-on-wednesday/2017-03-01/
LOCATION:Commuter Lounge / Wade Center\, Memorial Union \, Orono
GEO:44.8831125;-68.6719411
X-APPLE-STRUCTURED-LOCATION;VALUE=URI;X-ADDRESS=Commuter Lounge / Wade Center Memorial Union  Orono;X-APPLE-RADIUS=500;X-TITLE=Memorial Union:geo:-68.6719411,44.8831125
END:VEVENT
BEGIN:VEVENT
DTSTART;TZID=America/New_York:20170302T080000
DTEND;TZID=America/New_York:20170302T110000
DTSTAMP:20260421T142401
CREATED:20160909T195852Z
LAST-MODIFIED:20160909T195852Z
UID:10003058-1488441600-1488452400@umaine.edu
SUMMARY:First Friday Bagels
DESCRIPTION:Every First Friday of the month ( when classes are in session )  Tim Hortons bagels and coffee are available for commuter students  in the Commuter Lounge/ Wade Center.  CANS and Tim Hortons sponsor this  monthly  event .
URL:https://umaine.edu/cntsp/event/first-friday-bagels-6/2017-03-02/
LOCATION:Commuter Lounge / Wade Center\, Memorial Union \, Orono
GEO:44.8831125;-68.6719411
X-APPLE-STRUCTURED-LOCATION;VALUE=URI;X-ADDRESS=Commuter Lounge / Wade Center Memorial Union  Orono;X-APPLE-RADIUS=500;X-TITLE=Memorial Union:geo:-68.6719411,44.8831125
END:VEVENT
BEGIN:VEVENT
DTSTART;TZID=America/New_York:20170303T080000
DTEND;TZID=America/New_York:20170303T100000
DTSTAMP:20260421T142401
CREATED:20170203T135624Z
LAST-MODIFIED:20170203T135624Z
UID:10005612-1488528000-1488535200@umaine.edu
SUMMARY:First Friday Bagels
DESCRIPTION:Free bagels and coffee are available to commuter students starting at 8 AM until they are gone . This event is sponsored by CANS the representative board of Student Government and donations for Tim Hortons
URL:https://umaine.edu/cntsp/event/first-friday-bagels-7/
LOCATION:Commuter Lounge / Wade Center\, Memorial Union \, Orono
GEO:44.8831125;-68.6719411
X-APPLE-STRUCTURED-LOCATION;VALUE=URI;X-ADDRESS=Commuter Lounge / Wade Center Memorial Union  Orono;X-APPLE-RADIUS=500;X-TITLE=Memorial Union:geo:-68.6719411,44.8831125
END:VEVENT
BEGIN:VEVENT
DTSTART;TZID=America/New_York:20170303T080000
DTEND;TZID=America/New_York:20170303T110000
DTSTAMP:20260421T142401
CREATED:20160909T195852Z
LAST-MODIFIED:20160909T195852Z
UID:10003059-1488528000-1488538800@umaine.edu
SUMMARY:First Friday Bagels
DESCRIPTION:Every First Friday of the month ( when classes are in session )  Tim Hortons bagels and coffee are available for commuter students  in the Commuter Lounge/ Wade Center.  CANS and Tim Hortons sponsor this  monthly  event .
URL:https://umaine.edu/cntsp/event/first-friday-bagels-6/2017-03-03/
LOCATION:Commuter Lounge / Wade Center\, Memorial Union \, Orono
GEO:44.8831125;-68.6719411
X-APPLE-STRUCTURED-LOCATION;VALUE=URI;X-ADDRESS=Commuter Lounge / Wade Center Memorial Union  Orono;X-APPLE-RADIUS=500;X-TITLE=Memorial Union:geo:-68.6719411,44.8831125
END:VEVENT
BEGIN:VEVENT
DTSTART;TZID=America/New_York:20170303T170000
DTEND;TZID=America/New_York:20170320T080000
DTSTAMP:20260421T142401
CREATED:20170203T140226Z
LAST-MODIFIED:20170203T140226Z
UID:10005613-1488560400-1489996800@umaine.edu
SUMMARY:Spring Break No CNTSP programs &staff
DESCRIPTION:The Commuter Lounge is open and available to students over the Spring break but there will be no programs \, staff or coffee/ tea services .
URL:https://umaine.edu/cntsp/event/spring-break-no-cntsp-programs-staff/
END:VEVENT
BEGIN:VEVENT
DTSTART;TZID=America/New_York:20170304T080000
DTEND;TZID=America/New_York:20170304T110000
DTSTAMP:20260421T142401
CREATED:20160909T195852Z
LAST-MODIFIED:20160909T195852Z
UID:10003060-1488614400-1488625200@umaine.edu
SUMMARY:First Friday Bagels
DESCRIPTION:Every First Friday of the month ( when classes are in session )  Tim Hortons bagels and coffee are available for commuter students  in the Commuter Lounge/ Wade Center.  CANS and Tim Hortons sponsor this  monthly  event .
URL:https://umaine.edu/cntsp/event/first-friday-bagels-6/2017-03-04/
LOCATION:Commuter Lounge / Wade Center\, Memorial Union \, Orono
GEO:44.8831125;-68.6719411
X-APPLE-STRUCTURED-LOCATION;VALUE=URI;X-ADDRESS=Commuter Lounge / Wade Center Memorial Union  Orono;X-APPLE-RADIUS=500;X-TITLE=Memorial Union:geo:-68.6719411,44.8831125
END:VEVENT
BEGIN:VEVENT
DTSTART;TZID=America/New_York:20170305T080000
DTEND;TZID=America/New_York:20170305T110000
DTSTAMP:20260421T142401
CREATED:20160909T195852Z
LAST-MODIFIED:20160909T195852Z
UID:10003061-1488700800-1488711600@umaine.edu
SUMMARY:First Friday Bagels
DESCRIPTION:Every First Friday of the month ( when classes are in session )  Tim Hortons bagels and coffee are available for commuter students  in the Commuter Lounge/ Wade Center.  CANS and Tim Hortons sponsor this  monthly  event .
URL:https://umaine.edu/cntsp/event/first-friday-bagels-6/2017-03-05/
LOCATION:Commuter Lounge / Wade Center\, Memorial Union \, Orono
GEO:44.8831125;-68.6719411
X-APPLE-STRUCTURED-LOCATION;VALUE=URI;X-ADDRESS=Commuter Lounge / Wade Center Memorial Union  Orono;X-APPLE-RADIUS=500;X-TITLE=Memorial Union:geo:-68.6719411,44.8831125
END:VEVENT
END:VCALENDAR