BEGIN:VCALENDAR
VERSION:2.0
PRODID:-//Commuter &amp; Non-Traditional Student Programs - ECPv6.15.17.1//NONSGML v1.0//EN
CALSCALE:GREGORIAN
METHOD:PUBLISH
X-WR-CALNAME:Commuter &amp; Non-Traditional Student Programs
X-ORIGINAL-URL:https://umaine.edu/cntsp
X-WR-CALDESC:Events for Commuter &amp; Non-Traditional Student Programs
REFRESH-INTERVAL;VALUE=DURATION:PT1H
X-Robots-Tag:noindex
X-PUBLISHED-TTL:PT1H
BEGIN:VTIMEZONE
TZID:America/New_York
BEGIN:DAYLIGHT
TZOFFSETFROM:-0500
TZOFFSETTO:-0400
TZNAME:EDT
DTSTART:20220313T070000
END:DAYLIGHT
BEGIN:STANDARD
TZOFFSETFROM:-0400
TZOFFSETTO:-0500
TZNAME:EST
DTSTART:20221106T060000
END:STANDARD
BEGIN:DAYLIGHT
TZOFFSETFROM:-0500
TZOFFSETTO:-0400
TZNAME:EDT
DTSTART:20230312T070000
END:DAYLIGHT
BEGIN:STANDARD
TZOFFSETFROM:-0400
TZOFFSETTO:-0500
TZNAME:EST
DTSTART:20231105T060000
END:STANDARD
BEGIN:DAYLIGHT
TZOFFSETFROM:-0500
TZOFFSETTO:-0400
TZNAME:EDT
DTSTART:20240310T070000
END:DAYLIGHT
BEGIN:STANDARD
TZOFFSETFROM:-0400
TZOFFSETTO:-0500
TZNAME:EST
DTSTART:20241103T060000
END:STANDARD
END:VTIMEZONE
BEGIN:VEVENT
DTSTART;TZID=America/New_York:20230831T080000
DTEND;TZID=America/New_York:20230831T110000
DTSTAMP:20260421T143516
CREATED:20160909T195852Z
LAST-MODIFIED:20160909T195852Z
UID:10005431-1693468800-1693479600@umaine.edu
SUMMARY:First Friday Bagels
DESCRIPTION:Every First Friday of the month ( when classes are in session )  Tim Hortons bagels and coffee are available for commuter students  in the Commuter Lounge/ Wade Center.  CANS and Tim Hortons sponsor this  monthly  event .
URL:https://umaine.edu/cntsp/event/first-friday-bagels-6/2023-08-31/
LOCATION:Commuter Lounge / Wade Center\, Memorial Union \, Orono
GEO:44.8831125;-68.6719411
X-APPLE-STRUCTURED-LOCATION;VALUE=URI;X-ADDRESS=Commuter Lounge / Wade Center Memorial Union  Orono;X-APPLE-RADIUS=500;X-TITLE=Memorial Union:geo:-68.6719411,44.8831125
END:VEVENT
BEGIN:VEVENT
DTSTART;TZID=America/New_York:20230830T080000
DTEND;TZID=America/New_York:20230830T110000
DTSTAMP:20260421T143516
CREATED:20160909T195852Z
LAST-MODIFIED:20160909T195852Z
UID:10005430-1693382400-1693393200@umaine.edu
SUMMARY:First Friday Bagels
DESCRIPTION:Every First Friday of the month ( when classes are in session )  Tim Hortons bagels and coffee are available for commuter students  in the Commuter Lounge/ Wade Center.  CANS and Tim Hortons sponsor this  monthly  event .
URL:https://umaine.edu/cntsp/event/first-friday-bagels-6/2023-08-30/
LOCATION:Commuter Lounge / Wade Center\, Memorial Union \, Orono
GEO:44.8831125;-68.6719411
X-APPLE-STRUCTURED-LOCATION;VALUE=URI;X-ADDRESS=Commuter Lounge / Wade Center Memorial Union  Orono;X-APPLE-RADIUS=500;X-TITLE=Memorial Union:geo:-68.6719411,44.8831125
END:VEVENT
BEGIN:VEVENT
DTSTART;TZID=America/New_York:20230829T080000
DTEND;TZID=America/New_York:20230829T110000
DTSTAMP:20260421T143516
CREATED:20160909T195852Z
LAST-MODIFIED:20160909T195852Z
UID:10005429-1693296000-1693306800@umaine.edu
SUMMARY:First Friday Bagels
DESCRIPTION:Every First Friday of the month ( when classes are in session )  Tim Hortons bagels and coffee are available for commuter students  in the Commuter Lounge/ Wade Center.  CANS and Tim Hortons sponsor this  monthly  event .
URL:https://umaine.edu/cntsp/event/first-friday-bagels-6/2023-08-29/
LOCATION:Commuter Lounge / Wade Center\, Memorial Union \, Orono
GEO:44.8831125;-68.6719411
X-APPLE-STRUCTURED-LOCATION;VALUE=URI;X-ADDRESS=Commuter Lounge / Wade Center Memorial Union  Orono;X-APPLE-RADIUS=500;X-TITLE=Memorial Union:geo:-68.6719411,44.8831125
END:VEVENT
BEGIN:VEVENT
DTSTART;TZID=America/New_York:20230828T080000
DTEND;TZID=America/New_York:20230828T110000
DTSTAMP:20260421T143516
CREATED:20160909T195852Z
LAST-MODIFIED:20160909T195852Z
UID:10005428-1693209600-1693220400@umaine.edu
SUMMARY:First Friday Bagels
DESCRIPTION:Every First Friday of the month ( when classes are in session )  Tim Hortons bagels and coffee are available for commuter students  in the Commuter Lounge/ Wade Center.  CANS and Tim Hortons sponsor this  monthly  event .
URL:https://umaine.edu/cntsp/event/first-friday-bagels-6/2023-08-28/
LOCATION:Commuter Lounge / Wade Center\, Memorial Union \, Orono
GEO:44.8831125;-68.6719411
X-APPLE-STRUCTURED-LOCATION;VALUE=URI;X-ADDRESS=Commuter Lounge / Wade Center Memorial Union  Orono;X-APPLE-RADIUS=500;X-TITLE=Memorial Union:geo:-68.6719411,44.8831125
END:VEVENT
BEGIN:VEVENT
DTSTART;TZID=America/New_York:20230827T080000
DTEND;TZID=America/New_York:20230827T110000
DTSTAMP:20260421T143516
CREATED:20160909T195852Z
LAST-MODIFIED:20160909T195852Z
UID:10005427-1693123200-1693134000@umaine.edu
SUMMARY:First Friday Bagels
DESCRIPTION:Every First Friday of the month ( when classes are in session )  Tim Hortons bagels and coffee are available for commuter students  in the Commuter Lounge/ Wade Center.  CANS and Tim Hortons sponsor this  monthly  event .
URL:https://umaine.edu/cntsp/event/first-friday-bagels-6/2023-08-27/
LOCATION:Commuter Lounge / Wade Center\, Memorial Union \, Orono
GEO:44.8831125;-68.6719411
X-APPLE-STRUCTURED-LOCATION;VALUE=URI;X-ADDRESS=Commuter Lounge / Wade Center Memorial Union  Orono;X-APPLE-RADIUS=500;X-TITLE=Memorial Union:geo:-68.6719411,44.8831125
END:VEVENT
BEGIN:VEVENT
DTSTART;TZID=America/New_York:20230826T080000
DTEND;TZID=America/New_York:20230826T110000
DTSTAMP:20260421T143516
CREATED:20160909T195852Z
LAST-MODIFIED:20160909T195852Z
UID:10005426-1693036800-1693047600@umaine.edu
SUMMARY:First Friday Bagels
DESCRIPTION:Every First Friday of the month ( when classes are in session )  Tim Hortons bagels and coffee are available for commuter students  in the Commuter Lounge/ Wade Center.  CANS and Tim Hortons sponsor this  monthly  event .
URL:https://umaine.edu/cntsp/event/first-friday-bagels-6/2023-08-26/
LOCATION:Commuter Lounge / Wade Center\, Memorial Union \, Orono
GEO:44.8831125;-68.6719411
X-APPLE-STRUCTURED-LOCATION;VALUE=URI;X-ADDRESS=Commuter Lounge / Wade Center Memorial Union  Orono;X-APPLE-RADIUS=500;X-TITLE=Memorial Union:geo:-68.6719411,44.8831125
END:VEVENT
BEGIN:VEVENT
DTSTART;TZID=America/New_York:20230825T080000
DTEND;TZID=America/New_York:20230825T110000
DTSTAMP:20260421T143516
CREATED:20160909T195852Z
LAST-MODIFIED:20160909T195852Z
UID:10005425-1692950400-1692961200@umaine.edu
SUMMARY:First Friday Bagels
DESCRIPTION:Every First Friday of the month ( when classes are in session )  Tim Hortons bagels and coffee are available for commuter students  in the Commuter Lounge/ Wade Center.  CANS and Tim Hortons sponsor this  monthly  event .
URL:https://umaine.edu/cntsp/event/first-friday-bagels-6/2023-08-25/
LOCATION:Commuter Lounge / Wade Center\, Memorial Union \, Orono
GEO:44.8831125;-68.6719411
X-APPLE-STRUCTURED-LOCATION;VALUE=URI;X-ADDRESS=Commuter Lounge / Wade Center Memorial Union  Orono;X-APPLE-RADIUS=500;X-TITLE=Memorial Union:geo:-68.6719411,44.8831125
END:VEVENT
BEGIN:VEVENT
DTSTART;TZID=America/New_York:20230824T080000
DTEND;TZID=America/New_York:20230824T110000
DTSTAMP:20260421T143516
CREATED:20160909T195852Z
LAST-MODIFIED:20160909T195852Z
UID:10005424-1692864000-1692874800@umaine.edu
SUMMARY:First Friday Bagels
DESCRIPTION:Every First Friday of the month ( when classes are in session )  Tim Hortons bagels and coffee are available for commuter students  in the Commuter Lounge/ Wade Center.  CANS and Tim Hortons sponsor this  monthly  event .
URL:https://umaine.edu/cntsp/event/first-friday-bagels-6/2023-08-24/
LOCATION:Commuter Lounge / Wade Center\, Memorial Union \, Orono
GEO:44.8831125;-68.6719411
X-APPLE-STRUCTURED-LOCATION;VALUE=URI;X-ADDRESS=Commuter Lounge / Wade Center Memorial Union  Orono;X-APPLE-RADIUS=500;X-TITLE=Memorial Union:geo:-68.6719411,44.8831125
END:VEVENT
BEGIN:VEVENT
DTSTART;TZID=America/New_York:20230823T080000
DTEND;TZID=America/New_York:20230823T110000
DTSTAMP:20260421T143516
CREATED:20160909T195852Z
LAST-MODIFIED:20160909T195852Z
UID:10005423-1692777600-1692788400@umaine.edu
SUMMARY:First Friday Bagels
DESCRIPTION:Every First Friday of the month ( when classes are in session )  Tim Hortons bagels and coffee are available for commuter students  in the Commuter Lounge/ Wade Center.  CANS and Tim Hortons sponsor this  monthly  event .
URL:https://umaine.edu/cntsp/event/first-friday-bagels-6/2023-08-23/
LOCATION:Commuter Lounge / Wade Center\, Memorial Union \, Orono
GEO:44.8831125;-68.6719411
X-APPLE-STRUCTURED-LOCATION;VALUE=URI;X-ADDRESS=Commuter Lounge / Wade Center Memorial Union  Orono;X-APPLE-RADIUS=500;X-TITLE=Memorial Union:geo:-68.6719411,44.8831125
END:VEVENT
BEGIN:VEVENT
DTSTART;TZID=America/New_York:20230822T080000
DTEND;TZID=America/New_York:20230822T110000
DTSTAMP:20260421T143516
CREATED:20160909T195852Z
LAST-MODIFIED:20160909T195852Z
UID:10005422-1692691200-1692702000@umaine.edu
SUMMARY:First Friday Bagels
DESCRIPTION:Every First Friday of the month ( when classes are in session )  Tim Hortons bagels and coffee are available for commuter students  in the Commuter Lounge/ Wade Center.  CANS and Tim Hortons sponsor this  monthly  event .
URL:https://umaine.edu/cntsp/event/first-friday-bagels-6/2023-08-22/
LOCATION:Commuter Lounge / Wade Center\, Memorial Union \, Orono
GEO:44.8831125;-68.6719411
X-APPLE-STRUCTURED-LOCATION;VALUE=URI;X-ADDRESS=Commuter Lounge / Wade Center Memorial Union  Orono;X-APPLE-RADIUS=500;X-TITLE=Memorial Union:geo:-68.6719411,44.8831125
END:VEVENT
BEGIN:VEVENT
DTSTART;TZID=America/New_York:20230821T080000
DTEND;TZID=America/New_York:20230821T110000
DTSTAMP:20260421T143516
CREATED:20160909T195852Z
LAST-MODIFIED:20160909T195852Z
UID:10005421-1692604800-1692615600@umaine.edu
SUMMARY:First Friday Bagels
DESCRIPTION:Every First Friday of the month ( when classes are in session )  Tim Hortons bagels and coffee are available for commuter students  in the Commuter Lounge/ Wade Center.  CANS and Tim Hortons sponsor this  monthly  event .
URL:https://umaine.edu/cntsp/event/first-friday-bagels-6/2023-08-21/
LOCATION:Commuter Lounge / Wade Center\, Memorial Union \, Orono
GEO:44.8831125;-68.6719411
X-APPLE-STRUCTURED-LOCATION;VALUE=URI;X-ADDRESS=Commuter Lounge / Wade Center Memorial Union  Orono;X-APPLE-RADIUS=500;X-TITLE=Memorial Union:geo:-68.6719411,44.8831125
END:VEVENT
BEGIN:VEVENT
DTSTART;TZID=America/New_York:20230820T080000
DTEND;TZID=America/New_York:20230820T110000
DTSTAMP:20260421T143516
CREATED:20160909T195852Z
LAST-MODIFIED:20160909T195852Z
UID:10005420-1692518400-1692529200@umaine.edu
SUMMARY:First Friday Bagels
DESCRIPTION:Every First Friday of the month ( when classes are in session )  Tim Hortons bagels and coffee are available for commuter students  in the Commuter Lounge/ Wade Center.  CANS and Tim Hortons sponsor this  monthly  event .
URL:https://umaine.edu/cntsp/event/first-friday-bagels-6/2023-08-20/
LOCATION:Commuter Lounge / Wade Center\, Memorial Union \, Orono
GEO:44.8831125;-68.6719411
X-APPLE-STRUCTURED-LOCATION;VALUE=URI;X-ADDRESS=Commuter Lounge / Wade Center Memorial Union  Orono;X-APPLE-RADIUS=500;X-TITLE=Memorial Union:geo:-68.6719411,44.8831125
END:VEVENT
BEGIN:VEVENT
DTSTART;TZID=America/New_York:20230819T080000
DTEND;TZID=America/New_York:20230819T110000
DTSTAMP:20260421T143516
CREATED:20160909T195852Z
LAST-MODIFIED:20160909T195852Z
UID:10005419-1692432000-1692442800@umaine.edu
SUMMARY:First Friday Bagels
DESCRIPTION:Every First Friday of the month ( when classes are in session )  Tim Hortons bagels and coffee are available for commuter students  in the Commuter Lounge/ Wade Center.  CANS and Tim Hortons sponsor this  monthly  event .
URL:https://umaine.edu/cntsp/event/first-friday-bagels-6/2023-08-19/
LOCATION:Commuter Lounge / Wade Center\, Memorial Union \, Orono
GEO:44.8831125;-68.6719411
X-APPLE-STRUCTURED-LOCATION;VALUE=URI;X-ADDRESS=Commuter Lounge / Wade Center Memorial Union  Orono;X-APPLE-RADIUS=500;X-TITLE=Memorial Union:geo:-68.6719411,44.8831125
END:VEVENT
BEGIN:VEVENT
DTSTART;TZID=America/New_York:20230818T080000
DTEND;TZID=America/New_York:20230818T110000
DTSTAMP:20260421T143516
CREATED:20160909T195852Z
LAST-MODIFIED:20160909T195852Z
UID:10005418-1692345600-1692356400@umaine.edu
SUMMARY:First Friday Bagels
DESCRIPTION:Every First Friday of the month ( when classes are in session )  Tim Hortons bagels and coffee are available for commuter students  in the Commuter Lounge/ Wade Center.  CANS and Tim Hortons sponsor this  monthly  event .
URL:https://umaine.edu/cntsp/event/first-friday-bagels-6/2023-08-18/
LOCATION:Commuter Lounge / Wade Center\, Memorial Union \, Orono
GEO:44.8831125;-68.6719411
X-APPLE-STRUCTURED-LOCATION;VALUE=URI;X-ADDRESS=Commuter Lounge / Wade Center Memorial Union  Orono;X-APPLE-RADIUS=500;X-TITLE=Memorial Union:geo:-68.6719411,44.8831125
END:VEVENT
BEGIN:VEVENT
DTSTART;TZID=America/New_York:20230817T080000
DTEND;TZID=America/New_York:20230817T110000
DTSTAMP:20260421T143516
CREATED:20160909T195852Z
LAST-MODIFIED:20160909T195852Z
UID:10005417-1692259200-1692270000@umaine.edu
SUMMARY:First Friday Bagels
DESCRIPTION:Every First Friday of the month ( when classes are in session )  Tim Hortons bagels and coffee are available for commuter students  in the Commuter Lounge/ Wade Center.  CANS and Tim Hortons sponsor this  monthly  event .
URL:https://umaine.edu/cntsp/event/first-friday-bagels-6/2023-08-17/
LOCATION:Commuter Lounge / Wade Center\, Memorial Union \, Orono
GEO:44.8831125;-68.6719411
X-APPLE-STRUCTURED-LOCATION;VALUE=URI;X-ADDRESS=Commuter Lounge / Wade Center Memorial Union  Orono;X-APPLE-RADIUS=500;X-TITLE=Memorial Union:geo:-68.6719411,44.8831125
END:VEVENT
BEGIN:VEVENT
DTSTART;TZID=America/New_York:20230816T080000
DTEND;TZID=America/New_York:20230816T110000
DTSTAMP:20260421T143516
CREATED:20160909T195852Z
LAST-MODIFIED:20160909T195852Z
UID:10005416-1692172800-1692183600@umaine.edu
SUMMARY:First Friday Bagels
DESCRIPTION:Every First Friday of the month ( when classes are in session )  Tim Hortons bagels and coffee are available for commuter students  in the Commuter Lounge/ Wade Center.  CANS and Tim Hortons sponsor this  monthly  event .
URL:https://umaine.edu/cntsp/event/first-friday-bagels-6/2023-08-16/
LOCATION:Commuter Lounge / Wade Center\, Memorial Union \, Orono
GEO:44.8831125;-68.6719411
X-APPLE-STRUCTURED-LOCATION;VALUE=URI;X-ADDRESS=Commuter Lounge / Wade Center Memorial Union  Orono;X-APPLE-RADIUS=500;X-TITLE=Memorial Union:geo:-68.6719411,44.8831125
END:VEVENT
BEGIN:VEVENT
DTSTART;TZID=America/New_York:20230815T080000
DTEND;TZID=America/New_York:20230815T110000
DTSTAMP:20260421T143516
CREATED:20160909T195852Z
LAST-MODIFIED:20160909T195852Z
UID:10005415-1692086400-1692097200@umaine.edu
SUMMARY:First Friday Bagels
DESCRIPTION:Every First Friday of the month ( when classes are in session )  Tim Hortons bagels and coffee are available for commuter students  in the Commuter Lounge/ Wade Center.  CANS and Tim Hortons sponsor this  monthly  event .
URL:https://umaine.edu/cntsp/event/first-friday-bagels-6/2023-08-15/
LOCATION:Commuter Lounge / Wade Center\, Memorial Union \, Orono
GEO:44.8831125;-68.6719411
X-APPLE-STRUCTURED-LOCATION;VALUE=URI;X-ADDRESS=Commuter Lounge / Wade Center Memorial Union  Orono;X-APPLE-RADIUS=500;X-TITLE=Memorial Union:geo:-68.6719411,44.8831125
END:VEVENT
BEGIN:VEVENT
DTSTART;TZID=America/New_York:20230814T080000
DTEND;TZID=America/New_York:20230814T110000
DTSTAMP:20260421T143516
CREATED:20160909T195852Z
LAST-MODIFIED:20160909T195852Z
UID:10005414-1692000000-1692010800@umaine.edu
SUMMARY:First Friday Bagels
DESCRIPTION:Every First Friday of the month ( when classes are in session )  Tim Hortons bagels and coffee are available for commuter students  in the Commuter Lounge/ Wade Center.  CANS and Tim Hortons sponsor this  monthly  event .
URL:https://umaine.edu/cntsp/event/first-friday-bagels-6/2023-08-14/
LOCATION:Commuter Lounge / Wade Center\, Memorial Union \, Orono
GEO:44.8831125;-68.6719411
X-APPLE-STRUCTURED-LOCATION;VALUE=URI;X-ADDRESS=Commuter Lounge / Wade Center Memorial Union  Orono;X-APPLE-RADIUS=500;X-TITLE=Memorial Union:geo:-68.6719411,44.8831125
END:VEVENT
BEGIN:VEVENT
DTSTART;TZID=America/New_York:20230813T080000
DTEND;TZID=America/New_York:20230813T110000
DTSTAMP:20260421T143516
CREATED:20160909T195852Z
LAST-MODIFIED:20160909T195852Z
UID:10005413-1691913600-1691924400@umaine.edu
SUMMARY:First Friday Bagels
DESCRIPTION:Every First Friday of the month ( when classes are in session )  Tim Hortons bagels and coffee are available for commuter students  in the Commuter Lounge/ Wade Center.  CANS and Tim Hortons sponsor this  monthly  event .
URL:https://umaine.edu/cntsp/event/first-friday-bagels-6/2023-08-13/
LOCATION:Commuter Lounge / Wade Center\, Memorial Union \, Orono
GEO:44.8831125;-68.6719411
X-APPLE-STRUCTURED-LOCATION;VALUE=URI;X-ADDRESS=Commuter Lounge / Wade Center Memorial Union  Orono;X-APPLE-RADIUS=500;X-TITLE=Memorial Union:geo:-68.6719411,44.8831125
END:VEVENT
BEGIN:VEVENT
DTSTART;TZID=America/New_York:20230812T080000
DTEND;TZID=America/New_York:20230812T110000
DTSTAMP:20260421T143516
CREATED:20160909T195852Z
LAST-MODIFIED:20160909T195852Z
UID:10005412-1691827200-1691838000@umaine.edu
SUMMARY:First Friday Bagels
DESCRIPTION:Every First Friday of the month ( when classes are in session )  Tim Hortons bagels and coffee are available for commuter students  in the Commuter Lounge/ Wade Center.  CANS and Tim Hortons sponsor this  monthly  event .
URL:https://umaine.edu/cntsp/event/first-friday-bagels-6/2023-08-12/
LOCATION:Commuter Lounge / Wade Center\, Memorial Union \, Orono
GEO:44.8831125;-68.6719411
X-APPLE-STRUCTURED-LOCATION;VALUE=URI;X-ADDRESS=Commuter Lounge / Wade Center Memorial Union  Orono;X-APPLE-RADIUS=500;X-TITLE=Memorial Union:geo:-68.6719411,44.8831125
END:VEVENT
BEGIN:VEVENT
DTSTART;TZID=America/New_York:20230811T080000
DTEND;TZID=America/New_York:20230811T110000
DTSTAMP:20260421T143516
CREATED:20160909T195852Z
LAST-MODIFIED:20160909T195852Z
UID:10005411-1691740800-1691751600@umaine.edu
SUMMARY:First Friday Bagels
DESCRIPTION:Every First Friday of the month ( when classes are in session )  Tim Hortons bagels and coffee are available for commuter students  in the Commuter Lounge/ Wade Center.  CANS and Tim Hortons sponsor this  monthly  event .
URL:https://umaine.edu/cntsp/event/first-friday-bagels-6/2023-08-11/
LOCATION:Commuter Lounge / Wade Center\, Memorial Union \, Orono
GEO:44.8831125;-68.6719411
X-APPLE-STRUCTURED-LOCATION;VALUE=URI;X-ADDRESS=Commuter Lounge / Wade Center Memorial Union  Orono;X-APPLE-RADIUS=500;X-TITLE=Memorial Union:geo:-68.6719411,44.8831125
END:VEVENT
BEGIN:VEVENT
DTSTART;TZID=America/New_York:20230810T080000
DTEND;TZID=America/New_York:20230810T110000
DTSTAMP:20260421T143516
CREATED:20160909T195852Z
LAST-MODIFIED:20160909T195852Z
UID:10005410-1691654400-1691665200@umaine.edu
SUMMARY:First Friday Bagels
DESCRIPTION:Every First Friday of the month ( when classes are in session )  Tim Hortons bagels and coffee are available for commuter students  in the Commuter Lounge/ Wade Center.  CANS and Tim Hortons sponsor this  monthly  event .
URL:https://umaine.edu/cntsp/event/first-friday-bagels-6/2023-08-10/
LOCATION:Commuter Lounge / Wade Center\, Memorial Union \, Orono
GEO:44.8831125;-68.6719411
X-APPLE-STRUCTURED-LOCATION;VALUE=URI;X-ADDRESS=Commuter Lounge / Wade Center Memorial Union  Orono;X-APPLE-RADIUS=500;X-TITLE=Memorial Union:geo:-68.6719411,44.8831125
END:VEVENT
BEGIN:VEVENT
DTSTART;TZID=America/New_York:20230809T080000
DTEND;TZID=America/New_York:20230809T110000
DTSTAMP:20260421T143516
CREATED:20160909T195852Z
LAST-MODIFIED:20160909T195852Z
UID:10005409-1691568000-1691578800@umaine.edu
SUMMARY:First Friday Bagels
DESCRIPTION:Every First Friday of the month ( when classes are in session )  Tim Hortons bagels and coffee are available for commuter students  in the Commuter Lounge/ Wade Center.  CANS and Tim Hortons sponsor this  monthly  event .
URL:https://umaine.edu/cntsp/event/first-friday-bagels-6/2023-08-09/
LOCATION:Commuter Lounge / Wade Center\, Memorial Union \, Orono
GEO:44.8831125;-68.6719411
X-APPLE-STRUCTURED-LOCATION;VALUE=URI;X-ADDRESS=Commuter Lounge / Wade Center Memorial Union  Orono;X-APPLE-RADIUS=500;X-TITLE=Memorial Union:geo:-68.6719411,44.8831125
END:VEVENT
BEGIN:VEVENT
DTSTART;TZID=America/New_York:20230808T080000
DTEND;TZID=America/New_York:20230808T110000
DTSTAMP:20260421T143516
CREATED:20160909T195852Z
LAST-MODIFIED:20160909T195852Z
UID:10005408-1691481600-1691492400@umaine.edu
SUMMARY:First Friday Bagels
DESCRIPTION:Every First Friday of the month ( when classes are in session )  Tim Hortons bagels and coffee are available for commuter students  in the Commuter Lounge/ Wade Center.  CANS and Tim Hortons sponsor this  monthly  event .
URL:https://umaine.edu/cntsp/event/first-friday-bagels-6/2023-08-08/
LOCATION:Commuter Lounge / Wade Center\, Memorial Union \, Orono
GEO:44.8831125;-68.6719411
X-APPLE-STRUCTURED-LOCATION;VALUE=URI;X-ADDRESS=Commuter Lounge / Wade Center Memorial Union  Orono;X-APPLE-RADIUS=500;X-TITLE=Memorial Union:geo:-68.6719411,44.8831125
END:VEVENT
BEGIN:VEVENT
DTSTART;TZID=America/New_York:20230807T080000
DTEND;TZID=America/New_York:20230807T110000
DTSTAMP:20260421T143516
CREATED:20160909T195852Z
LAST-MODIFIED:20160909T195852Z
UID:10005407-1691395200-1691406000@umaine.edu
SUMMARY:First Friday Bagels
DESCRIPTION:Every First Friday of the month ( when classes are in session )  Tim Hortons bagels and coffee are available for commuter students  in the Commuter Lounge/ Wade Center.  CANS and Tim Hortons sponsor this  monthly  event .
URL:https://umaine.edu/cntsp/event/first-friday-bagels-6/2023-08-07/
LOCATION:Commuter Lounge / Wade Center\, Memorial Union \, Orono
GEO:44.8831125;-68.6719411
X-APPLE-STRUCTURED-LOCATION;VALUE=URI;X-ADDRESS=Commuter Lounge / Wade Center Memorial Union  Orono;X-APPLE-RADIUS=500;X-TITLE=Memorial Union:geo:-68.6719411,44.8831125
END:VEVENT
BEGIN:VEVENT
DTSTART;TZID=America/New_York:20230806T080000
DTEND;TZID=America/New_York:20230806T110000
DTSTAMP:20260421T143517
CREATED:20160909T195852Z
LAST-MODIFIED:20160909T195852Z
UID:10005406-1691308800-1691319600@umaine.edu
SUMMARY:First Friday Bagels
DESCRIPTION:Every First Friday of the month ( when classes are in session )  Tim Hortons bagels and coffee are available for commuter students  in the Commuter Lounge/ Wade Center.  CANS and Tim Hortons sponsor this  monthly  event .
URL:https://umaine.edu/cntsp/event/first-friday-bagels-6/2023-08-06/
LOCATION:Commuter Lounge / Wade Center\, Memorial Union \, Orono
GEO:44.8831125;-68.6719411
X-APPLE-STRUCTURED-LOCATION;VALUE=URI;X-ADDRESS=Commuter Lounge / Wade Center Memorial Union  Orono;X-APPLE-RADIUS=500;X-TITLE=Memorial Union:geo:-68.6719411,44.8831125
END:VEVENT
BEGIN:VEVENT
DTSTART;TZID=America/New_York:20230805T080000
DTEND;TZID=America/New_York:20230805T110000
DTSTAMP:20260421T143517
CREATED:20160909T195852Z
LAST-MODIFIED:20160909T195852Z
UID:10005405-1691222400-1691233200@umaine.edu
SUMMARY:First Friday Bagels
DESCRIPTION:Every First Friday of the month ( when classes are in session )  Tim Hortons bagels and coffee are available for commuter students  in the Commuter Lounge/ Wade Center.  CANS and Tim Hortons sponsor this  monthly  event .
URL:https://umaine.edu/cntsp/event/first-friday-bagels-6/2023-08-05/
LOCATION:Commuter Lounge / Wade Center\, Memorial Union \, Orono
GEO:44.8831125;-68.6719411
X-APPLE-STRUCTURED-LOCATION;VALUE=URI;X-ADDRESS=Commuter Lounge / Wade Center Memorial Union  Orono;X-APPLE-RADIUS=500;X-TITLE=Memorial Union:geo:-68.6719411,44.8831125
END:VEVENT
BEGIN:VEVENT
DTSTART;TZID=America/New_York:20230804T080000
DTEND;TZID=America/New_York:20230804T110000
DTSTAMP:20260421T143517
CREATED:20160909T195852Z
LAST-MODIFIED:20160909T195852Z
UID:10005404-1691136000-1691146800@umaine.edu
SUMMARY:First Friday Bagels
DESCRIPTION:Every First Friday of the month ( when classes are in session )  Tim Hortons bagels and coffee are available for commuter students  in the Commuter Lounge/ Wade Center.  CANS and Tim Hortons sponsor this  monthly  event .
URL:https://umaine.edu/cntsp/event/first-friday-bagels-6/2023-08-04/
LOCATION:Commuter Lounge / Wade Center\, Memorial Union \, Orono
GEO:44.8831125;-68.6719411
X-APPLE-STRUCTURED-LOCATION;VALUE=URI;X-ADDRESS=Commuter Lounge / Wade Center Memorial Union  Orono;X-APPLE-RADIUS=500;X-TITLE=Memorial Union:geo:-68.6719411,44.8831125
END:VEVENT
BEGIN:VEVENT
DTSTART;TZID=America/New_York:20230803T080000
DTEND;TZID=America/New_York:20230803T110000
DTSTAMP:20260421T143517
CREATED:20160909T195852Z
LAST-MODIFIED:20160909T195852Z
UID:10005403-1691049600-1691060400@umaine.edu
SUMMARY:First Friday Bagels
DESCRIPTION:Every First Friday of the month ( when classes are in session )  Tim Hortons bagels and coffee are available for commuter students  in the Commuter Lounge/ Wade Center.  CANS and Tim Hortons sponsor this  monthly  event .
URL:https://umaine.edu/cntsp/event/first-friday-bagels-6/2023-08-03/
LOCATION:Commuter Lounge / Wade Center\, Memorial Union \, Orono
GEO:44.8831125;-68.6719411
X-APPLE-STRUCTURED-LOCATION;VALUE=URI;X-ADDRESS=Commuter Lounge / Wade Center Memorial Union  Orono;X-APPLE-RADIUS=500;X-TITLE=Memorial Union:geo:-68.6719411,44.8831125
END:VEVENT
BEGIN:VEVENT
DTSTART;TZID=America/New_York:20230802T080000
DTEND;TZID=America/New_York:20230802T110000
DTSTAMP:20260421T143517
CREATED:20160909T195852Z
LAST-MODIFIED:20160909T195852Z
UID:10005402-1690963200-1690974000@umaine.edu
SUMMARY:First Friday Bagels
DESCRIPTION:Every First Friday of the month ( when classes are in session )  Tim Hortons bagels and coffee are available for commuter students  in the Commuter Lounge/ Wade Center.  CANS and Tim Hortons sponsor this  monthly  event .
URL:https://umaine.edu/cntsp/event/first-friday-bagels-6/2023-08-02/
LOCATION:Commuter Lounge / Wade Center\, Memorial Union \, Orono
GEO:44.8831125;-68.6719411
X-APPLE-STRUCTURED-LOCATION;VALUE=URI;X-ADDRESS=Commuter Lounge / Wade Center Memorial Union  Orono;X-APPLE-RADIUS=500;X-TITLE=Memorial Union:geo:-68.6719411,44.8831125
END:VEVENT
END:VCALENDAR