BEGIN:VCALENDAR
VERSION:2.0
PRODID:-//Career Center - ECPv6.15.17.1//NONSGML v1.0//EN
CALSCALE:GREGORIAN
METHOD:PUBLISH
X-WR-CALNAME:Career Center
X-ORIGINAL-URL:https://umaine.edu/career
X-WR-CALDESC:Events for Career Center
REFRESH-INTERVAL;VALUE=DURATION:PT1H
X-Robots-Tag:noindex
X-PUBLISHED-TTL:PT1H
BEGIN:VTIMEZONE
TZID:America/New_York
BEGIN:DAYLIGHT
TZOFFSETFROM:-0500
TZOFFSETTO:-0400
TZNAME:EDT
DTSTART:20220313T070000
END:DAYLIGHT
BEGIN:STANDARD
TZOFFSETFROM:-0400
TZOFFSETTO:-0500
TZNAME:EST
DTSTART:20221106T060000
END:STANDARD
BEGIN:DAYLIGHT
TZOFFSETFROM:-0500
TZOFFSETTO:-0400
TZNAME:EDT
DTSTART:20230312T070000
END:DAYLIGHT
BEGIN:STANDARD
TZOFFSETFROM:-0400
TZOFFSETTO:-0500
TZNAME:EST
DTSTART:20231105T060000
END:STANDARD
BEGIN:DAYLIGHT
TZOFFSETFROM:-0500
TZOFFSETTO:-0400
TZNAME:EDT
DTSTART:20240310T070000
END:DAYLIGHT
BEGIN:STANDARD
TZOFFSETFROM:-0400
TZOFFSETTO:-0500
TZNAME:EST
DTSTART:20241103T060000
END:STANDARD
BEGIN:DAYLIGHT
TZOFFSETFROM:-0500
TZOFFSETTO:-0400
TZNAME:EDT
DTSTART:20250309T070000
END:DAYLIGHT
BEGIN:STANDARD
TZOFFSETFROM:-0400
TZOFFSETTO:-0500
TZNAME:EST
DTSTART:20251102T060000
END:STANDARD
END:VTIMEZONE
BEGIN:VEVENT
DTSTART;TZID=America/New_York:20241029T133000
DTEND;TZID=America/New_York:20241029T143000
DTSTAMP:20260421T134002
CREATED:20241028T145553Z
LAST-MODIFIED:20241028T145553Z
UID:10000394-1730208600-1730212200@umaine.edu
SUMMARY:L.L Bean Info Session
DESCRIPTION:Meet Sara Spugnardi\, UM alumnus\, and LLB Intern Alum Elias Adler. Elias will share his experience of being an intern and now FT employee with  L.L. Bean. \nThey will both be on campus hosting an information table in Union Central from 11 am until 1 pm. \nStop by to learn about L.L.Bean internships and career opportunities with an amazing company! \nThen\, join Sara and Elias for an info. session in the Career Center\, on the third floor of the Memorial Union\, from 1:30-2:30 pm. \nSara has a wealth of recruiting experience and a passion for the outdoors…and ALL things L.L.Bean! \nLearn how to be a competitive applicant for the amazing L.L.Bean internships in the following areas: \ncreative\, customer satisfaction\, facilities\, finance\, fulfillment\, human resources\, information services\, internal audit\, legal\, marketing\, merchandising\, public affairs\, retails\, supply chain\, and wholesale. \nDon’t miss out on the chance to meet Sara and Elias\, learn more about L.L. Bean and learn how to become a “Bean-tern” 🙂
URL:https://umaine.edu/career/event/l-l-bean-info-session/
LOCATION:Career Center
END:VEVENT
BEGIN:VEVENT
DTSTART;TZID=America/New_York:20241016T100000
DTEND;TZID=America/New_York:20241016T140000
DTSTAMP:20260421T134002
CREATED:20240626T185206Z
LAST-MODIFIED:20240913T160011Z
UID:10000392-1729072800-1729087200@umaine.edu
SUMMARY:Engineering and Computing Job Fair 2024
DESCRIPTION:University of Maine’s 26th Annual Engineering and Computing Job Fair is coming up on Wednesday\, October 16\, 2024\, from 10:00am – 2:00pm in the New Balance Student Recreation Center in Orono. \nAt the Maine College of Engineering and Computing\, we develop our award winning faculty\, cutting-edge research facilities and passion for engineering to shape future engineering graduates capable of world-changing innovations. The Engineering and Computing Job Fair at the University of Maine provides an important opportunity for engineering and computing students and employers to meet and informally interview for jobs and internships in Maine and beyond. \nThe College of Engineering and Computing is working to educate the next generation of engineers and computing professionals to meet the growing technological needs of our state and beyond\, and to develop the innovations needed to power our state and our country’s economy. This is a key opportunity for your company to speak with our highly qualified students who participate in this fair ready to talk to you about how they can be an asset to your company. \nThe Fair page can be found here: https://umaine.edu/career/engineering-and-computing-job-fair-2024/  \nEMPLOYERS: Register Here:\nhttps://maine-csm.symplicity.com/events/ECJF24 \nStudents Volunteer Here: \nhttps://docs.google.com/forms/d/e/1FAIpQLSf6DxnZuTGTJWR2OxkW0HlO8WUVd_s6Yud5L64pc3rXzo5hoQ/viewform
URL:https://umaine.edu/career/event/engineering-and-computing-job-fair-2024/
LOCATION:New Balance Student Recreation Center\, 22 Hilltop Road\, Orono\, ME
GEO:44.9047449;-68.6657413
X-APPLE-STRUCTURED-LOCATION;VALUE=URI;X-ADDRESS=New Balance Student Recreation Center 22 Hilltop Road Orono ME;X-APPLE-RADIUS=500;X-TITLE=22 Hilltop Road:geo:-68.6657413,44.9047449
END:VEVENT
BEGIN:VEVENT
DTSTART;TZID=America/New_York:20240925T103000
DTEND;TZID=America/New_York:20240925T133000
DTSTAMP:20260421T134002
CREATED:20240826T155645Z
LAST-MODIFIED:20240826T155713Z
UID:10000393-1727260200-1727271000@umaine.edu
SUMMARY:Career Fest on the Mall
DESCRIPTION:
URL:https://umaine.edu/career/event/career-fest-on-the-mall/
END:VEVENT
BEGIN:VEVENT
DTSTART;TZID=America/New_York:20240206T103000
DTEND;TZID=America/New_York:20240206T133000
DTSTAMP:20260421T134002
CREATED:20240119T170713Z
LAST-MODIFIED:20240122T164833Z
UID:10000390-1707215400-1707226200@umaine.edu
SUMMARY:Careers in Outdoor Rec & Leadership - North Pod Memorial Union
DESCRIPTION:
URL:https://umaine.edu/career/event/careers-in-outdoor-rec-leadership/
LOCATION:Memorial Union North Pod
END:VEVENT
BEGIN:VEVENT
DTSTART;TZID=America/New_York:20240124T103000
DTEND;TZID=America/New_York:20240124T123000
DTSTAMP:20260421T134002
CREATED:20240117T171045Z
LAST-MODIFIED:20240117T171045Z
UID:10000389-1706092200-1706099400@umaine.edu
SUMMARY:Jumpstart your Career
DESCRIPTION:
URL:https://umaine.edu/career/event/jumpstart-your-career-2/
END:VEVENT
BEGIN:VEVENT
DTSTART;TZID=America/New_York:20240119T100000
DTEND;TZID=America/New_York:20240119T140000
DTSTAMP:20260421T134002
CREATED:20240117T170009Z
LAST-MODIFIED:20240117T170040Z
UID:10000388-1705658400-1705672800@umaine.edu
SUMMARY:Behavioral Health Career & Field Placement Fair
DESCRIPTION:
URL:https://umaine.edu/career/event/21625/
END:VEVENT
BEGIN:VEVENT
DTSTART;TZID=America/New_York:20231116T103000
DTEND;TZID=America/New_York:20231116T123000
DTSTAMP:20260421T134002
CREATED:20231107T141659Z
LAST-MODIFIED:20231107T141659Z
UID:10000385-1700130600-1700137800@umaine.edu
SUMMARY:Explore Careers Casually (ECC)
DESCRIPTION:Mark your calendars because the annual Explore Careers Casually is coming back to DPC on November 16th from 10:30 a.m. -12:30 p.m. This event is open to ALL majors\, and we highly encourage you all to attend to meet real employers looking to get to know UMaine students and develop invaluable networking skills!
URL:https://umaine.edu/career/event/explore-careers-casually-ecc/
END:VEVENT
BEGIN:VEVENT
DTSTART;TZID=America/New_York:20231115T170000
DTEND;TZID=America/New_York:20231115T180000
DTSTAMP:20260421T134002
CREATED:20231107T150452Z
LAST-MODIFIED:20231107T163532Z
UID:10000386-1700067600-1700071200@umaine.edu
SUMMARY:Women in Leadership with Enterprise
DESCRIPTION:Sare B. Arnold will be hosting a Lunch & Learn on behalf of Enterprise to promote women in leadership. The event will take place in the Career Center (third floor of the union above the information booth) from approximately 5-6 p.m. on November 15th\, and food will be provided! Sign up here!
URL:https://umaine.edu/career/event/women-in-leadership-with-enterprise/
END:VEVENT
BEGIN:VEVENT
DTSTART;TZID=America/New_York:20231114T163000
DTEND;TZID=America/New_York:20231114T180000
DTSTAMP:20260421T134002
CREATED:20231113T232051Z
LAST-MODIFIED:20231113T232051Z
UID:10000387-1699979400-1699984800@umaine.edu
SUMMARY:City Year Virtual Event
DESCRIPTION:Take advantage of this great opportunity to speak with Beth Bryant\, Senior Vice President\, AmeriCorps Member Talent Acquisition at City Year via Zoom. You’ll learn what its like to work at City Year! \nLink: https://us06web.zoom.us/j/81811381754?pwd=DWDw9ivXESUgxlZF0KhOpaDhxDAJ4s.1
URL:https://umaine.edu/career/event/city-year-virtual-event/
END:VEVENT
BEGIN:VEVENT
DTSTART;TZID=America/New_York:20231018T100000
DTEND;TZID=America/New_York:20231018T140000
DTSTAMP:20260421T134002
CREATED:20230424T113516Z
LAST-MODIFIED:20231013T165258Z
UID:10000229-1697623200-1697637600@umaine.edu
SUMMARY:Engineering and Computing Job Fair
DESCRIPTION:Save the Date!\nWednesday\, October 18\, 2023 – 10am-2pm\nNew Balance Student Recreation Center\nhttps://umaine.edu/career/upcoming-events/engineering-job-fair/
URL:https://umaine.edu/career/event/engineering-and-computing-job-fair/
LOCATION:New Balance Student Recreation Center\, 22 Hilltop Road\, Orono\, ME
GEO:44.9047449;-68.6657413
X-APPLE-STRUCTURED-LOCATION;VALUE=URI;X-ADDRESS=New Balance Student Recreation Center 22 Hilltop Road Orono ME;X-APPLE-RADIUS=500;X-TITLE=22 Hilltop Road:geo:-68.6657413,44.9047449
END:VEVENT
BEGIN:VEVENT
DTSTART;TZID=America/New_York:20230427T140000
DTEND;TZID=America/New_York:20230427T150000
DTSTAMP:20260421T134002
CREATED:20230214T105222Z
LAST-MODIFIED:20230214T105346Z
UID:10000329-1682604000-1682607600@umaine.edu
SUMMARY:Spring Semester Workshop Series
DESCRIPTION:
URL:https://umaine.edu/career/event/spring-semester-workshop-series/2023-04-27/
END:VEVENT
BEGIN:VEVENT
DTSTART;TZID=America/New_York:20230420T140000
DTEND;TZID=America/New_York:20230420T150000
DTSTAMP:20260421T134002
CREATED:20230214T105222Z
LAST-MODIFIED:20230214T105346Z
UID:10000328-1681999200-1682002800@umaine.edu
SUMMARY:Spring Semester Workshop Series
DESCRIPTION:
URL:https://umaine.edu/career/event/spring-semester-workshop-series/2023-04-20/
END:VEVENT
BEGIN:VEVENT
DTSTART;TZID=America/New_York:20230413T140000
DTEND;TZID=America/New_York:20230413T150000
DTSTAMP:20260421T134002
CREATED:20230214T105222Z
LAST-MODIFIED:20230214T105346Z
UID:10000327-1681394400-1681398000@umaine.edu
SUMMARY:Spring Semester Workshop Series
DESCRIPTION:
URL:https://umaine.edu/career/event/spring-semester-workshop-series/2023-04-13/
END:VEVENT
BEGIN:VEVENT
DTSTART;TZID=America/New_York:20230413T110000
DTEND;TZID=America/New_York:20230413T140000
DTSTAMP:20260421T134002
CREATED:20230409T213903Z
LAST-MODIFIED:20230409T213903Z
UID:10000228-1681383600-1681394400@umaine.edu
SUMMARY:New England Diplomat in Residence
DESCRIPTION:
URL:https://umaine.edu/career/event/new-england-diplomat-in-residence/
END:VEVENT
BEGIN:VEVENT
DTSTART;TZID=America/New_York:20230406T173000
DTEND;TZID=America/New_York:20230406T193000
DTSTAMP:20260421T134002
CREATED:20230403T154117Z
LAST-MODIFIED:20230403T154117Z
UID:10000227-1680802200-1680809400@umaine.edu
SUMMARY:Fusion First Event
DESCRIPTION:  \nPlease use this link to register!\n\nhttps://bangorregioncommunitycouncil.memberzone.com/events/details/fusion-first-event-4-6-23-171
URL:https://umaine.edu/career/event/fusion-first-event/
END:VEVENT
BEGIN:VEVENT
DTSTART;TZID=America/New_York:20230406T140000
DTEND;TZID=America/New_York:20230406T150000
DTSTAMP:20260421T134002
CREATED:20230214T105222Z
LAST-MODIFIED:20230214T105346Z
UID:10000326-1680789600-1680793200@umaine.edu
SUMMARY:Spring Semester Workshop Series
DESCRIPTION:
URL:https://umaine.edu/career/event/spring-semester-workshop-series/2023-04-06/
END:VEVENT
BEGIN:VEVENT
DTSTART;TZID=America/New_York:20230406T130000
DTEND;TZID=America/New_York:20230406T150000
DTSTAMP:20260421T134002
CREATED:20230403T153044Z
LAST-MODIFIED:20231013T165307Z
UID:10000226-1680786000-1680793200@umaine.edu
SUMMARY:Education Career Fair
DESCRIPTION:
URL:https://umaine.edu/career/event/education-career-fair/
LOCATION:Wells Conference Center
END:VEVENT
BEGIN:VEVENT
DTSTART;TZID=America/New_York:20230330T140000
DTEND;TZID=America/New_York:20230330T150000
DTSTAMP:20260421T134002
CREATED:20230214T105222Z
LAST-MODIFIED:20230214T105346Z
UID:10000325-1680184800-1680188400@umaine.edu
SUMMARY:Spring Semester Workshop Series
DESCRIPTION:
URL:https://umaine.edu/career/event/spring-semester-workshop-series/2023-03-30/
END:VEVENT
BEGIN:VEVENT
DTSTART;TZID=America/New_York:20230323T140000
DTEND;TZID=America/New_York:20230323T150000
DTSTAMP:20260421T134002
CREATED:20230214T105222Z
LAST-MODIFIED:20230214T105346Z
UID:10000324-1679580000-1679583600@umaine.edu
SUMMARY:Spring Semester Workshop Series
DESCRIPTION:
URL:https://umaine.edu/career/event/spring-semester-workshop-series/2023-03-23/
END:VEVENT
BEGIN:VEVENT
DTSTART;TZID=America/New_York:20230316T140000
DTEND;TZID=America/New_York:20230316T150000
DTSTAMP:20260421T134002
CREATED:20230214T105222Z
LAST-MODIFIED:20230214T105346Z
UID:10000323-1678975200-1678978800@umaine.edu
SUMMARY:Spring Semester Workshop Series
DESCRIPTION:
URL:https://umaine.edu/career/event/spring-semester-workshop-series/2023-03-16/
END:VEVENT
BEGIN:VEVENT
DTSTART;TZID=America/New_York:20230309T180000
DTEND;TZID=America/New_York:20230309T190000
DTSTAMP:20260421T134002
CREATED:20230307T173608Z
LAST-MODIFIED:20230307T173608Z
UID:10000331-1678384800-1678388400@umaine.edu
SUMMARY:Health Professions Club Meeting
DESCRIPTION:Thursday\, March 9\, 2023 from 6-7pm\nHealth Professions Club meeting\nCareer Center – 300 Memorial Union\n\nPlease join us to find out more about the Health Professions Club.  This club is for anyone interested in a career in the health professions (e.g.\, nursing\, biomedical sciences\, physical therapy\, physician assistants\, D.O.s\, M.D.s\, etc). The next meeting is Thursday\, March 9 at 6:00-7:00 p.m. in the Career Center Library\, 300 Memorial Union. We will have coffee\, tea\, and hot chocolate to share!
URL:https://umaine.edu/career/event/health-professions-club-meeting/
END:VEVENT
BEGIN:VEVENT
DTSTART;TZID=America/New_York:20230309T140000
DTEND;TZID=America/New_York:20230309T150000
DTSTAMP:20260421T134002
CREATED:20230214T105222Z
LAST-MODIFIED:20230214T105346Z
UID:10000322-1678370400-1678374000@umaine.edu
SUMMARY:Spring Semester Workshop Series
DESCRIPTION:
URL:https://umaine.edu/career/event/spring-semester-workshop-series/2023-03-09/
END:VEVENT
BEGIN:VEVENT
DTSTART;TZID=America/New_York:20230302T140000
DTEND;TZID=America/New_York:20230302T150000
DTSTAMP:20260421T134002
CREATED:20230214T105222Z
LAST-MODIFIED:20230214T105346Z
UID:10000321-1677765600-1677769200@umaine.edu
SUMMARY:Spring Semester Workshop Series
DESCRIPTION:
URL:https://umaine.edu/career/event/spring-semester-workshop-series/2023-03-02/
END:VEVENT
BEGIN:VEVENT
DTSTART;TZID=America/New_York:20230302T090000
DTEND;TZID=America/New_York:20230302T150000
DTSTAMP:20260421T134002
CREATED:20230213T121501Z
LAST-MODIFIED:20230213T121501Z
UID:10000317-1677747600-1677769200@umaine.edu
SUMMARY:Federal Jobs Day
DESCRIPTION:
URL:https://umaine.edu/career/event/federal-jobs-day/
END:VEVENT
BEGIN:VEVENT
DTSTART;TZID=America/New_York:20230223T140000
DTEND;TZID=America/New_York:20230223T150000
DTSTAMP:20260421T134002
CREATED:20230214T105222Z
LAST-MODIFIED:20230214T105346Z
UID:10000320-1677160800-1677164400@umaine.edu
SUMMARY:Spring Semester Workshop Series
DESCRIPTION:
URL:https://umaine.edu/career/event/spring-semester-workshop-series/2023-02-23/
END:VEVENT
BEGIN:VEVENT
DTSTART;TZID=America/New_York:20230216T140000
DTEND;TZID=America/New_York:20230216T150000
DTSTAMP:20260421T134002
CREATED:20230214T105222Z
LAST-MODIFIED:20230214T105346Z
UID:10000319-1676556000-1676559600@umaine.edu
SUMMARY:Spring Semester Workshop Series
DESCRIPTION:
URL:https://umaine.edu/career/event/spring-semester-workshop-series/2023-02-16/
END:VEVENT
BEGIN:VEVENT
DTSTART;TZID=America/New_York:20230215T100000
DTEND;TZID=America/New_York:20230215T140000
DTSTAMP:20260421T134002
CREATED:20220815T142311Z
LAST-MODIFIED:20230117T151849Z
UID:10000219-1676455200-1676469600@umaine.edu
SUMMARY:UMaine Career Fair
DESCRIPTION:
URL:https://umaine.edu/career/event/umaine-career-fair-5/
LOCATION:New Balance Student Recreation Center\, 22 Hilltop Road\, Orono\, ME
GEO:44.9047449;-68.6657413
X-APPLE-STRUCTURED-LOCATION;VALUE=URI;X-ADDRESS=New Balance Student Recreation Center 22 Hilltop Road Orono ME;X-APPLE-RADIUS=500;X-TITLE=22 Hilltop Road:geo:-68.6657413,44.9047449
END:VEVENT
BEGIN:VEVENT
DTSTART;TZID=America/New_York:20230207T103000
DTEND;TZID=America/New_York:20230207T133000
DTSTAMP:20260421T134002
CREATED:20230109T191734Z
LAST-MODIFIED:20230109T193253Z
UID:10000311-1675765800-1675776600@umaine.edu
SUMMARY:Careers in Outdoor Recreation and Leadership Job Fair
DESCRIPTION:
URL:https://umaine.edu/career/event/careers-in-outdoor-recreation-and-leadership/
LOCATION:Memorial Union North Pod
END:VEVENT
BEGIN:VEVENT
DTSTART;TZID=America/New_York:20230126T110000
DTEND;TZID=America/New_York:20230126T120000
DTSTAMP:20260421T134002
CREATED:20230126T154613Z
LAST-MODIFIED:20230126T154643Z
UID:10000315-1674730800-1674734400@umaine.edu
SUMMARY:2SLGBTQ & Allies Council will Host Monthly Socials Rescheduled
DESCRIPTION:
URL:https://umaine.edu/career/event/2slgbtq-allies-council-will-host-monthly-socials/
END:VEVENT
BEGIN:VEVENT
DTSTART;TZID=America/New_York:20230125T000000
DTEND;TZID=America/New_York:20230201T235900
DTSTAMP:20260421T134002
CREATED:20230119T184110Z
LAST-MODIFIED:20230119T185219Z
UID:10000313-1674604800-1675295940@umaine.edu
SUMMARY:2023 Career Ready Games
DESCRIPTION:You are cordially invited to participate in the 2023 Career Ready Games! \n\nStrengthen your career readiness skills\, win prizes\, and network with recruiters from supporting organizations.\nRegistration is open now through Tuesday Jan. 24th.\nScan the QR code or click here: https://form.jotform.com/230115162541139\nChallenges in Brightspace Jan. 25th- Feb. 1st.\nCeremony & Networking Event Wednesday\, Feb. 1st \n\nHosted by the Maine Business School and the UMaine Career Center\nContact taylor.ashley@maine.edu for any questions about the event. \n 
URL:https://umaine.edu/career/event/2023-career-ready-games/
END:VEVENT
END:VCALENDAR