BEGIN:VCALENDAR
VERSION:2.0
PRODID:-//Canadian-American Center - ECPv6.15.17.1//NONSGML v1.0//EN
CALSCALE:GREGORIAN
METHOD:PUBLISH
X-WR-CALNAME:Canadian-American Center
X-ORIGINAL-URL:https://umaine.edu/canam
X-WR-CALDESC:Events for Canadian-American Center
REFRESH-INTERVAL;VALUE=DURATION:PT1H
X-Robots-Tag:noindex
X-PUBLISHED-TTL:PT1H
BEGIN:VTIMEZONE
TZID:America/New_York
BEGIN:DAYLIGHT
TZOFFSETFROM:-0500
TZOFFSETTO:-0400
TZNAME:EDT
DTSTART:20190310T070000
END:DAYLIGHT
BEGIN:STANDARD
TZOFFSETFROM:-0400
TZOFFSETTO:-0500
TZNAME:EST
DTSTART:20191103T060000
END:STANDARD
BEGIN:DAYLIGHT
TZOFFSETFROM:-0500
TZOFFSETTO:-0400
TZNAME:EDT
DTSTART:20200308T070000
END:DAYLIGHT
BEGIN:STANDARD
TZOFFSETFROM:-0400
TZOFFSETTO:-0500
TZNAME:EST
DTSTART:20201101T060000
END:STANDARD
BEGIN:DAYLIGHT
TZOFFSETFROM:-0500
TZOFFSETTO:-0400
TZNAME:EDT
DTSTART:20210314T070000
END:DAYLIGHT
BEGIN:STANDARD
TZOFFSETFROM:-0400
TZOFFSETTO:-0500
TZNAME:EST
DTSTART:20211107T060000
END:STANDARD
END:VTIMEZONE
BEGIN:VEVENT
DTSTART;TZID=America/New_York:20201116T180000
DTEND;TZID=America/New_York:20201116T193000
DTSTAMP:20260421T005506
CREATED:20201027T121458Z
LAST-MODIFIED:20201027T121458Z
UID:10000054-1605549600-1605555000@umaine.edu
SUMMARY:History Symposium Series: Tina Loo (Prof.\, History\, Univ. of British Columbia\, co-editor\, Canadian Hist. Review) “Moved by the State: Forced Relocation and Making a Good Life in Postwar Canada”
DESCRIPTION:Zoom link: https://maine.zoom.us/j/95684820994  Password: 391122
URL:https://umaine.edu/canam/event/history-symposium-series-tina-loo-prof-history-univ-of-british-columbia-co-editor-canadian-hist-review-moved-by-the-state-forced-relocation-and-making-a-good-life-in-postwar-canada/
CATEGORIES:CanAm Lectures,History,Visiting faculty
ORGANIZER;CN="Liam Riordan":MAILTO:riordan@maine.edu
END:VEVENT
END:VCALENDAR