BEGIN:VCALENDAR
VERSION:2.0
PRODID:-//Campus Recreation - ECPv6.15.17.1//NONSGML v1.0//EN
CALSCALE:GREGORIAN
METHOD:PUBLISH
X-WR-CALNAME:Campus Recreation
X-ORIGINAL-URL:https://umaine.edu/campusrecreation
X-WR-CALDESC:Events for Campus Recreation
REFRESH-INTERVAL;VALUE=DURATION:PT1H
X-Robots-Tag:noindex
X-PUBLISHED-TTL:PT1H
BEGIN:VTIMEZONE
TZID:America/New_York
BEGIN:DAYLIGHT
TZOFFSETFROM:-0500
TZOFFSETTO:-0400
TZNAME:EDT
DTSTART:20230312T070000
END:DAYLIGHT
BEGIN:STANDARD
TZOFFSETFROM:-0400
TZOFFSETTO:-0500
TZNAME:EST
DTSTART:20231105T060000
END:STANDARD
BEGIN:DAYLIGHT
TZOFFSETFROM:-0500
TZOFFSETTO:-0400
TZNAME:EDT
DTSTART:20240310T070000
END:DAYLIGHT
BEGIN:STANDARD
TZOFFSETFROM:-0400
TZOFFSETTO:-0500
TZNAME:EST
DTSTART:20241103T060000
END:STANDARD
BEGIN:DAYLIGHT
TZOFFSETFROM:-0500
TZOFFSETTO:-0400
TZNAME:EDT
DTSTART:20250309T070000
END:DAYLIGHT
BEGIN:STANDARD
TZOFFSETFROM:-0400
TZOFFSETTO:-0500
TZNAME:EST
DTSTART:20251102T060000
END:STANDARD
END:VTIMEZONE
BEGIN:VEVENT
DTSTART;TZID=America/New_York:20240731T060000
DTEND;TZID=America/New_York:20240731T070000
DTSTAMP:20260421T143648
CREATED:20240508T123800Z
LAST-MODIFIED:20240617T184659Z
UID:10004680-1722405600-1722409200@umaine.edu
SUMMARY:Aquaburn (FREE)
DESCRIPTION:Low impact\, cardio/toning interval class using plenty of fun pool tools!\nFREE!\nInstructor – Roxane
URL:https://umaine.edu/campusrecreation/event/aquaburn-free-264/
LOCATION:Pool
GEO:-3.7762628;14.8454619
END:VEVENT
BEGIN:VEVENT
DTSTART;TZID=America/New_York:20240729T060000
DTEND;TZID=America/New_York:20240729T070000
DTSTAMP:20260421T143648
CREATED:20240508T123759Z
LAST-MODIFIED:20240617T184657Z
UID:10004677-1722232800-1722236400@umaine.edu
SUMMARY:Aquaburn (FREE)
DESCRIPTION:Low impact\, cardio/toning interval class using plenty of fun pool tools!\nFREE!\nInstructor – Roxane
URL:https://umaine.edu/campusrecreation/event/aquaburn-free-263/
LOCATION:Pool
GEO:-3.7762628;14.8454619
END:VEVENT
BEGIN:VEVENT
DTSTART;TZID=America/New_York:20240726T060000
DTEND;TZID=America/New_York:20240726T070000
DTSTAMP:20260421T143648
CREATED:20240508T123759Z
LAST-MODIFIED:20240617T184656Z
UID:10004676-1721973600-1721977200@umaine.edu
SUMMARY:Aquaburn (FREE)
DESCRIPTION:Low impact\, cardio/toning interval class using plenty of fun pool tools!\nFREE!\nInstructor – Roxane
URL:https://umaine.edu/campusrecreation/event/aquaburn-free-262/
LOCATION:Pool
GEO:-3.7762628;14.8454619
END:VEVENT
BEGIN:VEVENT
DTSTART;TZID=America/New_York:20240724T060000
DTEND;TZID=America/New_York:20240724T070000
DTSTAMP:20260421T143648
CREATED:20240508T123757Z
LAST-MODIFIED:20240617T184655Z
UID:10004673-1721800800-1721804400@umaine.edu
SUMMARY:Aquaburn (FREE)
DESCRIPTION:Low impact\, cardio/toning interval class using plenty of fun pool tools!\nFREE!\nInstructor – Roxane
URL:https://umaine.edu/campusrecreation/event/aquaburn-free-261/
LOCATION:Pool
GEO:-3.7762628;14.8454619
END:VEVENT
BEGIN:VEVENT
DTSTART;TZID=America/New_York:20240722T060000
DTEND;TZID=America/New_York:20240722T070000
DTSTAMP:20260421T143648
CREATED:20240508T123755Z
LAST-MODIFIED:20240617T184654Z
UID:10004670-1721628000-1721631600@umaine.edu
SUMMARY:Aquaburn (FREE)
DESCRIPTION:Low impact\, cardio/toning interval class using plenty of fun pool tools!\nFREE!\nInstructor – Roxane
URL:https://umaine.edu/campusrecreation/event/aquaburn-free-260/
LOCATION:Pool
GEO:-3.7762628;14.8454619
END:VEVENT
BEGIN:VEVENT
DTSTART;TZID=America/New_York:20240719T060000
DTEND;TZID=America/New_York:20240719T070000
DTSTAMP:20260421T143648
CREATED:20240508T123755Z
LAST-MODIFIED:20240617T184653Z
UID:10004669-1721368800-1721372400@umaine.edu
SUMMARY:Aquaburn (FREE)
DESCRIPTION:Low impact\, cardio/toning interval class using plenty of fun pool tools!\nFREE!\nInstructor – Roxane
URL:https://umaine.edu/campusrecreation/event/aquaburn-free-259/
LOCATION:Pool
GEO:-3.7762628;14.8454619
END:VEVENT
BEGIN:VEVENT
DTSTART;TZID=America/New_York:20240717T060000
DTEND;TZID=America/New_York:20240717T070000
DTSTAMP:20260421T143648
CREATED:20240508T123754Z
LAST-MODIFIED:20240617T184651Z
UID:10004666-1721196000-1721199600@umaine.edu
SUMMARY:Aquaburn (FREE)
DESCRIPTION:Low impact\, cardio/toning interval class using plenty of fun pool tools!\nFREE!\nInstructor – Roxane
URL:https://umaine.edu/campusrecreation/event/aquaburn-free-258/
LOCATION:Pool
GEO:-3.7762628;14.8454619
END:VEVENT
BEGIN:VEVENT
DTSTART;TZID=America/New_York:20240715T060000
DTEND;TZID=America/New_York:20240715T070000
DTSTAMP:20260421T143648
CREATED:20240508T123752Z
LAST-MODIFIED:20240617T184650Z
UID:10004663-1721023200-1721026800@umaine.edu
SUMMARY:Aquaburn (FREE)
DESCRIPTION:Low impact\, cardio/toning interval class using plenty of fun pool tools!\nFREE!\nInstructor – Roxane
URL:https://umaine.edu/campusrecreation/event/aquaburn-free-257/
LOCATION:Pool
GEO:-3.7762628;14.8454619
END:VEVENT
BEGIN:VEVENT
DTSTART;TZID=America/New_York:20240712T060000
DTEND;TZID=America/New_York:20240712T070000
DTSTAMP:20260421T143648
CREATED:20240508T123752Z
LAST-MODIFIED:20240617T184649Z
UID:10004662-1720764000-1720767600@umaine.edu
SUMMARY:Aquaburn (FREE)
DESCRIPTION:Low impact\, cardio/toning interval class using plenty of fun pool tools!\nFREE!\nInstructor – Roxane
URL:https://umaine.edu/campusrecreation/event/aquaburn-free-256/
LOCATION:Pool
GEO:-3.7762628;14.8454619
END:VEVENT
BEGIN:VEVENT
DTSTART;TZID=America/New_York:20240710T060000
DTEND;TZID=America/New_York:20240710T070000
DTSTAMP:20260421T143648
CREATED:20240508T123750Z
LAST-MODIFIED:20240617T184647Z
UID:10004659-1720591200-1720594800@umaine.edu
SUMMARY:Aquaburn (FREE)
DESCRIPTION:Low impact\, cardio/toning interval class using plenty of fun pool tools!\nFREE!\nInstructor – Roxane
URL:https://umaine.edu/campusrecreation/event/aquaburn-free-255/
LOCATION:Pool
GEO:-3.7762628;14.8454619
END:VEVENT
BEGIN:VEVENT
DTSTART;TZID=America/New_York:20240708T060000
DTEND;TZID=America/New_York:20240708T070000
DTSTAMP:20260421T143648
CREATED:20240508T123749Z
LAST-MODIFIED:20240617T184657Z
UID:10004656-1720418400-1720422000@umaine.edu
SUMMARY:Aquaburn (FREE)
DESCRIPTION:Low impact\, cardio/toning interval class using plenty of fun pool tools!\nFREE!\nInstructor – Roxane
URL:https://umaine.edu/campusrecreation/event/aquaburn-free-254/
LOCATION:Pool
GEO:-3.7762628;14.8454619
END:VEVENT
BEGIN:VEVENT
DTSTART;TZID=America/New_York:20240705T060000
DTEND;TZID=America/New_York:20240705T070000
DTSTAMP:20260421T143648
CREATED:20240508T123748Z
LAST-MODIFIED:20240617T184657Z
UID:10004655-1720159200-1720162800@umaine.edu
SUMMARY:Aquaburn (FREE)
DESCRIPTION:Low impact\, cardio/toning interval class using plenty of fun pool tools!\nFREE!\nInstructor – Roxane
URL:https://umaine.edu/campusrecreation/event/aquaburn-free-253/
LOCATION:Pool
GEO:-3.7762628;14.8454619
END:VEVENT
BEGIN:VEVENT
DTSTART;TZID=America/New_York:20240703T060000
DTEND;TZID=America/New_York:20240703T070000
DTSTAMP:20260421T143648
CREATED:20240508T123747Z
LAST-MODIFIED:20240617T184656Z
UID:10004652-1719986400-1719990000@umaine.edu
SUMMARY:Aquaburn (FREE)
DESCRIPTION:Low impact\, cardio/toning interval class using plenty of fun pool tools!\nFREE!\nInstructor – Roxane
URL:https://umaine.edu/campusrecreation/event/aquaburn-free-252/
LOCATION:Pool
GEO:-3.7762628;14.8454619
END:VEVENT
BEGIN:VEVENT
DTSTART;TZID=America/New_York:20240701T060000
DTEND;TZID=America/New_York:20240701T070000
DTSTAMP:20260421T143648
CREATED:20240508T123745Z
LAST-MODIFIED:20240617T184654Z
UID:10004649-1719813600-1719817200@umaine.edu
SUMMARY:Aquaburn (FREE)
DESCRIPTION:Low impact\, cardio/toning interval class using plenty of fun pool tools!\nFREE!\nInstructor – Roxane
URL:https://umaine.edu/campusrecreation/event/aquaburn-free-251/
LOCATION:Pool
GEO:-3.7762628;14.8454619
END:VEVENT
BEGIN:VEVENT
DTSTART;TZID=America/New_York:20240628T060000
DTEND;TZID=America/New_York:20240628T070000
DTSTAMP:20260421T143648
CREATED:20240508T123744Z
LAST-MODIFIED:20240617T184642Z
UID:10004648-1719554400-1719558000@umaine.edu
SUMMARY:Aquaburn (FREE)
DESCRIPTION:Low impact\, cardio/toning interval class using plenty of fun pool tools!\nFREE!\nInstructor – Roxane
URL:https://umaine.edu/campusrecreation/event/aquaburn-free-250/
LOCATION:Pool
GEO:-3.7762628;14.8454619
END:VEVENT
BEGIN:VEVENT
DTSTART;TZID=America/New_York:20240626T060000
DTEND;TZID=America/New_York:20240626T070000
DTSTAMP:20260421T143648
CREATED:20240508T123743Z
LAST-MODIFIED:20240617T184641Z
UID:10004645-1719381600-1719385200@umaine.edu
SUMMARY:Aquaburn (FREE)
DESCRIPTION:Low impact\, cardio/toning interval class using plenty of fun pool tools!\nFREE!\nInstructor – Roxane
URL:https://umaine.edu/campusrecreation/event/aquaburn-free-249/
LOCATION:Pool
GEO:-3.7762628;14.8454619
END:VEVENT
BEGIN:VEVENT
DTSTART;TZID=America/New_York:20240624T060000
DTEND;TZID=America/New_York:20240624T070000
DTSTAMP:20260421T143648
CREATED:20240508T123742Z
LAST-MODIFIED:20240617T184640Z
UID:10004642-1719208800-1719212400@umaine.edu
SUMMARY:Aquaburn (FREE)
DESCRIPTION:Low impact\, cardio/toning interval class using plenty of fun pool tools!\nFREE!\nInstructor – Roxane
URL:https://umaine.edu/campusrecreation/event/aquaburn-free-248/
LOCATION:Pool
GEO:-3.7762628;14.8454619
END:VEVENT
BEGIN:VEVENT
DTSTART;TZID=America/New_York:20240621T060000
DTEND;TZID=America/New_York:20240621T070000
DTSTAMP:20260421T143648
CREATED:20240508T123741Z
LAST-MODIFIED:20240617T184640Z
UID:10004641-1718949600-1718953200@umaine.edu
SUMMARY:Aquaburn (FREE)
DESCRIPTION:Low impact\, cardio/toning interval class using plenty of fun pool tools!\nFREE!\nInstructor – Roxane
URL:https://umaine.edu/campusrecreation/event/aquaburn-free-247/
LOCATION:Pool
GEO:-3.7762628;14.8454619
END:VEVENT
BEGIN:VEVENT
DTSTART;TZID=America/New_York:20240617T060000
DTEND;TZID=America/New_York:20240617T070000
DTSTAMP:20260421T143648
CREATED:20240508T123739Z
LAST-MODIFIED:20240508T123949Z
UID:10004636-1718604000-1718607600@umaine.edu
SUMMARY:Aquaburn (FREE)
DESCRIPTION:Low impact\, cardio/toning interval class using plenty of fun pool tools!\nFREE!\nInstructor – Roxane
URL:https://umaine.edu/campusrecreation/event/aquaburn-free-246/
LOCATION:Pool
GEO:-3.7762628;14.8454619
END:VEVENT
BEGIN:VEVENT
DTSTART;TZID=America/New_York:20240614T060000
DTEND;TZID=America/New_York:20240614T070000
DTSTAMP:20260421T143648
CREATED:20240508T123739Z
LAST-MODIFIED:20240508T123948Z
UID:10004635-1718344800-1718348400@umaine.edu
SUMMARY:Aquaburn (FREE)
DESCRIPTION:Low impact\, cardio/toning interval class using plenty of fun pool tools!\nFREE!\nInstructor – Roxane
URL:https://umaine.edu/campusrecreation/event/aquaburn-free-245/
LOCATION:Pool
GEO:-3.7762628;14.8454619
END:VEVENT
BEGIN:VEVENT
DTSTART;TZID=America/New_York:20240612T060000
DTEND;TZID=America/New_York:20240612T070000
DTSTAMP:20260421T143648
CREATED:20240508T123736Z
LAST-MODIFIED:20240508T123945Z
UID:10004629-1718172000-1718175600@umaine.edu
SUMMARY:Aquaburn (FREE)
DESCRIPTION:Low impact\, cardio/toning interval class using plenty of fun pool tools!\nFREE!\nInstructor – Roxane
URL:https://umaine.edu/campusrecreation/event/aquaburn-free-244/
LOCATION:Pool
GEO:-3.7762628;14.8454619
END:VEVENT
BEGIN:VEVENT
DTSTART;TZID=America/New_York:20240610T060000
DTEND;TZID=America/New_York:20240610T070000
DTSTAMP:20260421T143648
CREATED:20240508T123732Z
LAST-MODIFIED:20240508T123930Z
UID:10004623-1717999200-1718002800@umaine.edu
SUMMARY:Aquaburn (FREE)
DESCRIPTION:Low impact\, cardio/toning interval class using plenty of fun pool tools!\nFREE!\nInstructor – Roxane
URL:https://umaine.edu/campusrecreation/event/aquaburn-free-243/
LOCATION:Pool
GEO:-3.7762628;14.8454619
END:VEVENT
BEGIN:VEVENT
DTSTART;TZID=America/New_York:20240607T060000
DTEND;TZID=America/New_York:20240607T070000
DTSTAMP:20260421T143648
CREATED:20240508T123731Z
LAST-MODIFIED:20240508T123929Z
UID:10004622-1717740000-1717743600@umaine.edu
SUMMARY:Aquaburn (FREE)
DESCRIPTION:Low impact\, cardio/toning interval class using plenty of fun pool tools!\nFREE!\nInstructor – Roxane
URL:https://umaine.edu/campusrecreation/event/aquaburn-free-242/
LOCATION:Pool
GEO:-3.7762628;14.8454619
END:VEVENT
BEGIN:VEVENT
DTSTART;TZID=America/New_York:20240603T060000
DTEND;TZID=America/New_York:20240603T070000
DTSTAMP:20260421T143648
CREATED:20240508T123725Z
LAST-MODIFIED:20240508T123912Z
UID:10004610-1717394400-1717398000@umaine.edu
SUMMARY:Aquaburn (FREE)
DESCRIPTION:Low impact\, cardio/toning interval class using plenty of fun pool tools!\nFREE!\nInstructor – Roxane
URL:https://umaine.edu/campusrecreation/event/aquaburn-free-240/
LOCATION:Pool
GEO:-3.7762628;14.8454619
END:VEVENT
BEGIN:VEVENT
DTSTART;TZID=America/New_York:20240531T060000
DTEND;TZID=America/New_York:20240531T070000
DTSTAMP:20260421T143648
CREATED:20240508T123725Z
LAST-MODIFIED:20240508T123911Z
UID:10004609-1717135200-1717138800@umaine.edu
SUMMARY:Aquaburn (FREE)
DESCRIPTION:Low impact\, cardio/toning interval class using plenty of fun pool tools!\nFREE!\nInstructor – Roxane
URL:https://umaine.edu/campusrecreation/event/aquaburn-free-239/
LOCATION:Pool
GEO:-3.7762628;14.8454619
END:VEVENT
BEGIN:VEVENT
DTSTART;TZID=America/New_York:20240529T060000
DTEND;TZID=America/New_York:20240529T070000
DTSTAMP:20260421T143648
CREATED:20240508T123722Z
LAST-MODIFIED:20240508T123856Z
UID:10004603-1716962400-1716966000@umaine.edu
SUMMARY:Aquaburn (FREE)
DESCRIPTION:Low impact\, cardio/toning interval class using plenty of fun pool tools!\nFREE!\nInstructor – Roxane
URL:https://umaine.edu/campusrecreation/event/aquaburn-free-238/
LOCATION:Pool
GEO:-3.7762628;14.8454619
END:VEVENT
BEGIN:VEVENT
DTSTART;TZID=America/New_York:20240524T060000
DTEND;TZID=America/New_York:20240524T070000
DTSTAMP:20260421T143648
CREATED:20240508T123720Z
LAST-MODIFIED:20240508T123853Z
UID:10004598-1716530400-1716534000@umaine.edu
SUMMARY:Aquaburn (FREE)
DESCRIPTION:Low impact\, cardio/toning interval class using plenty of fun pool tools!\nFREE!\nInstructor – Roxane
URL:https://umaine.edu/campusrecreation/event/aquaburn-free-237/
LOCATION:Pool
GEO:-3.7762628;14.8454619
END:VEVENT
BEGIN:VEVENT
DTSTART;TZID=America/New_York:20240522T060000
DTEND;TZID=America/New_York:20240522T070000
DTSTAMP:20260421T143648
CREATED:20240508T123718Z
LAST-MODIFIED:20240508T123840Z
UID:10004593-1716357600-1716361200@umaine.edu
SUMMARY:Aquaburn (FREE)
DESCRIPTION:Low impact\, cardio/toning interval class using plenty of fun pool tools!\nFREE!\nInstructor – Roxane
URL:https://umaine.edu/campusrecreation/event/aquaburn-free-236/
LOCATION:Pool
GEO:-3.7762628;14.8454619
END:VEVENT
BEGIN:VEVENT
DTSTART;TZID=America/New_York:20240503T060000
DTEND;TZID=America/New_York:20240503T070000
DTSTAMP:20260421T143648
CREATED:20240409T133304Z
LAST-MODIFIED:20240409T133304Z
UID:10004152-1714716000-1714719600@umaine.edu
SUMMARY:Aquaburn (FREE)
DESCRIPTION:Low impact\, cardio/toning interval class using plenty of fun pool tools!\nFREE!\nInstructor – Roxane
URL:https://umaine.edu/campusrecreation/event/aquaburn-free-235/
LOCATION:Pool
GEO:-3.7762628;14.8454619
END:VEVENT
BEGIN:VEVENT
DTSTART;TZID=America/New_York:20240501T060000
DTEND;TZID=America/New_York:20240501T070000
DTSTAMP:20260421T143648
CREATED:20240409T133259Z
LAST-MODIFIED:20240409T133259Z
UID:10004145-1714543200-1714546800@umaine.edu
SUMMARY:Aquaburn (FREE)
DESCRIPTION:Low impact\, cardio/toning interval class using plenty of fun pool tools!\nFREE!\nInstructor – Roxane
URL:https://umaine.edu/campusrecreation/event/aquaburn-free-234/
LOCATION:Pool
GEO:-3.7762628;14.8454619
END:VEVENT
END:VCALENDAR