BEGIN:VCALENDAR
VERSION:2.0
PRODID:-//Campus Recreation - ECPv6.15.17.1//NONSGML v1.0//EN
CALSCALE:GREGORIAN
METHOD:PUBLISH
X-WR-CALNAME:Campus Recreation
X-ORIGINAL-URL:https://umaine.edu/campusrecreation
X-WR-CALDESC:Events for Campus Recreation
REFRESH-INTERVAL;VALUE=DURATION:PT1H
X-Robots-Tag:noindex
X-PUBLISHED-TTL:PT1H
BEGIN:VTIMEZONE
TZID:America/New_York
BEGIN:DAYLIGHT
TZOFFSETFROM:-0500
TZOFFSETTO:-0400
TZNAME:EDT
DTSTART:20250309T070000
END:DAYLIGHT
BEGIN:STANDARD
TZOFFSETFROM:-0400
TZOFFSETTO:-0500
TZNAME:EST
DTSTART:20251102T060000
END:STANDARD
BEGIN:DAYLIGHT
TZOFFSETFROM:-0500
TZOFFSETTO:-0400
TZNAME:EDT
DTSTART:20260308T070000
END:DAYLIGHT
BEGIN:STANDARD
TZOFFSETFROM:-0400
TZOFFSETTO:-0500
TZNAME:EST
DTSTART:20261101T060000
END:STANDARD
BEGIN:DAYLIGHT
TZOFFSETFROM:-0500
TZOFFSETTO:-0400
TZNAME:EDT
DTSTART:20270314T070000
END:DAYLIGHT
BEGIN:STANDARD
TZOFFSETFROM:-0400
TZOFFSETTO:-0500
TZNAME:EST
DTSTART:20271107T060000
END:STANDARD
END:VTIMEZONE
BEGIN:VEVENT
DTSTART;TZID=America/New_York:20260420T060000
DTEND;TZID=America/New_York:20260420T070000
DTSTAMP:20260421T005505
CREATED:20260119T145132Z
LAST-MODIFIED:20260403T200221Z
UID:10006467-1776664800-1776668400@umaine.edu
SUMMARY:Splash HIIT (FREE)
DESCRIPTION:Pool exercise is safe\, fun\, and can be intense\, too! This 50- minute class uses a variety of pool equipment\, the vortex\, and music to splash your way through a high intensity interval training-cardio workout. Working vertically in the water challenges muscles while protecting joints. Many exercises can be adapted to low or no impact. Class is appropriate for all fitness levels. Ability to swim is not necessary\, but you should be comfortable in shallow water.\nFREE!\nInstructor – Roxane
URL:https://umaine.edu/campusrecreation/event/splash-hiit-free-216/
LOCATION:Pool
GEO:-3.7762628;14.8454619
END:VEVENT
BEGIN:VEVENT
DTSTART;TZID=America/New_York:20260417T060000
DTEND;TZID=America/New_York:20260417T070000
DTSTAMP:20260421T005505
CREATED:20260119T145130Z
LAST-MODIFIED:20260403T200221Z
UID:10006465-1776405600-1776409200@umaine.edu
SUMMARY:Splash HIIT (FREE)
DESCRIPTION:Pool exercise is safe\, fun\, and can be intense\, too! This 50- minute class uses a variety of pool equipment\, the vortex\, and music to splash your way through a high intensity interval training-cardio workout. Working vertically in the water challenges muscles while protecting joints. Many exercises can be adapted to low or no impact. Class is appropriate for all fitness levels. Ability to swim is not necessary\, but you should be comfortable in shallow water.\nFREE!\nInstructor – Roxane
URL:https://umaine.edu/campusrecreation/event/splash-hiit-free-215/
LOCATION:Pool
GEO:-3.7762628;14.8454619
END:VEVENT
BEGIN:VEVENT
DTSTART;TZID=America/New_York:20260415T060000
DTEND;TZID=America/New_York:20260415T070000
DTSTAMP:20260421T005505
CREATED:20260119T145127Z
LAST-MODIFIED:20260403T200219Z
UID:10006457-1776232800-1776236400@umaine.edu
SUMMARY:Splash HIIT (FREE)
DESCRIPTION:Pool exercise is safe\, fun\, and can be intense\, too! This 50- minute class uses a variety of pool equipment\, the vortex\, and music to splash your way through a high intensity interval training-cardio workout. Working vertically in the water challenges muscles while protecting joints. Many exercises can be adapted to low or no impact. Class is appropriate for all fitness levels. Ability to swim is not necessary\, but you should be comfortable in shallow water.\nFREE!\nInstructor – Roxane
URL:https://umaine.edu/campusrecreation/event/splash-hiit-free-214/
LOCATION:Pool
GEO:-3.7762628;14.8454619
END:VEVENT
BEGIN:VEVENT
DTSTART;TZID=America/New_York:20260413T060000
DTEND;TZID=America/New_York:20260413T070000
DTSTAMP:20260421T005505
CREATED:20260119T145124Z
LAST-MODIFIED:20260403T200218Z
UID:10006446-1776060000-1776063600@umaine.edu
SUMMARY:Splash HIIT (FREE)
DESCRIPTION:Pool exercise is safe\, fun\, and can be intense\, too! This 50- minute class uses a variety of pool equipment\, the vortex\, and music to splash your way through a high intensity interval training-cardio workout. Working vertically in the water challenges muscles while protecting joints. Many exercises can be adapted to low or no impact. Class is appropriate for all fitness levels. Ability to swim is not necessary\, but you should be comfortable in shallow water.\nFREE!\nInstructor – Roxane
URL:https://umaine.edu/campusrecreation/event/splash-hiit-free-213/
LOCATION:Pool
GEO:-3.7762628;14.8454619
END:VEVENT
BEGIN:VEVENT
DTSTART;TZID=America/New_York:20260410T060000
DTEND;TZID=America/New_York:20260410T070000
DTSTAMP:20260421T005505
CREATED:20260119T145123Z
LAST-MODIFIED:20260403T200218Z
UID:10006444-1775800800-1775804400@umaine.edu
SUMMARY:Splash HIIT (FREE)
DESCRIPTION:Pool exercise is safe\, fun\, and can be intense\, too! This 50- minute class uses a variety of pool equipment\, the vortex\, and music to splash your way through a high intensity interval training-cardio workout. Working vertically in the water challenges muscles while protecting joints. Many exercises can be adapted to low or no impact. Class is appropriate for all fitness levels. Ability to swim is not necessary\, but you should be comfortable in shallow water.\nFREE!\nInstructor – Roxane
URL:https://umaine.edu/campusrecreation/event/splash-hiit-free-212/
LOCATION:Pool
GEO:-3.7762628;14.8454619
END:VEVENT
BEGIN:VEVENT
DTSTART;TZID=America/New_York:20260408T060000
DTEND;TZID=America/New_York:20260408T070000
DTSTAMP:20260421T005505
CREATED:20260119T145121Z
LAST-MODIFIED:20260403T200217Z
UID:10006434-1775628000-1775631600@umaine.edu
SUMMARY:Splash HIIT (FREE)
DESCRIPTION:Pool exercise is safe\, fun\, and can be intense\, too! This 50- minute class uses a variety of pool equipment\, the vortex\, and music to splash your way through a high intensity interval training-cardio workout. Working vertically in the water challenges muscles while protecting joints. Many exercises can be adapted to low or no impact. Class is appropriate for all fitness levels. Ability to swim is not necessary\, but you should be comfortable in shallow water.\nFREE!\nInstructor – Roxane
URL:https://umaine.edu/campusrecreation/event/splash-hiit-free-211/
LOCATION:Pool
GEO:-3.7762628;14.8454619
END:VEVENT
BEGIN:VEVENT
DTSTART;TZID=America/New_York:20260406T060000
DTEND;TZID=America/New_York:20260406T070000
DTSTAMP:20260421T005505
CREATED:20260119T145118Z
LAST-MODIFIED:20260403T200215Z
UID:10006424-1775455200-1775458800@umaine.edu
SUMMARY:Splash HIIT (FREE)
DESCRIPTION:Pool exercise is safe\, fun\, and can be intense\, too! This 50- minute class uses a variety of pool equipment\, the vortex\, and music to splash your way through a high intensity interval training-cardio workout. Working vertically in the water challenges muscles while protecting joints. Many exercises can be adapted to low or no impact. Class is appropriate for all fitness levels. Ability to swim is not necessary\, but you should be comfortable in shallow water.\nFREE!\nInstructor – Roxane
URL:https://umaine.edu/campusrecreation/event/splash-hiit-free-210/
LOCATION:Pool
GEO:-3.7762628;14.8454619
END:VEVENT
BEGIN:VEVENT
DTSTART;TZID=America/New_York:20260403T060000
DTEND;TZID=America/New_York:20260403T070000
DTSTAMP:20260421T005505
CREATED:20260119T145117Z
LAST-MODIFIED:20260122T172206Z
UID:10006421-1775196000-1775199600@umaine.edu
SUMMARY:Splash HIIT (FREE)
DESCRIPTION:Pool exercise is safe\, fun\, and can be intense\, too! This 50- minute class uses a variety of pool equipment\, the vortex\, and music to splash your way through a high intensity interval training-cardio workout. Working vertically in the water challenges muscles while protecting joints. Many exercises can be adapted to low or no impact. Class is appropriate for all fitness levels. Ability to swim is not necessary\, but you should be comfortable in shallow water.\nFREE!\nInstructor – Roxane
URL:https://umaine.edu/campusrecreation/event/splash-hiit-free-209/
LOCATION:Pool
GEO:-3.7762628;14.8454619
END:VEVENT
BEGIN:VEVENT
DTSTART;TZID=America/New_York:20260401T060000
DTEND;TZID=America/New_York:20260401T070000
DTSTAMP:20260421T005505
CREATED:20260119T145114Z
LAST-MODIFIED:20260122T172235Z
UID:10006412-1775023200-1775026800@umaine.edu
SUMMARY:Splash HIIT (FREE)
DESCRIPTION:Pool exercise is safe\, fun\, and can be intense\, too! This 50- minute class uses a variety of pool equipment\, the vortex\, and music to splash your way through a high intensity interval training-cardio workout. Working vertically in the water challenges muscles while protecting joints. Many exercises can be adapted to low or no impact. Class is appropriate for all fitness levels. Ability to swim is not necessary\, but you should be comfortable in shallow water.\nFREE!\nInstructor – Roxane
URL:https://umaine.edu/campusrecreation/event/splash-hiit-free-208/
LOCATION:Pool
GEO:-3.7762628;14.8454619
END:VEVENT
BEGIN:VEVENT
DTSTART;TZID=America/New_York:20260330T060000
DTEND;TZID=America/New_York:20260330T070000
DTSTAMP:20260421T005505
CREATED:20260119T145111Z
LAST-MODIFIED:20260122T172342Z
UID:10006402-1774850400-1774854000@umaine.edu
SUMMARY:Splash HIIT (FREE)
DESCRIPTION:Pool exercise is safe\, fun\, and can be intense\, too! This 50- minute class uses a variety of pool equipment\, the vortex\, and music to splash your way through a high intensity interval training-cardio workout. Working vertically in the water challenges muscles while protecting joints. Many exercises can be adapted to low or no impact. Class is appropriate for all fitness levels. Ability to swim is not necessary\, but you should be comfortable in shallow water.\nFREE!\nInstructor – Roxane
URL:https://umaine.edu/campusrecreation/event/splash-hiit-free-207/
LOCATION:Pool
GEO:-3.7762628;14.8454619
END:VEVENT
BEGIN:VEVENT
DTSTART;TZID=America/New_York:20260327T060000
DTEND;TZID=America/New_York:20260327T070000
DTSTAMP:20260421T005505
CREATED:20260119T145110Z
LAST-MODIFIED:20260122T172400Z
UID:10006399-1774591200-1774594800@umaine.edu
SUMMARY:Splash HIIT (FREE)
DESCRIPTION:Pool exercise is safe\, fun\, and can be intense\, too! This 50- minute class uses a variety of pool equipment\, the vortex\, and music to splash your way through a high intensity interval training-cardio workout. Working vertically in the water challenges muscles while protecting joints. Many exercises can be adapted to low or no impact. Class is appropriate for all fitness levels. Ability to swim is not necessary\, but you should be comfortable in shallow water.\nFREE!\nInstructor – Roxane
URL:https://umaine.edu/campusrecreation/event/splash-hiit-free-206/
LOCATION:Pool
GEO:-3.7762628;14.8454619
END:VEVENT
BEGIN:VEVENT
DTSTART;TZID=America/New_York:20260323T060000
DTEND;TZID=America/New_York:20260323T070000
DTSTAMP:20260421T005505
CREATED:20260119T145059Z
LAST-MODIFIED:20260122T173026Z
UID:10006380-1774245600-1774249200@umaine.edu
SUMMARY:Splash HIIT (FREE)
DESCRIPTION:Pool exercise is safe\, fun\, and can be intense\, too! This 50- minute class uses a variety of pool equipment\, the vortex\, and music to splash your way through a high intensity interval training-cardio workout. Working vertically in the water challenges muscles while protecting joints. Many exercises can be adapted to low or no impact. Class is appropriate for all fitness levels. Ability to swim is not necessary\, but you should be comfortable in shallow water.\nFREE!\nInstructor – Roxane
URL:https://umaine.edu/campusrecreation/event/splash-hiit-free-204/
LOCATION:Pool
GEO:-3.7762628;14.8454619
END:VEVENT
BEGIN:VEVENT
DTSTART;TZID=America/New_York:20260320T060000
DTEND;TZID=America/New_York:20260320T070000
DTSTAMP:20260421T005505
CREATED:20260119T145057Z
LAST-MODIFIED:20260122T173230Z
UID:10006378-1773986400-1773990000@umaine.edu
SUMMARY:Splash HIIT (FREE)
DESCRIPTION:Pool exercise is safe\, fun\, and can be intense\, too! This 50- minute class uses a variety of pool equipment\, the vortex\, and music to splash your way through a high intensity interval training-cardio workout. Working vertically in the water challenges muscles while protecting joints. Many exercises can be adapted to low or no impact. Class is appropriate for all fitness levels. Ability to swim is not necessary\, but you should be comfortable in shallow water.\nFREE!\nInstructor – Roxane
URL:https://umaine.edu/campusrecreation/event/splash-hiit-free-203/
LOCATION:Pool
GEO:-3.7762628;14.8454619
END:VEVENT
BEGIN:VEVENT
DTSTART;TZID=America/New_York:20260318T060000
DTEND;TZID=America/New_York:20260318T070000
DTSTAMP:20260421T005505
CREATED:20260119T145050Z
LAST-MODIFIED:20260122T173341Z
UID:10006369-1773813600-1773817200@umaine.edu
SUMMARY:Splash HIIT (FREE)
DESCRIPTION:Pool exercise is safe\, fun\, and can be intense\, too! This 50- minute class uses a variety of pool equipment\, the vortex\, and music to splash your way through a high intensity interval training-cardio workout. Working vertically in the water challenges muscles while protecting joints. Many exercises can be adapted to low or no impact. Class is appropriate for all fitness levels. Ability to swim is not necessary\, but you should be comfortable in shallow water.\nFREE!\nInstructor – Roxane
URL:https://umaine.edu/campusrecreation/event/splash-hiit-free-202/
LOCATION:Pool
GEO:-3.7762628;14.8454619
END:VEVENT
BEGIN:VEVENT
DTSTART;TZID=America/New_York:20260316T060000
DTEND;TZID=America/New_York:20260316T070000
DTSTAMP:20260421T005505
CREATED:20260119T145041Z
LAST-MODIFIED:20260122T173604Z
UID:10006357-1773640800-1773644400@umaine.edu
SUMMARY:Splash HIIT (FREE)
DESCRIPTION:Pool exercise is safe\, fun\, and can be intense\, too! This 50- minute class uses a variety of pool equipment\, the vortex\, and music to splash your way through a high intensity interval training-cardio workout. Working vertically in the water challenges muscles while protecting joints. Many exercises can be adapted to low or no impact. Class is appropriate for all fitness levels. Ability to swim is not necessary\, but you should be comfortable in shallow water.\nFREE!\nInstructor – Roxane
URL:https://umaine.edu/campusrecreation/event/splash-hiit-free-201/
LOCATION:Pool
GEO:-3.7762628;14.8454619
END:VEVENT
BEGIN:VEVENT
DTSTART;TZID=America/New_York:20260313T060000
DTEND;TZID=America/New_York:20260313T070000
DTSTAMP:20260421T005505
CREATED:20260119T145040Z
LAST-MODIFIED:20260122T173609Z
UID:10006355-1773381600-1773385200@umaine.edu
SUMMARY:Splash HIIT (FREE)
DESCRIPTION:Pool exercise is safe\, fun\, and can be intense\, too! This 50- minute class uses a variety of pool equipment\, the vortex\, and music to splash your way through a high intensity interval training-cardio workout. Working vertically in the water challenges muscles while protecting joints. Many exercises can be adapted to low or no impact. Class is appropriate for all fitness levels. Ability to swim is not necessary\, but you should be comfortable in shallow water.\nFREE!\nInstructor – Roxane
URL:https://umaine.edu/campusrecreation/event/splash-hiit-free-200/
LOCATION:Pool
GEO:-3.7762628;14.8454619
END:VEVENT
BEGIN:VEVENT
DTSTART;TZID=America/New_York:20260311T060000
DTEND;TZID=America/New_York:20260311T070000
DTSTAMP:20260421T005505
CREATED:20260119T145034Z
LAST-MODIFIED:20260122T173645Z
UID:10006347-1773208800-1773212400@umaine.edu
SUMMARY:Splash HIIT (FREE)
DESCRIPTION:Pool exercise is safe\, fun\, and can be intense\, too! This 50- minute class uses a variety of pool equipment\, the vortex\, and music to splash your way through a high intensity interval training-cardio workout. Working vertically in the water challenges muscles while protecting joints. Many exercises can be adapted to low or no impact. Class is appropriate for all fitness levels. Ability to swim is not necessary\, but you should be comfortable in shallow water.\nFREE!\nInstructor – Roxane
URL:https://umaine.edu/campusrecreation/event/splash-hiit-free-199/
LOCATION:Pool
GEO:-3.7762628;14.8454619
END:VEVENT
BEGIN:VEVENT
DTSTART;TZID=America/New_York:20260309T060000
DTEND;TZID=America/New_York:20260309T070000
DTSTAMP:20260421T005505
CREATED:20260119T145028Z
LAST-MODIFIED:20260122T173719Z
UID:10006335-1773036000-1773039600@umaine.edu
SUMMARY:Splash HIIT (FREE)
DESCRIPTION:Pool exercise is safe\, fun\, and can be intense\, too! This 50- minute class uses a variety of pool equipment\, the vortex\, and music to splash your way through a high intensity interval training-cardio workout. Working vertically in the water challenges muscles while protecting joints. Many exercises can be adapted to low or no impact. Class is appropriate for all fitness levels. Ability to swim is not necessary\, but you should be comfortable in shallow water.\nFREE!\nInstructor – Roxane
URL:https://umaine.edu/campusrecreation/event/splash-hiit-free-198/
LOCATION:Pool
GEO:-3.7762628;14.8454619
END:VEVENT
BEGIN:VEVENT
DTSTART;TZID=America/New_York:20260306T060000
DTEND;TZID=America/New_York:20260306T070000
DTSTAMP:20260421T005505
CREATED:20260119T145028Z
LAST-MODIFIED:20260122T173724Z
UID:10006334-1772776800-1772780400@umaine.edu
SUMMARY:Splash HIIT (FREE)
DESCRIPTION:Pool exercise is safe\, fun\, and can be intense\, too! This 50- minute class uses a variety of pool equipment\, the vortex\, and music to splash your way through a high intensity interval training-cardio workout. Working vertically in the water challenges muscles while protecting joints. Many exercises can be adapted to low or no impact. Class is appropriate for all fitness levels. Ability to swim is not necessary\, but you should be comfortable in shallow water.\nFREE!\nInstructor – Roxane
URL:https://umaine.edu/campusrecreation/event/splash-hiit-free-197/
LOCATION:Pool
GEO:-3.7762628;14.8454619
END:VEVENT
BEGIN:VEVENT
DTSTART;TZID=America/New_York:20260304T060000
DTEND;TZID=America/New_York:20260304T070000
DTSTAMP:20260421T005505
CREATED:20260119T145025Z
LAST-MODIFIED:20260122T173756Z
UID:10006325-1772604000-1772607600@umaine.edu
SUMMARY:Splash HIIT (FREE)
DESCRIPTION:Pool exercise is safe\, fun\, and can be intense\, too! This 50- minute class uses a variety of pool equipment\, the vortex\, and music to splash your way through a high intensity interval training-cardio workout. Working vertically in the water challenges muscles while protecting joints. Many exercises can be adapted to low or no impact. Class is appropriate for all fitness levels. Ability to swim is not necessary\, but you should be comfortable in shallow water.\nFREE!\nInstructor – Roxane
URL:https://umaine.edu/campusrecreation/event/splash-hiit-free-196/
LOCATION:Pool
GEO:-3.7762628;14.8454619
END:VEVENT
BEGIN:VEVENT
DTSTART;TZID=America/New_York:20260302T060000
DTEND;TZID=America/New_York:20260302T070000
DTSTAMP:20260421T005505
CREATED:20260119T145018Z
LAST-MODIFIED:20260122T174505Z
UID:10006313-1772431200-1772434800@umaine.edu
SUMMARY:Splash HIIT (FREE)
DESCRIPTION:Pool exercise is safe\, fun\, and can be intense\, too! This 50- minute class uses a variety of pool equipment\, the vortex\, and music to splash your way through a high intensity interval training-cardio workout. Working vertically in the water challenges muscles while protecting joints. Many exercises can be adapted to low or no impact. Class is appropriate for all fitness levels. Ability to swim is not necessary\, but you should be comfortable in shallow water.\nFREE!\nInstructor – Roxane
URL:https://umaine.edu/campusrecreation/event/splash-hiit-free-195/
LOCATION:Pool
GEO:-3.7762628;14.8454619
END:VEVENT
BEGIN:VEVENT
DTSTART;TZID=America/New_York:20260227T060000
DTEND;TZID=America/New_York:20260227T070000
DTSTAMP:20260421T005505
CREATED:20260119T145017Z
LAST-MODIFIED:20260122T174515Z
UID:10006312-1772172000-1772175600@umaine.edu
SUMMARY:Splash HIIT (FREE)
DESCRIPTION:Pool exercise is safe\, fun\, and can be intense\, too! This 50- minute class uses a variety of pool equipment\, the vortex\, and music to splash your way through a high intensity interval training-cardio workout. Working vertically in the water challenges muscles while protecting joints. Many exercises can be adapted to low or no impact. Class is appropriate for all fitness levels. Ability to swim is not necessary\, but you should be comfortable in shallow water.\nFREE!\nInstructor – Roxane
URL:https://umaine.edu/campusrecreation/event/splash-hiit-free-194/
LOCATION:Pool
GEO:-3.7762628;14.8454619
END:VEVENT
BEGIN:VEVENT
DTSTART;TZID=America/New_York:20260225T060000
DTEND;TZID=America/New_York:20260225T070000
DTSTAMP:20260421T005505
CREATED:20260119T145012Z
LAST-MODIFIED:20260122T174556Z
UID:10006303-1771999200-1772002800@umaine.edu
SUMMARY:Splash HIIT (FREE)
DESCRIPTION:Pool exercise is safe\, fun\, and can be intense\, too! This 50- minute class uses a variety of pool equipment\, the vortex\, and music to splash your way through a high intensity interval training-cardio workout. Working vertically in the water challenges muscles while protecting joints. Many exercises can be adapted to low or no impact. Class is appropriate for all fitness levels. Ability to swim is not necessary\, but you should be comfortable in shallow water.\nFREE!\nInstructor – Roxane
URL:https://umaine.edu/campusrecreation/event/splash-hiit-free-193/
LOCATION:Pool
GEO:-3.7762628;14.8454619
END:VEVENT
BEGIN:VEVENT
DTSTART;TZID=America/New_York:20260223T060000
DTEND;TZID=America/New_York:20260223T070000
DTSTAMP:20260421T005505
CREATED:20260119T145005Z
LAST-MODIFIED:20260122T174630Z
UID:10006292-1771826400-1771830000@umaine.edu
SUMMARY:Splash HIIT (FREE)
DESCRIPTION:Pool exercise is safe\, fun\, and can be intense\, too! This 50- minute class uses a variety of pool equipment\, the vortex\, and music to splash your way through a high intensity interval training-cardio workout. Working vertically in the water challenges muscles while protecting joints. Many exercises can be adapted to low or no impact. Class is appropriate for all fitness levels. Ability to swim is not necessary\, but you should be comfortable in shallow water.\nFREE!\nInstructor – Roxane
URL:https://umaine.edu/campusrecreation/event/splash-hiit-free-192/
LOCATION:Pool
GEO:-3.7762628;14.8454619
END:VEVENT
BEGIN:VEVENT
DTSTART;TZID=America/New_York:20260220T060000
DTEND;TZID=America/New_York:20260220T070000
DTSTAMP:20260421T005505
CREATED:20260119T145005Z
LAST-MODIFIED:20260122T174637Z
UID:10006290-1771567200-1771570800@umaine.edu
SUMMARY:Splash HIIT (FREE)
DESCRIPTION:Pool exercise is safe\, fun\, and can be intense\, too! This 50- minute class uses a variety of pool equipment\, the vortex\, and music to splash your way through a high intensity interval training-cardio workout. Working vertically in the water challenges muscles while protecting joints. Many exercises can be adapted to low or no impact. Class is appropriate for all fitness levels. Ability to swim is not necessary\, but you should be comfortable in shallow water.\nFREE!\nInstructor – Roxane
URL:https://umaine.edu/campusrecreation/event/splash-hiit-free-191/
LOCATION:Pool
GEO:-3.7762628;14.8454619
END:VEVENT
BEGIN:VEVENT
DTSTART;TZID=America/New_York:20260218T060000
DTEND;TZID=America/New_York:20260218T070000
DTSTAMP:20260421T005505
CREATED:20260119T145002Z
LAST-MODIFIED:20260122T174711Z
UID:10006280-1771394400-1771398000@umaine.edu
SUMMARY:Splash HIIT (FREE)
DESCRIPTION:Pool exercise is safe\, fun\, and can be intense\, too! This 50- minute class uses a variety of pool equipment\, the vortex\, and music to splash your way through a high intensity interval training-cardio workout. Working vertically in the water challenges muscles while protecting joints. Many exercises can be adapted to low or no impact. Class is appropriate for all fitness levels. Ability to swim is not necessary\, but you should be comfortable in shallow water.\nFREE!\nInstructor – Roxane
URL:https://umaine.edu/campusrecreation/event/splash-hiit-free-190/
LOCATION:Pool
GEO:-3.7762628;14.8454619
END:VEVENT
BEGIN:VEVENT
DTSTART;TZID=America/New_York:20260216T060000
DTEND;TZID=America/New_York:20260216T070000
DTSTAMP:20260421T005505
CREATED:20260119T144959Z
LAST-MODIFIED:20260122T174801Z
UID:10006269-1771221600-1771225200@umaine.edu
SUMMARY:Splash HIIT (FREE)
DESCRIPTION:Pool exercise is safe\, fun\, and can be intense\, too! This 50- minute class uses a variety of pool equipment\, the vortex\, and music to splash your way through a high intensity interval training-cardio workout. Working vertically in the water challenges muscles while protecting joints. Many exercises can be adapted to low or no impact. Class is appropriate for all fitness levels. Ability to swim is not necessary\, but you should be comfortable in shallow water.\nFREE!\nInstructor – Roxane
URL:https://umaine.edu/campusrecreation/event/splash-hiit-free-189/
LOCATION:Pool
GEO:-3.7762628;14.8454619
END:VEVENT
BEGIN:VEVENT
DTSTART;TZID=America/New_York:20260213T060000
DTEND;TZID=America/New_York:20260213T070000
DTSTAMP:20260421T005505
CREATED:20260119T144959Z
LAST-MODIFIED:20260122T174808Z
UID:10006267-1770962400-1770966000@umaine.edu
SUMMARY:Splash HIIT (FREE)
DESCRIPTION:Pool exercise is safe\, fun\, and can be intense\, too! This 50- minute class uses a variety of pool equipment\, the vortex\, and music to splash your way through a high intensity interval training-cardio workout. Working vertically in the water challenges muscles while protecting joints. Many exercises can be adapted to low or no impact. Class is appropriate for all fitness levels. Ability to swim is not necessary\, but you should be comfortable in shallow water.\nFREE!\nInstructor – Roxane
URL:https://umaine.edu/campusrecreation/event/splash-hiit-free-188/
LOCATION:Pool
GEO:-3.7762628;14.8454619
END:VEVENT
BEGIN:VEVENT
DTSTART;TZID=America/New_York:20260211T060000
DTEND;TZID=America/New_York:20260211T070000
DTSTAMP:20260421T005505
CREATED:20260119T144956Z
LAST-MODIFIED:20260122T174859Z
UID:10006258-1770789600-1770793200@umaine.edu
SUMMARY:Splash HIIT (FREE)
DESCRIPTION:Pool exercise is safe\, fun\, and can be intense\, too! This 50- minute class uses a variety of pool equipment\, the vortex\, and music to splash your way through a high intensity interval training-cardio workout. Working vertically in the water challenges muscles while protecting joints. Many exercises can be adapted to low or no impact. Class is appropriate for all fitness levels. Ability to swim is not necessary\, but you should be comfortable in shallow water.\nFREE!\nInstructor – Roxane
URL:https://umaine.edu/campusrecreation/event/splash-hiit-free-187/
LOCATION:Pool
GEO:-3.7762628;14.8454619
END:VEVENT
BEGIN:VEVENT
DTSTART;TZID=America/New_York:20260209T060000
DTEND;TZID=America/New_York:20260209T070000
DTSTAMP:20260421T005505
CREATED:20260119T144954Z
LAST-MODIFIED:20260122T174955Z
UID:10006248-1770616800-1770620400@umaine.edu
SUMMARY:Splash HIIT (FREE)
DESCRIPTION:Pool exercise is safe\, fun\, and can be intense\, too! This 50- minute class uses a variety of pool equipment\, the vortex\, and music to splash your way through a high intensity interval training-cardio workout. Working vertically in the water challenges muscles while protecting joints. Many exercises can be adapted to low or no impact. Class is appropriate for all fitness levels. Ability to swim is not necessary\, but you should be comfortable in shallow water.\nFREE!\nInstructor – Roxane
URL:https://umaine.edu/campusrecreation/event/splash-hiit-free-186/
LOCATION:Pool
GEO:-3.7762628;14.8454619
END:VEVENT
END:VCALENDAR