BEGIN:VCALENDAR
VERSION:2.0
PRODID:-//UMaine Calendar - ECPv6.15.17.1//NONSGML v1.0//EN
CALSCALE:GREGORIAN
METHOD:PUBLISH
X-ORIGINAL-URL:https://umaine.edu/calendar
X-WR-CALDESC:Events for UMaine Calendar
REFRESH-INTERVAL;VALUE=DURATION:PT1H
X-Robots-Tag:noindex
X-PUBLISHED-TTL:PT1H
BEGIN:VTIMEZONE
TZID:America/New_York
BEGIN:DAYLIGHT
TZOFFSETFROM:-0500
TZOFFSETTO:-0400
TZNAME:EDT
DTSTART:20250309T070000
END:DAYLIGHT
BEGIN:STANDARD
TZOFFSETFROM:-0400
TZOFFSETTO:-0500
TZNAME:EST
DTSTART:20251102T060000
END:STANDARD
BEGIN:DAYLIGHT
TZOFFSETFROM:-0500
TZOFFSETTO:-0400
TZNAME:EDT
DTSTART:20260308T070000
END:DAYLIGHT
BEGIN:STANDARD
TZOFFSETFROM:-0400
TZOFFSETTO:-0500
TZNAME:EST
DTSTART:20261101T060000
END:STANDARD
BEGIN:DAYLIGHT
TZOFFSETFROM:-0500
TZOFFSETTO:-0400
TZNAME:EDT
DTSTART:20270314T070000
END:DAYLIGHT
BEGIN:STANDARD
TZOFFSETFROM:-0400
TZOFFSETTO:-0500
TZNAME:EST
DTSTART:20271107T060000
END:STANDARD
END:VTIMEZONE
BEGIN:VEVENT
DTSTART;TZID=America/New_York:20260427T120000
DTEND;TZID=America/New_York:20260427T150000
DTSTAMP:20260424T200330
CREATED:20260413T144538Z
LAST-MODIFIED:20260413T144538Z
UID:10008038-1777291200-1777302000@umaine.edu
SUMMARY:Dissertation Defense: Gianna DeJoy
DESCRIPTION:Gianna DeJoy\, a candidate for the Doctor of Philosophy in Anthropology and Environmental Policy\, will be defending her dissertation titled\, “Future care: Mapping maternity care\, disaster\, and the forces of reproduction in the northeastern borderlands.”
URL:https://umaine.edu/calendar/event/dissertation-defense-gianna-dejoy/
LOCATION:Stevens Hall\, 168 College Ave\, Orono\, ME\, 04469
CATEGORIES:Student Activities
END:VEVENT
END:VCALENDAR