BEGIN:VCALENDAR
VERSION:2.0
PRODID:-//UMaine Calendar - ECPv6.15.17.1//NONSGML v1.0//EN
CALSCALE:GREGORIAN
METHOD:PUBLISH
X-WR-CALNAME:UMaine Calendar
X-ORIGINAL-URL:https://umaine.edu/calendar
X-WR-CALDESC:Events for UMaine Calendar
REFRESH-INTERVAL;VALUE=DURATION:PT1H
X-Robots-Tag:noindex
X-PUBLISHED-TTL:PT1H
BEGIN:VTIMEZONE
TZID:America/New_York
BEGIN:DAYLIGHT
TZOFFSETFROM:-0500
TZOFFSETTO:-0400
TZNAME:EDT
DTSTART:20250309T070000
END:DAYLIGHT
BEGIN:STANDARD
TZOFFSETFROM:-0400
TZOFFSETTO:-0500
TZNAME:EST
DTSTART:20251102T060000
END:STANDARD
BEGIN:DAYLIGHT
TZOFFSETFROM:-0500
TZOFFSETTO:-0400
TZNAME:EDT
DTSTART:20260308T070000
END:DAYLIGHT
BEGIN:STANDARD
TZOFFSETFROM:-0400
TZOFFSETTO:-0500
TZNAME:EST
DTSTART:20261101T060000
END:STANDARD
BEGIN:DAYLIGHT
TZOFFSETFROM:-0500
TZOFFSETTO:-0400
TZNAME:EDT
DTSTART:20270314T070000
END:DAYLIGHT
BEGIN:STANDARD
TZOFFSETFROM:-0400
TZOFFSETTO:-0500
TZNAME:EST
DTSTART:20271107T060000
END:STANDARD
END:VTIMEZONE
BEGIN:VEVENT
DTSTART;TZID=America/New_York:20260427T173000
DTEND;TZID=America/New_York:20260427T193000
DTSTAMP:20260423T230241
CREATED:20260325T130427Z
LAST-MODIFIED:20260325T130427Z
UID:10007097-1777311000-1777318200@umaine.edu
SUMMARY:Tractor Safety Certification Course - Turner
DESCRIPTION:This 5-week course starts on April 27th at SR1 Equipment in Turner\, ME. \nParticipants will learn how to handle tractors and equipment safely\, how to identify hazards\, and how to minimize the chances of accidents. The course is open to all adults and youth interested. A Federal Certificate of Training will be issued at the end of the course after successful completion of the written test and driving course and with attendance requirements met. This certificate is required for 14 and 15 year olds who plan to operate farm equipment for hire on farms other than their own. \nFormat: \n\nIn-person lectures\, hands-on demonstrations\, and tractor driving.\nAdditional reading and coursework outside of class time. Note: participants will need access to a computer\, tablet\, or smartphone to complete some homework assignments.\nFinal written exam and driving test\n\nTextbook: National Safety Tractor and Machinery Operation Program manual\, free with registration \nSchedule: Class meets from 5:30pm to 7:30pm on the dates below. \n\n04/27/2026\n05/4/2026\n05/11/2026\n05/18/2026\n5/25/2026 (Final Exam)\n06/01/2026 (Rain Date)\n\nRegister for Turner Tractor Safety here.
URL:https://umaine.edu/calendar/event/tractor-safety-certification-course-turner/
LOCATION:SR1 Equipment\, 2239B Auburn Rd\, Turner\, ME\, United States
CATEGORIES:Conferences & Workshops
ORGANIZER;CN="UMaine Cooperative Extension":MAILTO:extension@maine.edu
END:VEVENT
END:VCALENDAR