BEGIN:VCALENDAR
VERSION:2.0
PRODID:-//UMaine Calendar - ECPv6.15.17.1//NONSGML v1.0//EN
CALSCALE:GREGORIAN
METHOD:PUBLISH
X-WR-CALNAME:UMaine Calendar
X-ORIGINAL-URL:https://umaine.edu/calendar
X-WR-CALDESC:Events for UMaine Calendar
REFRESH-INTERVAL;VALUE=DURATION:PT1H
X-Robots-Tag:noindex
X-PUBLISHED-TTL:PT1H
BEGIN:VTIMEZONE
TZID:America/New_York
BEGIN:DAYLIGHT
TZOFFSETFROM:-0500
TZOFFSETTO:-0400
TZNAME:EDT
DTSTART:20250309T070000
END:DAYLIGHT
BEGIN:STANDARD
TZOFFSETFROM:-0400
TZOFFSETTO:-0500
TZNAME:EST
DTSTART:20251102T060000
END:STANDARD
BEGIN:DAYLIGHT
TZOFFSETFROM:-0500
TZOFFSETTO:-0400
TZNAME:EDT
DTSTART:20260308T070000
END:DAYLIGHT
BEGIN:STANDARD
TZOFFSETFROM:-0400
TZOFFSETTO:-0500
TZNAME:EST
DTSTART:20261101T060000
END:STANDARD
BEGIN:DAYLIGHT
TZOFFSETFROM:-0500
TZOFFSETTO:-0400
TZNAME:EDT
DTSTART:20270314T070000
END:DAYLIGHT
BEGIN:STANDARD
TZOFFSETFROM:-0400
TZOFFSETTO:-0500
TZNAME:EST
DTSTART:20271107T060000
END:STANDARD
END:VTIMEZONE
BEGIN:VEVENT
DTSTART;TZID=America/New_York:20260424T140000
DTEND;TZID=America/New_York:20260424T170000
DTSTAMP:20260420T211343
CREATED:20260402T124609Z
LAST-MODIFIED:20260402T124609Z
UID:10007947-1777039200-1777050000@umaine.edu
SUMMARY:Dissertation Defense: Kimberly Hunt
DESCRIPTION:Kimberly Hunt\, a candidate for a Doctor of Philosophy in Interdisciplinary PhD\, will be defending her dissertation titled\, “The Musical Art of Alexander Siloti.”
URL:https://umaine.edu/calendar/event/dissertation-defense-kimberly-hunt/
LOCATION:Minsky Recital Hall\, University of Maine\, Orono\, ME\, 04469\, United States
GEO:44.897732;-68.6687076
X-APPLE-STRUCTURED-LOCATION;VALUE=URI;X-ADDRESS=Minsky Recital Hall University of Maine Orono ME 04469 United States;X-APPLE-RADIUS=500;X-TITLE=University of Maine:geo:-68.6687076,44.897732
END:VEVENT
END:VCALENDAR