BEGIN:VCALENDAR
VERSION:2.0
PRODID:-//UMaine Calendar - ECPv6.15.17.1//NONSGML v1.0//EN
CALSCALE:GREGORIAN
METHOD:PUBLISH
X-ORIGINAL-URL:https://umaine.edu/calendar
X-WR-CALDESC:Events for UMaine Calendar
REFRESH-INTERVAL;VALUE=DURATION:PT1H
X-Robots-Tag:noindex
X-PUBLISHED-TTL:PT1H
BEGIN:VTIMEZONE
TZID:America/New_York
BEGIN:DAYLIGHT
TZOFFSETFROM:-0500
TZOFFSETTO:-0400
TZNAME:EDT
DTSTART:20250309T070000
END:DAYLIGHT
BEGIN:STANDARD
TZOFFSETFROM:-0400
TZOFFSETTO:-0500
TZNAME:EST
DTSTART:20251102T060000
END:STANDARD
BEGIN:DAYLIGHT
TZOFFSETFROM:-0500
TZOFFSETTO:-0400
TZNAME:EDT
DTSTART:20260308T070000
END:DAYLIGHT
BEGIN:STANDARD
TZOFFSETFROM:-0400
TZOFFSETTO:-0500
TZNAME:EST
DTSTART:20261101T060000
END:STANDARD
BEGIN:DAYLIGHT
TZOFFSETFROM:-0500
TZOFFSETTO:-0400
TZNAME:EDT
DTSTART:20270314T070000
END:DAYLIGHT
BEGIN:STANDARD
TZOFFSETFROM:-0400
TZOFFSETTO:-0500
TZNAME:EST
DTSTART:20271107T060000
END:STANDARD
END:VTIMEZONE
BEGIN:VEVENT
DTSTART;TZID=America/New_York:20260419T000000
DTEND;TZID=America/New_York:20260421T235959
DTSTAMP:20260420T223353
CREATED:20260325T132631Z
LAST-MODIFIED:20260325T132631Z
UID:10007108-1776556800-1776815999@umaine.edu
SUMMARY:Maine 4-H Agriculture Symposium
DESCRIPTION:The 5th annual 4-H Agriculture Symposium is an overnight experience for Maine youth ages 13-18. Participants will take part in hands-on learning opportunities\, engage with industry professionals on the University of Maine Orono campus\, develop leadership skills\, and make friendships with teens from around the state. \nYouth will participate in interactive learning experiences like blueberry research\, animal science\, engineering challenge\, industry panel and so much more. \nCurrent 4-H membership is not required. Assistance with transportation may be available upon request. \nTo help offset the cost of meals\, lodging\, and transportation for this inclusive 2-night\, 3-day event we are asking for a $40 registration fee. For families with multiple children attending the program\, there is a total fee of $50 per family. \nRegister for the 4-H Agriculture Symposium here. 
URL:https://umaine.edu/calendar/event/maine-4-h-agriculture-symposium/
LOCATION:University of Maine Orono
CATEGORIES:Conferences & Workshops
ORGANIZER;CN="UMaine Cooperative Extension":MAILTO:extension@maine.edu
END:VEVENT
BEGIN:VEVENT
DTSTART;TZID=America/New_York:20260420T010000
DTEND;TZID=America/New_York:20260420T160000
DTSTAMP:20260420T223353
CREATED:20260327T184635Z
LAST-MODIFIED:20260327T184635Z
UID:10007351-1776646800-1776700800@umaine.edu
SUMMARY:Dissertation Defense: Savannah Clark
DESCRIPTION:Savannah Clark\, a candidate for the Doctor of Philosophy in History\, will be defending her dissertation titled\, “Letters from Home: Northern New England Women and the American Civil War.” \nFor zoom link and password\, please contact the student at: savannah.clark@maine.edu
URL:https://umaine.edu/calendar/event/dissertation-defense-savannah-clark/
LOCATION:Stevens Hall\, 168 College Ave\, Orono\, ME\, 04469
CATEGORIES:Online Events
END:VEVENT
BEGIN:VEVENT
DTSTART;TZID=America/New_York:20260420T090000
DTEND;TZID=America/New_York:20260420T160000
DTSTAMP:20260420T223353
CREATED:20260312T130921Z
LAST-MODIFIED:20260326T193800Z
UID:10006940-1776675600-1776700800@umaine.edu
SUMMARY:2026 Student Exhibition in Lord Hall Gallery
DESCRIPTION:Lord Hall Gallery is proud to host the Department of Art’s 2026 Student Exhibition. This show celebrates the diverse artwork made by students at the University of Maine who have taken undergraduate courses in the Department of Art. The Department of Art offers foundational studies in 2D Design\, 3D Design\, and Drawing\, as well as media-specific classes in Painting\, Ceramics\, Photography\, Printmaking\, Digital Art\, Graphic Design\, Drawing\, and Sculpture. More information about the Department is available here:umaine.edu/las/art. \nStudents who were enrolled in an Art class in Fall 2025 and Spring 2026 had the opportunity to submit up to six pieces for consideration in this juried exhibition. This year’s juror is Rochelle Lawrence. Lawrence is an artist and serves as the Assistant Curator and Education Coordinator at the Zillman Art Museum. \nThe exhibition runs from April 6th through May 1st. A public reception will be held on Friday April 10th from 5:00-7:00pm. During the reception\, selected students will be honored with awards. This event is free and open to the public; all are warmly welcomed to attend and refreshments will be served. \nLord Hall Gallery is free\, accessible\, and open to the public Monday-Friday from 9am-4pm. Please direct all questions to Diana Baumbach\, Director of Galleries:\ndiana.baumbach@maine.edu \ninstagram.com/umaine_lordhallgallery\numaine.edu/las/art/#gallery
URL:https://umaine.edu/calendar/event/2026-student-exhibition-in-lord-hall-gallery/2026-04-20/
LOCATION:Lord Hall Gallery\, Lord Hall\, University of Maine\, Orono\, ME\, 04469\, United States
CATEGORIES:Arts
ORGANIZER;CN="Department of Art":MAILTO:um.art@maine.edu
GEO:44.9006914;-68.6705776
X-APPLE-STRUCTURED-LOCATION;VALUE=URI;X-ADDRESS=Lord Hall Gallery Lord Hall University of Maine Orono ME 04469 United States;X-APPLE-RADIUS=500;X-TITLE=Lord Hall\, University of Maine:geo:-68.6705776,44.9006914
END:VEVENT
BEGIN:VEVENT
DTSTART;TZID=America/New_York:20260420T120000
DTEND;TZID=America/New_York:20260420T150000
DTSTAMP:20260420T223353
CREATED:20260413T144652Z
LAST-MODIFIED:20260413T144652Z
UID:10008041-1776686400-1776697200@umaine.edu
SUMMARY:Dissertation Defense: Harrison Goldspiel
DESCRIPTION:Harrison Goldspiel\, a candidate for the Doctor of Philosophy in Ecology and Environmental Science\, will be defending his dissertation titled\, “Conservation Capacity Building for Cryptic Ecosystems: Expanding the Toolbox for Vernal Pool Communities.”
URL:https://umaine.edu/calendar/event/dissertation-defense-harrison-goldspiel/
LOCATION:Nutting Hall\, 201 Nutting Hall
CATEGORIES:Student Activities
GEO:44.897732;-68.6687076
X-APPLE-STRUCTURED-LOCATION;VALUE=URI;X-ADDRESS=Nutting Hall 201 Nutting Hall;X-APPLE-RADIUS=500;X-TITLE=201 Nutting Hall:geo:-68.6687076,44.897732
END:VEVENT
BEGIN:VEVENT
DTSTART;TZID=America/New_York:20260420T130000
DTEND;TZID=America/New_York:20260420T160000
DTSTAMP:20260420T223353
CREATED:20260413T162132Z
LAST-MODIFIED:20260413T162132Z
UID:10008050-1776690000-1776700800@umaine.edu
SUMMARY:Dissertation Defense: Mamoona Raheem\,
DESCRIPTION:Mamoona Raheem\, a candidate for the Doctor of Philosophy in Chemistry\, will be defending her dissertation titled\,” DEVELOPMENT OF NOVEL FOOD PACKAGING PRODUCTS USING LIGNOCELLULOSIC MATERIALS AND POST SURFACE MODIFICATION TO IMPROVE THE BARRIER PERFORMANCE .”\nFor Zoom link and password\, please contact the student at mamoona.raheem@maine.edu.
URL:https://umaine.edu/calendar/event/dissertation-defense-mamoona-raheem/
LOCATION:Barrows Hall\, University of Maine\, Orono\, ME\, 04469\, United States
CATEGORIES:Student Activities
GEO:44.897732;-68.6687076
X-APPLE-STRUCTURED-LOCATION;VALUE=URI;X-ADDRESS=Barrows Hall University of Maine Orono ME 04469 United States;X-APPLE-RADIUS=500;X-TITLE=University of Maine:geo:-68.6687076,44.897732
END:VEVENT
BEGIN:VEVENT
DTSTART;TZID=America/New_York:20260420T140000
DTEND;TZID=America/New_York:20260420T150000
DTSTAMP:20260420T223353
CREATED:20260416T161039Z
LAST-MODIFIED:20260416T161039Z
UID:10008104-1776693600-1776697200@umaine.edu
SUMMARY:3-2-1 Liftoff!
DESCRIPTION:Elon the hamster loves science and doing experiments\, which often fail in practice. One day Elon hears a crash. In his garden\, he finds a crater with a damaged robot named 8 of 12 inside. How did it get here? Elon fixes the robot and finds out that he fell from a spaceship. Does Elon have the courage and wits you needed to go into space and back? Find out in 3-2-1 Liftoff! \n  \n\n  \nTickets for planetarium programs are $7 for Adults\, $6 for UMaine Students/Veterans/Senior Citizens\, and $5 for children under 12. Click here to view our calendar. \nTickets may be purchased online\, by phone at 207.581.1341\, or at our ticket box office prior to the show.
URL:https://umaine.edu/calendar/event/3-2-1-liftoff/
LOCATION:Versant Power Astronomy Center\, 167 Rangeley Rd.\, Orono\, ME\, 04469\, United States
CATEGORIES:Arts,Public Programs and Shows,Versant Astronomy Center
GEO:44.9035764;-68.6610809
X-APPLE-STRUCTURED-LOCATION;VALUE=URI;X-ADDRESS=Versant Power Astronomy Center 167 Rangeley Rd. Orono ME 04469 United States;X-APPLE-RADIUS=500;X-TITLE=167 Rangeley Rd.:geo:-68.6610809,44.9035764
END:VEVENT
BEGIN:VEVENT
DTSTART;TZID=America/New_York:20260420T150000
DTEND;TZID=America/New_York:20260420T160000
DTSTAMP:20260420T223353
CREATED:20260130T160211Z
LAST-MODIFIED:20260130T160211Z
UID:10005323-1776697200-1776700800@umaine.edu
SUMMARY:Talk – No More Wasted Food by 2030? Maine’s K-12 Schools Are Proving It’s Possible
DESCRIPTION:Speaker: William Brenneman\, University of Maine Graduate Student\, Anthropology and Environmental Policy \nThe State of Maine has recently recognized wasted food reduction as a crucial climate change mitigation strategy. The passage of LD 1065 will require Maine’s large food waste generators—like schools\, hospitals\, and grocery stores—to minimize wasted food through recycling and redistribution by 2030. In advance of this legislation\, our UMaine team has been working with several Maine school districts to both reduce wasted food and improve student nutrition. Through coverage of our successful infrastructural and educational interventions to reduce wasted food in Maine schools\, as well as our new “No More Wasted Food” DIY Toolkit distributed by the Maine Dept. of Education – Child Nutrition to help reduce wasted food in Maine schools\, and our latest research into the beliefs and attitudes of Maine students as it relates to their wasted food behavior\, this talk makes the case that Maine schools are well prepared to meet the legislature’s challenge. \nWilliam Brenneman is a MA student at the University of Maine studying anthropology and environmental policy. William joined the Mitchell Center in the fall of 2024 as a graduate research assistant where he and Faculty Fellow Susanne Lee led the 2025 Maine School Cafeteria Wasted Food Study and the Maine School Cafeteria “No More Wasted Food” DIY Toolkit. Elsewhere\, William has conducted research into food and nutrition education initiatives and models for circularity in food packaging.
URL:https://umaine.edu/calendar/event/talk-no-more-wasted-food-by-2030-maines-k-12-schools-are-proving-its-possible/
LOCATION:Mitchell Center for Sustainability Solutions\, Norman Smith Hall University of Maine\, Orono\, United States
CATEGORIES:Lectures & Seminars,Online Events
ORGANIZER;CN="Senator George J. Mitchell Center for Sustainability Solutions":MAILTO:umgmc@maine.edu
END:VEVENT
BEGIN:VEVENT
DTSTART;TZID=America/New_York:20260420T150000
DTEND;TZID=America/New_York:20260420T160000
DTSTAMP:20260420T223353
CREATED:20260403T171242Z
LAST-MODIFIED:20260403T171242Z
UID:10007957-1776697200-1776700800@umaine.edu
SUMMARY:Thesis Defense: Samuel Chistolini
DESCRIPTION:Samuel Chistolini\, a candidate for the Master of Arts in Mathematics will be defending his thesis on Monday\, April 20\, 2026 at 3:00pm in Neville 421. \nMore information to come.
URL:https://umaine.edu/calendar/event/thesis-defense-samuel-chistolini/
LOCATION:Neville Hall\, University of Maine\, Orono\, ME\, 04469\, United States
CATEGORIES:Lectures & Seminars
ORGANIZER;CN="Department of Mathematics & Statistics":MAILTO:mathstats@maine.edu
GEO:44.897732;-68.6687076
X-APPLE-STRUCTURED-LOCATION;VALUE=URI;X-ADDRESS=Neville Hall University of Maine Orono ME 04469 United States;X-APPLE-RADIUS=500;X-TITLE=University of Maine:geo:-68.6687076,44.897732
END:VEVENT
BEGIN:VEVENT
DTSTART;TZID=America/New_York:20260420T150000
DTEND;TZID=America/New_York:20260420T180000
DTSTAMP:20260420T223353
CREATED:20260413T165421Z
LAST-MODIFIED:20260413T165421Z
UID:10008058-1776697200-1776708000@umaine.edu
SUMMARY:Thesis Defense: Samuel Chistolini
DESCRIPTION:Samuel Chistolini\, a candidate for the Master of Arts in Mathematics\, will be defending his dissertation titled\, “Bessel functions on GSp(4\,ℝ).” \nFor zoom link and password\, please contact the student at samuel.chistolini@maine.edu.
URL:https://umaine.edu/calendar/event/thesis-defense-samuel-chistolini-2/
LOCATION:Neville Hall\, University of Maine\, Orono\, ME\, 04469\, United States
CATEGORIES:Student Activities
GEO:44.897732;-68.6687076
X-APPLE-STRUCTURED-LOCATION;VALUE=URI;X-ADDRESS=Neville Hall University of Maine Orono ME 04469 United States;X-APPLE-RADIUS=500;X-TITLE=University of Maine:geo:-68.6687076,44.897732
END:VEVENT
BEGIN:VEVENT
DTSTART;TZID=America/New_York:20260420T163000
DTEND;TZID=America/New_York:20260420T193000
DTSTAMP:20260420T223353
CREATED:20260305T195619Z
LAST-MODIFIED:20260305T195750Z
UID:10006808-1776702600-1776713400@umaine.edu
SUMMARY:Dissertation Defense: Janet Hicks
DESCRIPTION:Janet Hicks\, a candidate for the Doctor of Education degree in Educational Leadership\, will be defending her thesis titled “’I Just Felt Like I Could Be Me’: A Participatory Study with Minoritized Students of Belonging in a Rural School.” \nPlease contact janet.hicks@maine.edu for the Zoom link.
URL:https://umaine.edu/calendar/event/dissertation-defense-janet-hicks/
LOCATION:Zoom Web Conferencing
CATEGORIES:Online Events,Student Activities
END:VEVENT
BEGIN:VEVENT
DTSTART;TZID=America/New_York:20260420T170000
DTEND;TZID=America/New_York:20260420T190000
DTSTAMP:20260420T223353
CREATED:20260116T212432Z
LAST-MODIFIED:20260116T212432Z
UID:10004106-1776704400-1776711600@umaine.edu
SUMMARY:Marx's Theory of Labor
DESCRIPTION:Michael Denning from Yale University (Howard B. Schonberger Peace and Social Justice Lecture) presents\, “Marx’s Theroy of Labor.” This event includes a 5:00pm reception with a talk and discussion to follow at 5:30. \nThe History Department Symposium Series is Supported in part by a Grant from the Cultural Affairs/Distinguished Lecture Series Fund.
URL:https://umaine.edu/calendar/event/marxs-theory-of-labor/
LOCATION:Bangor Room\, Memorial Union\, University of Maine\, Orono\, ME\, 04469\, United States
CATEGORIES:Lectures & Seminars
GEO:44.897732;-68.6687076
X-APPLE-STRUCTURED-LOCATION;VALUE=URI;X-ADDRESS=Bangor Room Memorial Union University of Maine Orono ME 04469 United States;X-APPLE-RADIUS=500;X-TITLE=University of Maine:geo:-68.6687076,44.897732
END:VEVENT
BEGIN:VEVENT
DTSTART;TZID=America/New_York:20260420T180000
DTEND;TZID=America/New_York:20260420T190000
DTSTAMP:20260420T223353
CREATED:20260130T181417Z
LAST-MODIFIED:20260326T200231Z
UID:10005335-1776708000-1776711600@umaine.edu
SUMMARY:Melissa Wilkinson Artist Talk
DESCRIPTION:Please join the Department of Art for a talk by visiting artist Melissa Wilkinson on April 20th at 6:00pm in Lord Hall 100. \nFor the last 24 years Melissa Wilkinson has worked as an artist and academic\, teaching at various academic institutions and workshops throughout the country. Her work has been featured in wide reaching publications throughout the country including three editions of New American Paintings\, The Curator’s Salon\, The Journal for Black Mountain College Studies\, and The Manifest Drawing Annual four times. She has shown in various galleries nationally and internationally including South Korea\, Canada\, India\, and Art Basel Miami and has won numerous awards throughout her career. She has won several fellowships and grants including the Arkansas Arts Council Fellowship in Painting in 2012\, a Middle East Studies Grant to create an image archive in Israel in 2016\, and a National Women in the Arts Grant to do the same at the Smithsonian in 2019. Melissa currently serves as Assistant Professor of Art-Painting at SUNY New Paltz. \nMore information about Melissa can be found on her website: https://www.melissawilkinson.net/
URL:https://umaine.edu/calendar/event/melissa-wilkinson-artist-talk/
LOCATION:Lord Hall Gallery\, Lord Hall\, University of Maine\, Orono\, ME\, 04469\, United States
CATEGORIES:Arts
ORGANIZER;CN="Department of Art":MAILTO:um.art@maine.edu
GEO:44.9006914;-68.6705776
X-APPLE-STRUCTURED-LOCATION;VALUE=URI;X-ADDRESS=Lord Hall Gallery Lord Hall University of Maine Orono ME 04469 United States;X-APPLE-RADIUS=500;X-TITLE=Lord Hall\, University of Maine:geo:-68.6705776,44.9006914
END:VEVENT
END:VCALENDAR