BEGIN:VCALENDAR
VERSION:2.0
PRODID:-//UMaine Calendar - ECPv6.15.17.1//NONSGML v1.0//EN
CALSCALE:GREGORIAN
METHOD:PUBLISH
X-WR-CALNAME:UMaine Calendar
X-ORIGINAL-URL:https://umaine.edu/calendar
X-WR-CALDESC:Events for UMaine Calendar
REFRESH-INTERVAL;VALUE=DURATION:PT1H
X-Robots-Tag:noindex
X-PUBLISHED-TTL:PT1H
BEGIN:VTIMEZONE
TZID:America/New_York
BEGIN:DAYLIGHT
TZOFFSETFROM:-0500
TZOFFSETTO:-0400
TZNAME:EDT
DTSTART:20250309T070000
END:DAYLIGHT
BEGIN:STANDARD
TZOFFSETFROM:-0400
TZOFFSETTO:-0500
TZNAME:EST
DTSTART:20251102T060000
END:STANDARD
BEGIN:DAYLIGHT
TZOFFSETFROM:-0500
TZOFFSETTO:-0400
TZNAME:EDT
DTSTART:20260308T070000
END:DAYLIGHT
BEGIN:STANDARD
TZOFFSETFROM:-0400
TZOFFSETTO:-0500
TZNAME:EST
DTSTART:20261101T060000
END:STANDARD
BEGIN:DAYLIGHT
TZOFFSETFROM:-0500
TZOFFSETTO:-0400
TZNAME:EDT
DTSTART:20270314T070000
END:DAYLIGHT
BEGIN:STANDARD
TZOFFSETFROM:-0400
TZOFFSETTO:-0500
TZNAME:EST
DTSTART:20271107T060000
END:STANDARD
END:VTIMEZONE
BEGIN:VEVENT
DTSTART;TZID=America/New_York:20260502T090000
DTEND;TZID=America/New_York:20260502T160000
DTSTAMP:20260420T211437
CREATED:20260413T125919Z
LAST-MODIFIED:20260413T125919Z
UID:10008032-1777712400-1777737600@umaine.edu
SUMMARY:Small Ruminant Starter Weekend
DESCRIPTION:Register for Small Ruminant Starter Weekend Online\nCost: $50-$120 (Adult sliding scale); Free for youth \nFarmers and youth are invited to a Small Ruminant Starter Weekend focused on sheep and goat husbandry. Day 1 covers parasite management in small ruminant flocks and herds. Day 2 focuses on beginning animal care in the morning and 4-H market lamb projects in the afternoon. \nMay 2: Parasite Intensive Day\nThis session is for farmers and older youth who are new to small ruminants or have experienced parasite issues in their flock or herd. The day focuses on parasite management\, with hands-on activities including fecal egg counts using a microscope and practice with the FAMACHA protocol for barber pole worm on live animals. \nParticipants will also learn to identify risk factors for meningeal worm and take part in a lungworm diagnostic exercise. Farmers are encouraged to bring a fresh fecal sample from one animal for examination. \nParticipants will become FAMACHA-certified and may purchase an anemia index card at the workshop after certification. \nMay 3: Basics of Small Ruminant Care\nMorning (9 a.m. to noon): Beginning animal care\nThe morning session covers foundational topics in sheep and goat care\, including: \nShelter and pasture basics\nNutrition\nHandling and hoof trimming\nAdults will be dismissed after the morning session. Adults who are especially interested in the afternoon show topics\, which are geared toward 4-H youth\, should contact event organizers. \nAfternoon (youth only): Show topics\nThis session is designed for youth and prepares participants for 4-H market lamb projects. Topics include market lamb selection and care\, lamb showmanship and market lamb fitting. \nBoth sessions include practical\, hands-on learning. Youth who own market animals are encouraged to bring them to the May 3 program. \nMore information\nSue Baez\, sue.baez@maine.edu\, 207-667-8212\nYouth participants: Megan Cook\, megan.cook@maine.edu\, 207-581-8120 \nAccommodations and dietary needs\nFor a reasonable accommodation or dietary concerns\, contact Sue Baez at sue.baez@maine.edu or 207-667-8212 at least seven days before the event\, if possible.
URL:https://umaine.edu/calendar/event/small-ruminant-starter-weekend/2026-05-02/
LOCATION:Umaine Cooperative Extension- Aroostook County\, Presque Isle\, 57 Houlton Road\, Presque Isle\, United States
CATEGORIES:Conferences & Workshops
ORGANIZER;CN="UMaine Cooperative Extension - Hancock County":MAILTO:extension.hancock@maine.edu
END:VEVENT
BEGIN:VEVENT
DTSTART;TZID=America/New_York:20260503T090000
DTEND;TZID=America/New_York:20260503T160000
DTSTAMP:20260420T211437
CREATED:20260413T125919Z
LAST-MODIFIED:20260413T125919Z
UID:10008035-1777798800-1777824000@umaine.edu
SUMMARY:Small Ruminant Starter Weekend
DESCRIPTION:Register for Small Ruminant Starter Weekend Online\nCost: $50-$120 (Adult sliding scale); Free for youth \nFarmers and youth are invited to a Small Ruminant Starter Weekend focused on sheep and goat husbandry. Day 1 covers parasite management in small ruminant flocks and herds. Day 2 focuses on beginning animal care in the morning and 4-H market lamb projects in the afternoon. \nMay 2: Parasite Intensive Day\nThis session is for farmers and older youth who are new to small ruminants or have experienced parasite issues in their flock or herd. The day focuses on parasite management\, with hands-on activities including fecal egg counts using a microscope and practice with the FAMACHA protocol for barber pole worm on live animals. \nParticipants will also learn to identify risk factors for meningeal worm and take part in a lungworm diagnostic exercise. Farmers are encouraged to bring a fresh fecal sample from one animal for examination. \nParticipants will become FAMACHA-certified and may purchase an anemia index card at the workshop after certification. \nMay 3: Basics of Small Ruminant Care\nMorning (9 a.m. to noon): Beginning animal care\nThe morning session covers foundational topics in sheep and goat care\, including: \nShelter and pasture basics\nNutrition\nHandling and hoof trimming\nAdults will be dismissed after the morning session. Adults who are especially interested in the afternoon show topics\, which are geared toward 4-H youth\, should contact event organizers. \nAfternoon (youth only): Show topics\nThis session is designed for youth and prepares participants for 4-H market lamb projects. Topics include market lamb selection and care\, lamb showmanship and market lamb fitting. \nBoth sessions include practical\, hands-on learning. Youth who own market animals are encouraged to bring them to the May 3 program. \nMore information\nSue Baez\, sue.baez@maine.edu\, 207-667-8212\nYouth participants: Megan Cook\, megan.cook@maine.edu\, 207-581-8120 \nAccommodations and dietary needs\nFor a reasonable accommodation or dietary concerns\, contact Sue Baez at sue.baez@maine.edu or 207-667-8212 at least seven days before the event\, if possible.
URL:https://umaine.edu/calendar/event/small-ruminant-starter-weekend/2026-05-03/
LOCATION:Umaine Cooperative Extension- Aroostook County\, Presque Isle\, 57 Houlton Road\, Presque Isle\, United States
CATEGORIES:Conferences & Workshops
ORGANIZER;CN="UMaine Cooperative Extension - Hancock County":MAILTO:extension.hancock@maine.edu
END:VEVENT
END:VCALENDAR